BEGIN:VCALENDAR
VERSION:2.0
PRODID:-//YGAMETIME.com//YGT iCal Creator//EN
METHOD:PUBLISH
X-PUBLISHED-TTL:PT6H
REFRESH-INTERVAL;VALUE=DURATION:PT6H
CALSCALE:GREGORIAN
X-WR-CALNAME:YGAMETIME CALENDAR
BEGIN:VTIMEZONE
TZID:America/New_York
X-LIC-LOCATION:America/New_York
BEGIN:DAYLIGHT
TZOFFSETFROM:-0500
TZOFFSETTO:-0400
TZNAME:EDT
DTSTART:19700308T020000
RRULE:FREQ=YEARLY;BYMONTH=3;BYDAY=2SU
END:DAYLIGHT
BEGIN:STANDARD
TZOFFSETFROM:-0400
TZOFFSETTO:-0500
TZNAME:EST
DTSTART:19701101T020000
RRULE:FREQ=YEARLY;BYMONTH=11;BYDAY=1SU
END:STANDARD
END:VTIMEZONE
BEGIN:VEVENT
UID:putnam-400870@ygametime.com
DTSTAMP:20230909T133000Z
DTSTART;TZID=America/New_York:20230909T093000
DURATION:PT0H60M0S
SUMMARY:Lafountain vs Thompson
DESCRIPTION:7/8 | Soccer\nPutnam County Family YMCA\n
URL;VALUE=URI:https://ygametime.com/branch/putnam/sports/2023-fall-soccer/16808/?utm_medium=calendar&utm_source=team_cal&utm_content=league_url#game-400870
LOCATION:Field 5 (7/8)
BEGIN:VALARM
TRIGGER:-P2H
ACTION:DISPLAY
DESCRIPTION:Lafountain vs Thompson
END:VALARM
END:VEVENT
BEGIN:VEVENT
UID:putnam-400912@ygametime.com
DTSTAMP:20230911T213000Z
DTSTART;TZID=America/New_York:20230911T173000
DURATION:PT0H60M0S
SUMMARY:Bottoms vs Thompson
DESCRIPTION:7/8 | Soccer\nPutnam County Family YMCA\n
URL;VALUE=URI:https://ygametime.com/branch/putnam/sports/2023-fall-soccer/16808/?utm_medium=calendar&utm_source=team_cal&utm_content=league_url#game-400912
LOCATION:Field 4 (7/8)
BEGIN:VALARM
TRIGGER:-P2H
ACTION:DISPLAY
DESCRIPTION:Bottoms vs Thompson
END:VALARM
END:VEVENT
BEGIN:VEVENT
UID:putnam-400875@ygametime.com
DTSTAMP:20230916T133000Z
DTSTART;TZID=America/New_York:20230916T093000
DURATION:PT0H60M0S
SUMMARY:Thompson vs Jones
DESCRIPTION:7/8 | Soccer\nPutnam County Family YMCA\n
URL;VALUE=URI:https://ygametime.com/branch/putnam/sports/2023-fall-soccer/16808/?utm_medium=calendar&utm_source=team_cal&utm_content=league_url#game-400875
LOCATION:Field 5 (7/8)
BEGIN:VALARM
TRIGGER:-P2H
ACTION:DISPLAY
DESCRIPTION:Thompson vs Jones
END:VALARM
END:VEVENT
BEGIN:VEVENT
UID:putnam-401795@ygametime.com
DTSTAMP:20230928T213000Z
DTSTART;TZID=America/New_York:20230928T173000
DURATION:PT0H60M0S
SUMMARY:Scantland vs Thompson
DESCRIPTION:7/8 | Soccer\nPutnam County Family YMCA\n
URL;VALUE=URI:https://ygametime.com/branch/putnam/sports/2023-fall-soccer/16808/?utm_medium=calendar&utm_source=team_cal&utm_content=league_url#game-401795
LOCATION:Field 4 (7/8)
BEGIN:VALARM
TRIGGER:-P2H
ACTION:DISPLAY
DESCRIPTION:Scantland vs Thompson
END:VALARM
END:VEVENT
BEGIN:VEVENT
UID:putnam-400898@ygametime.com
DTSTAMP:20231014T163000Z
DTSTART;TZID=America/New_York:20231014T123000
DURATION:PT0H60M0S
SUMMARY:Thompson vs Scantland
DESCRIPTION:7/8 | Soccer\nPutnam County Family YMCA\n
URL;VALUE=URI:https://ygametime.com/branch/putnam/sports/2023-fall-soccer/16808/?utm_medium=calendar&utm_source=team_cal&utm_content=league_url#game-400898
LOCATION:Field 4 (7/8)
BEGIN:VALARM
TRIGGER:-P2H
ACTION:DISPLAY
DESCRIPTION:Thompson vs Scantland
END:VALARM
END:VEVENT
BEGIN:VEVENT
UID:putnam-400884@ygametime.com
DTSTAMP:20231028T123000Z
DTSTART;TZID=America/New_York:20231028T083000
DURATION:PT0H60M0S
SUMMARY:Thompson vs Malone
DESCRIPTION:7/8 | Soccer\nPutnam County Family YMCA\n
URL;VALUE=URI:https://ygametime.com/branch/putnam/sports/2023-fall-soccer/16808/?utm_medium=calendar&utm_source=team_cal&utm_content=league_url#game-400884
LOCATION:Field 4 (7/8)
BEGIN:VALARM
TRIGGER:-P2H
ACTION:DISPLAY
DESCRIPTION:Thompson vs Malone
END:VALARM
END:VEVENT
END:VCALENDAR

