BEGIN:VCALENDAR
VERSION:2.0
PRODID:-//YGAMETIME.com//YGT iCal Creator//EN
METHOD:PUBLISH
X-PUBLISHED-TTL:PT6H
REFRESH-INTERVAL;VALUE=DURATION:PT6H
CALSCALE:GREGORIAN
X-WR-CALNAME:YGAMETIME CALENDAR
BEGIN:VTIMEZONE
TZID:America/New_York
X-LIC-LOCATION:America/New_York
BEGIN:DAYLIGHT
TZOFFSETFROM:-0500
TZOFFSETTO:-0400
TZNAME:EDT
DTSTART:19700308T020000
RRULE:FREQ=YEARLY;BYMONTH=3;BYDAY=2SU
END:DAYLIGHT
BEGIN:STANDARD
TZOFFSETFROM:-0400
TZOFFSETTO:-0500
TZNAME:EST
DTSTART:19701101T020000
RRULE:FREQ=YEARLY;BYMONTH=11;BYDAY=1SU
END:STANDARD
END:VTIMEZONE
BEGIN:VEVENT
UID:putnam-400905@ygametime.com
DTSTAMP:20230908T213000Z
DTSTART;TZID=America/New_York:20230908T173000
DURATION:PT0H60M0S
SUMMARY:Randolph vs Scantland
DESCRIPTION:7/8 | Soccer\nPutnam County Family YMCA\n
URL;VALUE=URI:https://ygametime.com/branch/putnam/sports/2023-fall-soccer/16808/?utm_medium=calendar&utm_source=team_cal&utm_content=league_url#game-400905
LOCATION:Field 4 (7/8)
BEGIN:VALARM
TRIGGER:-P2H
ACTION:DISPLAY
DESCRIPTION:Randolph vs Scantland
END:VALARM
END:VEVENT
BEGIN:VEVENT
UID:putnam-400914@ygametime.com
DTSTAMP:20230916T173000Z
DTSTART;TZID=America/New_York:20230916T133000
DURATION:PT0H60M0S
SUMMARY:Damas vs Randolph
DESCRIPTION:7/8 | Soccer\nPutnam County Family YMCA\n
URL;VALUE=URI:https://ygametime.com/branch/putnam/sports/2023-fall-soccer/16808/?utm_medium=calendar&utm_source=team_cal&utm_content=league_url#game-400914
LOCATION:Field 5 (7/8)
BEGIN:VALARM
TRIGGER:-P2H
ACTION:DISPLAY
DESCRIPTION:Damas vs Randolph
END:VALARM
END:VEVENT
BEGIN:VEVENT
UID:putnam-400881@ygametime.com
DTSTAMP:20230923T143000Z
DTSTART;TZID=America/New_York:20230923T103000
DURATION:PT0H60M0S
SUMMARY:Malone vs Randolph
DESCRIPTION:7/8 | Soccer\nPutnam County Family YMCA\n
URL;VALUE=URI:https://ygametime.com/branch/putnam/sports/2023-fall-soccer/16808/?utm_medium=calendar&utm_source=team_cal&utm_content=league_url#game-400881
LOCATION:Field 4 (7/8)
BEGIN:VALARM
TRIGGER:-P2H
ACTION:DISPLAY
DESCRIPTION:Malone vs Randolph
END:VALARM
END:VEVENT
BEGIN:VEVENT
UID:putnam-400913@ygametime.com
DTSTAMP:20231020T211500Z
DTSTART;TZID=America/New_York:20231020T171500
DURATION:PT0H60M0S
SUMMARY:Randolph vs Ashley
DESCRIPTION:7/8 | Soccer\nPutnam County Family YMCA\n
URL;VALUE=URI:https://ygametime.com/branch/putnam/sports/2023-fall-soccer/16808/?utm_medium=calendar&utm_source=team_cal&utm_content=league_url#game-400913
LOCATION:Field 4 (7/8)
BEGIN:VALARM
TRIGGER:-P2H
ACTION:DISPLAY
DESCRIPTION:Randolph vs Ashley
END:VALARM
END:VEVENT
BEGIN:VEVENT
UID:putnam-414373@ygametime.com
DTSTAMP:20231027T211500Z
DTSTART;TZID=America/New_York:20231027T171500
DURATION:PT0H60M0S
SUMMARY:Bottoms vs Randolph
DESCRIPTION:7/8 | Soccer\nPutnam County Family YMCA\n
URL;VALUE=URI:https://ygametime.com/branch/putnam/sports/2023-fall-soccer/16808/?utm_medium=calendar&utm_source=team_cal&utm_content=league_url#game-414373
LOCATION:Field 4 (7/8)
BEGIN:VALARM
TRIGGER:-P2H
ACTION:DISPLAY
DESCRIPTION:Bottoms vs Randolph
END:VALARM
END:VEVENT
BEGIN:VEVENT
UID:putnam-400885@ygametime.com
DTSTAMP:20231028T133000Z
DTSTART;TZID=America/New_York:20231028T093000
DURATION:PT0H60M0S
SUMMARY:Randolph vs Lafountain
DESCRIPTION:7/8 | Soccer\nPutnam County Family YMCA\n
URL;VALUE=URI:https://ygametime.com/branch/putnam/sports/2023-fall-soccer/16808/?utm_medium=calendar&utm_source=team_cal&utm_content=league_url#game-400885
LOCATION:Field 5 (7/8)
BEGIN:VALARM
TRIGGER:-P2H
ACTION:DISPLAY
DESCRIPTION:Randolph vs Lafountain
END:VALARM
END:VEVENT
END:VCALENDAR

