BEGIN:VCALENDAR
VERSION:2.0
PRODID:-//YGAMETIME.com//YGT iCal Creator//EN
METHOD:PUBLISH
X-PUBLISHED-TTL:PT6H
REFRESH-INTERVAL;VALUE=DURATION:PT6H
CALSCALE:GREGORIAN
X-WR-CALNAME:YGAMETIME CALENDAR
BEGIN:VTIMEZONE
TZID:America/New_York
X-LIC-LOCATION:America/New_York
BEGIN:DAYLIGHT
TZOFFSETFROM:-0500
TZOFFSETTO:-0400
TZNAME:EDT
DTSTART:19700308T020000
RRULE:FREQ=YEARLY;BYMONTH=3;BYDAY=2SU
END:DAYLIGHT
BEGIN:STANDARD
TZOFFSETFROM:-0400
TZOFFSETTO:-0500
TZNAME:EST
DTSTART:19701101T020000
RRULE:FREQ=YEARLY;BYMONTH=11;BYDAY=1SU
END:STANDARD
END:VTIMEZONE
BEGIN:VEVENT
UID:putnam-400872@ygametime.com
DTSTAMP:20230909T123000Z
DTSTART;TZID=America/New_York:20230909T083000
DURATION:PT0H60M0S
SUMMARY:Jones vs Smith
DESCRIPTION:7/8 | Soccer\nPutnam County Family YMCA\n
URL;VALUE=URI:https://ygametime.com/branch/putnam/sports/2023-fall-soccer/16808/?utm_medium=calendar&utm_source=team_cal&utm_content=league_url#game-400872
LOCATION:Field 4 (7/8)
BEGIN:VALARM
TRIGGER:-P2H
ACTION:DISPLAY
DESCRIPTION:Jones vs Smith
END:VALARM
END:VEVENT
BEGIN:VEVENT
UID:putnam-400877@ygametime.com
DTSTAMP:20230916T153000Z
DTSTART;TZID=America/New_York:20230916T113000
DURATION:PT0H60M0S
SUMMARY:Malone vs Smith
DESCRIPTION:7/8 | Soccer\nPutnam County Family YMCA\n
URL;VALUE=URI:https://ygametime.com/branch/putnam/sports/2023-fall-soccer/16808/?utm_medium=calendar&utm_source=team_cal&utm_content=league_url#game-400877
LOCATION:Field 5 (7/8)
BEGIN:VALARM
TRIGGER:-P2H
ACTION:DISPLAY
DESCRIPTION:Malone vs Smith
END:VALARM
END:VEVENT
BEGIN:VEVENT
UID:putnam-400880@ygametime.com
DTSTAMP:20230923T133000Z
DTSTART;TZID=America/New_York:20230923T093000
DURATION:PT0H60M0S
SUMMARY:Lafountain vs Smith
DESCRIPTION:7/8 | Soccer\nPutnam County Family YMCA\n
URL;VALUE=URI:https://ygametime.com/branch/putnam/sports/2023-fall-soccer/16808/?utm_medium=calendar&utm_source=team_cal&utm_content=league_url#game-400880
LOCATION:Field 5 (7/8)
BEGIN:VALARM
TRIGGER:-P2H
ACTION:DISPLAY
DESCRIPTION:Lafountain vs Smith
END:VALARM
END:VEVENT
BEGIN:VEVENT
UID:putnam-400894@ygametime.com
DTSTAMP:20231014T123000Z
DTSTART;TZID=America/New_York:20231014T083000
DURATION:PT0H60M0S
SUMMARY:Smith vs Ashley
DESCRIPTION:7/8 | Soccer\nPutnam County Family YMCA\n
URL;VALUE=URI:https://ygametime.com/branch/putnam/sports/2023-fall-soccer/16808/?utm_medium=calendar&utm_source=team_cal&utm_content=league_url#game-400894
LOCATION:Field 4 (7/8)
BEGIN:VALARM
TRIGGER:-P2H
ACTION:DISPLAY
DESCRIPTION:Smith vs Ashley
END:VALARM
END:VEVENT
BEGIN:VEVENT
UID:putnam-400903@ygametime.com
DTSTAMP:20231021T133000Z
DTSTART;TZID=America/New_York:20231021T093000
DURATION:PT0H60M0S
SUMMARY:Smith vs Currier
DESCRIPTION:7/8 | Soccer\nPutnam County Family YMCA\n
URL;VALUE=URI:https://ygametime.com/branch/putnam/sports/2023-fall-soccer/16808/?utm_medium=calendar&utm_source=team_cal&utm_content=league_url#game-400903
LOCATION:Field 4 (7/8)
BEGIN:VALARM
TRIGGER:-P2H
ACTION:DISPLAY
DESCRIPTION:Smith vs Currier
END:VALARM
END:VEVENT
BEGIN:VEVENT
UID:putnam-400888@ygametime.com
DTSTAMP:20231028T153000Z
DTSTART;TZID=America/New_York:20231028T113000
DURATION:PT0H60M0S
SUMMARY:Smith vs Scantland
DESCRIPTION:7/8 | Soccer\nPutnam County Family YMCA\n
URL;VALUE=URI:https://ygametime.com/branch/putnam/sports/2023-fall-soccer/16808/?utm_medium=calendar&utm_source=team_cal&utm_content=league_url#game-400888
LOCATION:Field 5 (7/8)
BEGIN:VALARM
TRIGGER:-P2H
ACTION:DISPLAY
DESCRIPTION:Smith vs Scantland
END:VALARM
END:VEVENT
END:VCALENDAR

