BEGIN:VCALENDAR
VERSION:2.0
PRODID:-//YGAMETIME.com//YGT iCal Creator//EN
METHOD:PUBLISH
X-PUBLISHED-TTL:PT6H
REFRESH-INTERVAL;VALUE=DURATION:PT6H
CALSCALE:GREGORIAN
X-WR-CALNAME:YGAMETIME CALENDAR
BEGIN:VTIMEZONE
TZID:America/New_York
X-LIC-LOCATION:America/New_York
BEGIN:DAYLIGHT
TZOFFSETFROM:-0500
TZOFFSETTO:-0400
TZNAME:EDT
DTSTART:19700308T020000
RRULE:FREQ=YEARLY;BYMONTH=3;BYDAY=2SU
END:DAYLIGHT
BEGIN:STANDARD
TZOFFSETFROM:-0400
TZOFFSETTO:-0500
TZNAME:EST
DTSTART:19701101T020000
RRULE:FREQ=YEARLY;BYMONTH=11;BYDAY=1SU
END:STANDARD
END:VTIMEZONE
BEGIN:VEVENT
UID:putnam-405536@ygametime.com
DTSTAMP:20230908T223000Z
DTSTART;TZID=America/New_York:20230908T183000
DURATION:PT0H90M0S
SUMMARY:Brown vs Meadows
DESCRIPTION:9/10 | Soccer\nPutnam County Family YMCA\n
URL;VALUE=URI:https://ygametime.com/branch/putnam/sports/2023-fall-soccer/16807/?utm_medium=calendar&utm_source=team_cal&utm_content=league_url#game-405536
LOCATION:Field 1 (9/11) Practice field
BEGIN:VALARM
TRIGGER:-P2H
ACTION:DISPLAY
DESCRIPTION:Brown vs Meadows
END:VALARM
END:VEVENT
BEGIN:VEVENT
UID:putnam-400838@ygametime.com
DTSTAMP:20230916T143000Z
DTSTART;TZID=America/New_York:20230916T103000
DURATION:PT0H90M0S
SUMMARY:Bowers vs Brown
DESCRIPTION:9/10 | Soccer\nPutnam County Family YMCA\n
URL;VALUE=URI:https://ygametime.com/branch/putnam/sports/2023-fall-soccer/16807/?utm_medium=calendar&utm_source=team_cal&utm_content=league_url#game-400838
LOCATION:Field 1 (9/11) Practice field
BEGIN:VALARM
TRIGGER:-P2H
ACTION:DISPLAY
DESCRIPTION:Bowers vs Brown
END:VALARM
END:VEVENT
BEGIN:VEVENT
UID:putnam-401322@ygametime.com
DTSTAMP:20230922T220000Z
DTSTART;TZID=America/New_York:20230922T180000
DURATION:PT0H90M0S
SUMMARY:Brown vs Stiles
DESCRIPTION:9/10 | Soccer\nPutnam County Family YMCA\n
URL;VALUE=URI:https://ygametime.com/branch/putnam/sports/2023-fall-soccer/16807/?utm_medium=calendar&utm_source=team_cal&utm_content=league_url#game-401322
LOCATION:Field 1 (9/11) Practice field
BEGIN:VALARM
TRIGGER:-P2H
ACTION:DISPLAY
DESCRIPTION:Brown vs Stiles
END:VALARM
END:VEVENT
BEGIN:VEVENT
UID:putnam-400841@ygametime.com
DTSTAMP:20230923T160000Z
DTSTART;TZID=America/New_York:20230923T120000
DURATION:PT0H90M0S
SUMMARY:Mapes vs Brown
DESCRIPTION:9/10 | Soccer\nPutnam County Family YMCA\n
URL;VALUE=URI:https://ygametime.com/branch/putnam/sports/2023-fall-soccer/16807/?utm_medium=calendar&utm_source=team_cal&utm_content=league_url#game-400841
LOCATION:Field 1 (9/11) Practice field
BEGIN:VALARM
TRIGGER:-P2H
ACTION:DISPLAY
DESCRIPTION:Mapes vs Brown
END:VALARM
END:VEVENT
BEGIN:VEVENT
UID:putnam-401427@ygametime.com
DTSTAMP:20231014T130000Z
DTSTART;TZID=America/New_York:20231014T090000
DURATION:PT0H90M0S
SUMMARY:Brown vs Stiles
DESCRIPTION:9/10 | Soccer\nPutnam County Family YMCA\n
URL;VALUE=URI:https://ygametime.com/branch/putnam/sports/2023-fall-soccer/16807/?utm_medium=calendar&utm_source=team_cal&utm_content=league_url#game-401427
LOCATION:Field 1 (9/11) Practice field
BEGIN:VALARM
TRIGGER:-P2H
ACTION:DISPLAY
DESCRIPTION:Brown vs Stiles
END:VALARM
END:VEVENT
BEGIN:VEVENT
UID:putnam-400852@ygametime.com
DTSTAMP:20231026T211500Z
DTSTART;TZID=America/New_York:20231026T171500
DURATION:PT0H90M0S
SUMMARY:Brown vs Meadows
DESCRIPTION:9/10 | Soccer\nPutnam County Family YMCA\n
URL;VALUE=URI:https://ygametime.com/branch/putnam/sports/2023-fall-soccer/16807/?utm_medium=calendar&utm_source=team_cal&utm_content=league_url#game-400852
LOCATION:Field 1 (9/11) Practice field
BEGIN:VALARM
TRIGGER:-P2H
ACTION:DISPLAY
DESCRIPTION:Brown vs Meadows
END:VALARM
END:VEVENT
BEGIN:VEVENT
UID:putnam-400853@ygametime.com
DTSTAMP:20231028T173000Z
DTSTART;TZID=America/New_York:20231028T133000
DURATION:PT0H90M0S
SUMMARY:- vs Brown
DESCRIPTION:9/10 | Soccer\nPutnam County Family YMCA\n
URL;VALUE=URI:https://ygametime.com/branch/putnam/sports/2023-fall-soccer/16807/?utm_medium=calendar&utm_source=team_cal&utm_content=league_url#game-400853
LOCATION:Field 1 (9/11) Practice field
BEGIN:VALARM
TRIGGER:-P2H
ACTION:DISPLAY
DESCRIPTION:- vs Brown
END:VALARM
END:VEVENT
END:VCALENDAR

