BEGIN:VCALENDAR
VERSION:2.0
PRODID:-//YGAMETIME.com//YGT iCal Creator//EN
METHOD:PUBLISH
X-PUBLISHED-TTL:PT6H
REFRESH-INTERVAL;VALUE=DURATION:PT6H
CALSCALE:GREGORIAN
X-WR-CALNAME:YGAMETIME CALENDAR
BEGIN:VTIMEZONE
TZID:America/New_York
X-LIC-LOCATION:America/New_York
BEGIN:DAYLIGHT
TZOFFSETFROM:-0500
TZOFFSETTO:-0400
TZNAME:EDT
DTSTART:19700308T020000
RRULE:FREQ=YEARLY;BYMONTH=3;BYDAY=2SU
END:DAYLIGHT
BEGIN:STANDARD
TZOFFSETFROM:-0400
TZOFFSETTO:-0500
TZNAME:EST
DTSTART:19701101T020000
RRULE:FREQ=YEARLY;BYMONTH=11;BYDAY=1SU
END:STANDARD
END:VTIMEZONE
BEGIN:VEVENT
UID:putnam-400878@ygametime.com
DTSTAMP:20230916T163000Z
DTSTART;TZID=America/New_York:20230916T123000
DURATION:PT0H60M0S
SUMMARY:Currier vs Damas
DESCRIPTION:7/8 | Soccer\nPutnam County Family YMCA\n
URL;VALUE=URI:https://ygametime.com/branch/putnam/sports/2023-fall-soccer/16808/?utm_medium=calendar&utm_source=team_cal&utm_content=league_url#game-400878
LOCATION:Field 4 (7/8)
BEGIN:VALARM
TRIGGER:-P2H
ACTION:DISPLAY
DESCRIPTION:Currier vs Damas
END:VALARM
END:VEVENT
BEGIN:VEVENT
UID:putnam-400914@ygametime.com
DTSTAMP:20230916T173000Z
DTSTART;TZID=America/New_York:20230916T133000
DURATION:PT0H60M0S
SUMMARY:Damas vs Randolph
DESCRIPTION:7/8 | Soccer\nPutnam County Family YMCA\n
URL;VALUE=URI:https://ygametime.com/branch/putnam/sports/2023-fall-soccer/16808/?utm_medium=calendar&utm_source=team_cal&utm_content=league_url#game-400914
LOCATION:Field 5 (7/8)
BEGIN:VALARM
TRIGGER:-P2H
ACTION:DISPLAY
DESCRIPTION:Damas vs Randolph
END:VALARM
END:VEVENT
BEGIN:VEVENT
UID:putnam-401433@ygametime.com
DTSTAMP:20230927T213000Z
DTSTART;TZID=America/New_York:20230927T173000
DURATION:PT0H60M0S
SUMMARY:Jones vs Damas
DESCRIPTION:7/8 | Soccer\nPutnam County Family YMCA\n
URL;VALUE=URI:https://ygametime.com/branch/putnam/sports/2023-fall-soccer/16808/?utm_medium=calendar&utm_source=team_cal&utm_content=league_url#game-401433
LOCATION:Field 4 (7/8)
BEGIN:VALARM
TRIGGER:-P2H
ACTION:DISPLAY
DESCRIPTION:Jones vs Damas
END:VALARM
END:VEVENT
BEGIN:VEVENT
UID:putnam-400897@ygametime.com
DTSTAMP:20231014T153000Z
DTSTART;TZID=America/New_York:20231014T113000
DURATION:PT0H60M0S
SUMMARY:Damas vs Lafountain
DESCRIPTION:7/8 | Soccer\nPutnam County Family YMCA\n
URL;VALUE=URI:https://ygametime.com/branch/putnam/sports/2023-fall-soccer/16808/?utm_medium=calendar&utm_source=team_cal&utm_content=league_url#game-400897
LOCATION:Field 5 (7/8)
BEGIN:VALARM
TRIGGER:-P2H
ACTION:DISPLAY
DESCRIPTION:Damas vs Lafountain
END:VALARM
END:VEVENT
BEGIN:VEVENT
UID:putnam-400908@ygametime.com
DTSTAMP:20231018T211500Z
DTSTART;TZID=America/New_York:20231018T171500
DURATION:PT0H60M0S
SUMMARY:Damas vs Scantland
DESCRIPTION:7/8 | Soccer\nPutnam County Family YMCA\n
URL;VALUE=URI:https://ygametime.com/branch/putnam/sports/2023-fall-soccer/16808/?utm_medium=calendar&utm_source=team_cal&utm_content=league_url#game-400908
LOCATION:Field 4 (7/8)
BEGIN:VALARM
TRIGGER:-P2H
ACTION:DISPLAY
DESCRIPTION:Damas vs Scantland
END:VALARM
END:VEVENT
BEGIN:VEVENT
UID:putnam-400909@ygametime.com
DTSTAMP:20231028T173000Z
DTSTART;TZID=America/New_York:20231028T133000
DURATION:PT0H60M0S
SUMMARY:Damas vs Bottoms
DESCRIPTION:7/8 | Soccer\nPutnam County Family YMCA\n
URL;VALUE=URI:https://ygametime.com/branch/putnam/sports/2023-fall-soccer/16808/?utm_medium=calendar&utm_source=team_cal&utm_content=league_url#game-400909
LOCATION:Field 5 (7/8)
BEGIN:VALARM
TRIGGER:-P2H
ACTION:DISPLAY
DESCRIPTION:Damas vs Bottoms
END:VALARM
END:VEVENT
END:VCALENDAR

