BEGIN:VCALENDAR
VERSION:2.0
PRODID:-//YGAMETIME.com//YGT iCal Creator//EN
METHOD:PUBLISH
X-PUBLISHED-TTL:PT6H
REFRESH-INTERVAL;VALUE=DURATION:PT6H
CALSCALE:GREGORIAN
X-WR-CALNAME:YGAMETIME CALENDAR
BEGIN:VTIMEZONE
TZID:America/New_York
X-LIC-LOCATION:America/New_York
BEGIN:DAYLIGHT
TZOFFSETFROM:-0500
TZOFFSETTO:-0400
TZNAME:EDT
DTSTART:19700308T020000
RRULE:FREQ=YEARLY;BYMONTH=3;BYDAY=2SU
END:DAYLIGHT
BEGIN:STANDARD
TZOFFSETFROM:-0400
TZOFFSETTO:-0500
TZNAME:EST
DTSTART:19701101T020000
RRULE:FREQ=YEARLY;BYMONTH=11;BYDAY=1SU
END:STANDARD
END:VTIMEZONE
BEGIN:VEVENT
UID:putnam-400872@ygametime.com
DTSTAMP:20230909T123000Z
DTSTART;TZID=America/New_York:20230909T083000
DURATION:PT0H60M0S
SUMMARY:Jones vs Smith
DESCRIPTION:7/8 | Soccer\nPutnam County Family YMCA\n
URL;VALUE=URI:https://ygametime.com/branch/putnam/sports/2023-fall-soccer/16808/?utm_medium=calendar&utm_source=team_cal&utm_content=league_url#game-400872
LOCATION:Field 4 (7/8)
BEGIN:VALARM
TRIGGER:-P2H
ACTION:DISPLAY
DESCRIPTION:Jones vs Smith
END:VALARM
END:VEVENT
BEGIN:VEVENT
UID:putnam-400875@ygametime.com
DTSTAMP:20230916T133000Z
DTSTART;TZID=America/New_York:20230916T093000
DURATION:PT0H60M0S
SUMMARY:Thompson vs Jones
DESCRIPTION:7/8 | Soccer\nPutnam County Family YMCA\n
URL;VALUE=URI:https://ygametime.com/branch/putnam/sports/2023-fall-soccer/16808/?utm_medium=calendar&utm_source=team_cal&utm_content=league_url#game-400875
LOCATION:Field 5 (7/8)
BEGIN:VALARM
TRIGGER:-P2H
ACTION:DISPLAY
DESCRIPTION:Thompson vs Jones
END:VALARM
END:VEVENT
BEGIN:VEVENT
UID:putnam-401433@ygametime.com
DTSTAMP:20230927T213000Z
DTSTART;TZID=America/New_York:20230927T173000
DURATION:PT0H60M0S
SUMMARY:Jones vs Damas
DESCRIPTION:7/8 | Soccer\nPutnam County Family YMCA\n
URL;VALUE=URI:https://ygametime.com/branch/putnam/sports/2023-fall-soccer/16808/?utm_medium=calendar&utm_source=team_cal&utm_content=league_url#game-401433
LOCATION:Field 4 (7/8)
BEGIN:VALARM
TRIGGER:-P2H
ACTION:DISPLAY
DESCRIPTION:Jones vs Damas
END:VALARM
END:VEVENT
BEGIN:VEVENT
UID:putnam-401434@ygametime.com
DTSTAMP:20231020T211500Z
DTSTART;TZID=America/New_York:20231020T171500
DURATION:PT0H60M0S
SUMMARY:Jones vs Malone
DESCRIPTION:7/8 | Soccer\nPutnam County Family YMCA\n
URL;VALUE=URI:https://ygametime.com/branch/putnam/sports/2023-fall-soccer/16808/?utm_medium=calendar&utm_source=team_cal&utm_content=league_url#game-401434
LOCATION:Field 5 (7/8)
BEGIN:VALARM
TRIGGER:-P2H
ACTION:DISPLAY
DESCRIPTION:Jones vs Malone
END:VALARM
END:VEVENT
BEGIN:VEVENT
UID:putnam-400900@ygametime.com
DTSTAMP:20231021T123000Z
DTSTART;TZID=America/New_York:20231021T083000
DURATION:PT0H60M0S
SUMMARY:Lafountain vs Jones
DESCRIPTION:7/8 | Soccer\nPutnam County Family YMCA\n
URL;VALUE=URI:https://ygametime.com/branch/putnam/sports/2023-fall-soccer/16808/?utm_medium=calendar&utm_source=team_cal&utm_content=league_url#game-400900
LOCATION:Field 5 (7/8)
BEGIN:VALARM
TRIGGER:-P2H
ACTION:DISPLAY
DESCRIPTION:Lafountain vs Jones
END:VALARM
END:VEVENT
BEGIN:VEVENT
UID:putnam-400886@ygametime.com
DTSTAMP:20231028T143000Z
DTSTART;TZID=America/New_York:20231028T103000
DURATION:PT0H60M0S
SUMMARY:Currier vs Jones
DESCRIPTION:7/8 | Soccer\nPutnam County Family YMCA\n
URL;VALUE=URI:https://ygametime.com/branch/putnam/sports/2023-fall-soccer/16808/?utm_medium=calendar&utm_source=team_cal&utm_content=league_url#game-400886
LOCATION:Field 4 (7/8)
BEGIN:VALARM
TRIGGER:-P2H
ACTION:DISPLAY
DESCRIPTION:Currier vs Jones
END:VALARM
END:VEVENT
END:VCALENDAR

