BEGIN:VCALENDAR
VERSION:2.0
PRODID:-//YGAMETIME.com//YGT iCal Creator//EN
METHOD:PUBLISH
X-PUBLISHED-TTL:PT6H
REFRESH-INTERVAL;VALUE=DURATION:PT6H
CALSCALE:GREGORIAN
X-WR-CALNAME:YGAMETIME CALENDAR
BEGIN:VTIMEZONE
TZID:America/New_York
X-LIC-LOCATION:America/New_York
BEGIN:DAYLIGHT
TZOFFSETFROM:-0500
TZOFFSETTO:-0400
TZNAME:EDT
DTSTART:19700308T020000
RRULE:FREQ=YEARLY;BYMONTH=3;BYDAY=2SU
END:DAYLIGHT
BEGIN:STANDARD
TZOFFSETFROM:-0400
TZOFFSETTO:-0500
TZNAME:EST
DTSTART:19701101T020000
RRULE:FREQ=YEARLY;BYMONTH=11;BYDAY=1SU
END:STANDARD
END:VTIMEZONE
BEGIN:VEVENT
UID:putnam-400915@ygametime.com
DTSTAMP:20230909T143000Z
DTSTART;TZID=America/New_York:20230909T103000
DURATION:PT0H60M0S
SUMMARY:Stratton vs Paramore
DESCRIPTION:5/6 | Soccer\nPutnam County Family YMCA\n
URL;VALUE=URI:https://ygametime.com/branch/putnam/sports/2023-fall-soccer/16809/?utm_medium=calendar&utm_source=team_cal&utm_content=league_url#game-400915
LOCATION:Field 3 (5/6)
BEGIN:VALARM
TRIGGER:-P2H
ACTION:DISPLAY
DESCRIPTION:Stratton vs Paramore
END:VALARM
END:VEVENT
BEGIN:VEVENT
UID:putnam-401182@ygametime.com
DTSTAMP:20230914T220000Z
DTSTART;TZID=America/New_York:20230914T180000
DURATION:PT0H60M0S
SUMMARY:Stratton vs Ashley
DESCRIPTION:5/6 | Soccer\nPutnam County Family YMCA\n
URL;VALUE=URI:https://ygametime.com/branch/putnam/sports/2023-fall-soccer/16809/?utm_medium=calendar&utm_source=team_cal&utm_content=league_url#game-401182
LOCATION:Field 3 (5/6)
BEGIN:VALARM
TRIGGER:-P2H
ACTION:DISPLAY
DESCRIPTION:Stratton vs Ashley
END:VALARM
END:VEVENT
BEGIN:VEVENT
UID:putnam-400921@ygametime.com
DTSTAMP:20230916T123000Z
DTSTART;TZID=America/New_York:20230916T083000
DURATION:PT0H60M0S
SUMMARY:Cameron vs Stratton
DESCRIPTION:5/6 | Soccer\nPutnam County Family YMCA\n
URL;VALUE=URI:https://ygametime.com/branch/putnam/sports/2023-fall-soccer/16809/?utm_medium=calendar&utm_source=team_cal&utm_content=league_url#game-400921
LOCATION:Field 2 (5/6)
BEGIN:VALARM
TRIGGER:-P2H
ACTION:DISPLAY
DESCRIPTION:Cameron vs Stratton
END:VALARM
END:VEVENT
BEGIN:VEVENT
UID:putnam-401430@ygametime.com
DTSTAMP:20230921T220000Z
DTSTART;TZID=America/New_York:20230921T180000
DURATION:PT0H60M0S
SUMMARY:Garvey vs Stratton
DESCRIPTION:5/6 | Soccer\nPutnam County Family YMCA\n
URL;VALUE=URI:https://ygametime.com/branch/putnam/sports/2023-fall-soccer/16809/?utm_medium=calendar&utm_source=team_cal&utm_content=league_url#game-401430
LOCATION:Field 2 (5/6)
BEGIN:VALARM
TRIGGER:-P2H
ACTION:DISPLAY
DESCRIPTION:Garvey vs Stratton
END:VALARM
END:VEVENT
BEGIN:VEVENT
UID:putnam-400956@ygametime.com
DTSTAMP:20231021T173000Z
DTSTART;TZID=America/New_York:20231021T133000
DURATION:PT0H60M0S
SUMMARY:Stratton vs Dartez
DESCRIPTION:5/6 | Soccer\nPutnam County Family YMCA\n
URL;VALUE=URI:https://ygametime.com/branch/putnam/sports/2023-fall-soccer/16809/?utm_medium=calendar&utm_source=team_cal&utm_content=league_url#game-400956
LOCATION:Field 2 (5/6)
BEGIN:VALARM
TRIGGER:-P2H
ACTION:DISPLAY
DESCRIPTION:Stratton vs Dartez
END:VALARM
END:VEVENT
END:VCALENDAR

