BEGIN:VCALENDAR
VERSION:2.0
PRODID:-//YGAMETIME.com//YGT iCal Creator//EN
METHOD:PUBLISH
X-PUBLISHED-TTL:PT6H
REFRESH-INTERVAL;VALUE=DURATION:PT6H
CALSCALE:GREGORIAN
X-WR-CALNAME:YGAMETIME CALENDAR
BEGIN:VTIMEZONE
TZID:America/New_York
X-LIC-LOCATION:America/New_York
BEGIN:DAYLIGHT
TZOFFSETFROM:-0500
TZOFFSETTO:-0400
TZNAME:EDT
DTSTART:19700308T020000
RRULE:FREQ=YEARLY;BYMONTH=3;BYDAY=2SU
END:DAYLIGHT
BEGIN:STANDARD
TZOFFSETFROM:-0400
TZOFFSETTO:-0500
TZNAME:EST
DTSTART:19701101T020000
RRULE:FREQ=YEARLY;BYMONTH=11;BYDAY=1SU
END:STANDARD
END:VTIMEZONE
BEGIN:VEVENT
UID:putnam-400917@ygametime.com
DTSTAMP:20230909T153000Z
DTSTART;TZID=America/New_York:20230909T113000
DURATION:PT0H60M0S
SUMMARY:Currier vs Cameron
DESCRIPTION:5/6 | Soccer\nPutnam County Family YMCA\n
URL;VALUE=URI:https://ygametime.com/branch/putnam/sports/2023-fall-soccer/16809/?utm_medium=calendar&utm_source=team_cal&utm_content=league_url#game-400917
LOCATION:Field 2 (5/6)
BEGIN:VALARM
TRIGGER:-P2H
ACTION:DISPLAY
DESCRIPTION:Currier vs Cameron
END:VALARM
END:VEVENT
BEGIN:VEVENT
UID:putnam-400921@ygametime.com
DTSTAMP:20230916T123000Z
DTSTART;TZID=America/New_York:20230916T083000
DURATION:PT0H60M0S
SUMMARY:Cameron vs Stratton
DESCRIPTION:5/6 | Soccer\nPutnam County Family YMCA\n
URL;VALUE=URI:https://ygametime.com/branch/putnam/sports/2023-fall-soccer/16809/?utm_medium=calendar&utm_source=team_cal&utm_content=league_url#game-400921
LOCATION:Field 2 (5/6)
BEGIN:VALARM
TRIGGER:-P2H
ACTION:DISPLAY
DESCRIPTION:Cameron vs Stratton
END:VALARM
END:VEVENT
BEGIN:VEVENT
UID:putnam-400931@ygametime.com
DTSTAMP:20230923T173000Z
DTSTART;TZID=America/New_York:20230923T133000
DURATION:PT0H60M0S
SUMMARY:Cameron vs Paramore
DESCRIPTION:5/6 | Soccer\nPutnam County Family YMCA\n
URL;VALUE=URI:https://ygametime.com/branch/putnam/sports/2023-fall-soccer/16809/?utm_medium=calendar&utm_source=team_cal&utm_content=league_url#game-400931
LOCATION:Field 3 (5/6)
BEGIN:VALARM
TRIGGER:-P2H
ACTION:DISPLAY
DESCRIPTION:Cameron vs Paramore
END:VALARM
END:VEVENT
BEGIN:VEVENT
UID:putnam-400948@ygametime.com
DTSTAMP:20231014T153000Z
DTSTART;TZID=America/New_York:20231014T113000
DURATION:PT0H60M0S
SUMMARY:Grimm vs Cameron
DESCRIPTION:5/6 | Soccer\nPutnam County Family YMCA\n
URL;VALUE=URI:https://ygametime.com/branch/putnam/sports/2023-fall-soccer/16809/?utm_medium=calendar&utm_source=team_cal&utm_content=league_url#game-400948
LOCATION:Field 3 (5/6)
BEGIN:VALARM
TRIGGER:-P2H
ACTION:DISPLAY
DESCRIPTION:Grimm vs Cameron
END:VALARM
END:VEVENT
BEGIN:VEVENT
UID:putnam-400949@ygametime.com
DTSTAMP:20231014T163000Z
DTSTART;TZID=America/New_York:20231014T123000
DURATION:PT0H60M0S
SUMMARY:Cotten vs Cameron
DESCRIPTION:5/6 | Soccer\nPutnam County Family YMCA\n
URL;VALUE=URI:https://ygametime.com/branch/putnam/sports/2023-fall-soccer/16809/?utm_medium=calendar&utm_source=team_cal&utm_content=league_url#game-400949
LOCATION:Field 2 (5/6)
BEGIN:VALARM
TRIGGER:-P2H
ACTION:DISPLAY
DESCRIPTION:Cotten vs Cameron
END:VALARM
END:VEVENT
BEGIN:VEVENT
UID:putnam-400952@ygametime.com
DTSTAMP:20231021T123000Z
DTSTART;TZID=America/New_York:20231021T083000
DURATION:PT0H60M0S
SUMMARY:Ashley vs Cameron
DESCRIPTION:5/6 | Soccer\nPutnam County Family YMCA\n
URL;VALUE=URI:https://ygametime.com/branch/putnam/sports/2023-fall-soccer/16809/?utm_medium=calendar&utm_source=team_cal&utm_content=league_url#game-400952
LOCATION:Field 3 (5/6)
BEGIN:VALARM
TRIGGER:-P2H
ACTION:DISPLAY
DESCRIPTION:Ashley vs Cameron
END:VALARM
END:VEVENT
BEGIN:VEVENT
UID:putnam-400938@ygametime.com
DTSTAMP:20231028T163000Z
DTSTART;TZID=America/New_York:20231028T123000
DURATION:PT0H60M0S
SUMMARY:Cameron vs Garvey
DESCRIPTION:5/6 | Soccer\nPutnam County Family YMCA\n
URL;VALUE=URI:https://ygametime.com/branch/putnam/sports/2023-fall-soccer/16809/?utm_medium=calendar&utm_source=team_cal&utm_content=league_url#game-400938
LOCATION:Field 3 (5/6)
BEGIN:VALARM
TRIGGER:-P2H
ACTION:DISPLAY
DESCRIPTION:Cameron vs Garvey
END:VALARM
END:VEVENT
END:VCALENDAR

