BEGIN:VCALENDAR
VERSION:2.0
PRODID:-//YGAMETIME.com//YGT iCal Creator//EN
METHOD:PUBLISH
X-PUBLISHED-TTL:PT6H
REFRESH-INTERVAL;VALUE=DURATION:PT6H
CALSCALE:GREGORIAN
X-WR-CALNAME:YGAMETIME CALENDAR
BEGIN:VTIMEZONE
TZID:America/New_York
X-LIC-LOCATION:America/New_York
BEGIN:DAYLIGHT
TZOFFSETFROM:-0500
TZOFFSETTO:-0400
TZNAME:EDT
DTSTART:19700308T020000
RRULE:FREQ=YEARLY;BYMONTH=3;BYDAY=2SU
END:DAYLIGHT
BEGIN:STANDARD
TZOFFSETFROM:-0400
TZOFFSETTO:-0500
TZNAME:EST
DTSTART:19701101T020000
RRULE:FREQ=YEARLY;BYMONTH=11;BYDAY=1SU
END:STANDARD
END:VTIMEZONE
BEGIN:VEVENT
UID:putnam-400958@ygametime.com
DTSTAMP:20230911T213000Z
DTSTART;TZID=America/New_York:20230911T173000
DURATION:PT0H60M0S
SUMMARY:Rice vs Ross
DESCRIPTION:5/6 | Soccer\nPutnam County Family YMCA\n
URL;VALUE=URI:https://ygametime.com/branch/putnam/sports/2023-fall-soccer/16809/?utm_medium=calendar&utm_source=team_cal&utm_content=league_url#game-400958
LOCATION:Field 3 (5/6)
BEGIN:VALARM
TRIGGER:-P2H
ACTION:DISPLAY
DESCRIPTION:Rice vs Ross
END:VALARM
END:VEVENT
BEGIN:VEVENT
UID:putnam-400922@ygametime.com
DTSTAMP:20230916T133000Z
DTSTART;TZID=America/New_York:20230916T093000
DURATION:PT0H60M0S
SUMMARY:Dartez vs Rice
DESCRIPTION:5/6 | Soccer\nPutnam County Family YMCA\n
URL;VALUE=URI:https://ygametime.com/branch/putnam/sports/2023-fall-soccer/16809/?utm_medium=calendar&utm_source=team_cal&utm_content=league_url#game-400922
LOCATION:Field 3 (5/6)
BEGIN:VALARM
TRIGGER:-P2H
ACTION:DISPLAY
DESCRIPTION:Dartez vs Rice
END:VALARM
END:VEVENT
BEGIN:VEVENT
UID:putnam-400932@ygametime.com
DTSTAMP:20230923T123000Z
DTSTART;TZID=America/New_York:20230923T083000
DURATION:PT0H60M0S
SUMMARY:Rice vs Cotten
DESCRIPTION:5/6 | Soccer\nPutnam County Family YMCA\n
URL;VALUE=URI:https://ygametime.com/branch/putnam/sports/2023-fall-soccer/16809/?utm_medium=calendar&utm_source=team_cal&utm_content=league_url#game-400932
LOCATION:Field 2 (5/6)
BEGIN:VALARM
TRIGGER:-P2H
ACTION:DISPLAY
DESCRIPTION:Rice vs Cotten
END:VALARM
END:VEVENT
BEGIN:VEVENT
UID:putnam-400947@ygametime.com
DTSTAMP:20231014T143000Z
DTSTART;TZID=America/New_York:20231014T103000
DURATION:PT0H60M0S
SUMMARY:Rice vs Smith
DESCRIPTION:5/6 | Soccer\nPutnam County Family YMCA\n
URL;VALUE=URI:https://ygametime.com/branch/putnam/sports/2023-fall-soccer/16809/?utm_medium=calendar&utm_source=team_cal&utm_content=league_url#game-400947
LOCATION:Field 2 (5/6)
BEGIN:VALARM
TRIGGER:-P2H
ACTION:DISPLAY
DESCRIPTION:Rice vs Smith
END:VALARM
END:VEVENT
BEGIN:VEVENT
UID:putnam-400953@ygametime.com
DTSTAMP:20231021T133000Z
DTSTART;TZID=America/New_York:20231021T093000
DURATION:PT0H60M0S
SUMMARY:Jones vs Rice
DESCRIPTION:5/6 | Soccer\nPutnam County Family YMCA\n
URL;VALUE=URI:https://ygametime.com/branch/putnam/sports/2023-fall-soccer/16809/?utm_medium=calendar&utm_source=team_cal&utm_content=league_url#game-400953
LOCATION:Field 2 (5/6)
BEGIN:VALARM
TRIGGER:-P2H
ACTION:DISPLAY
DESCRIPTION:Jones vs Rice
END:VALARM
END:VEVENT
BEGIN:VEVENT
UID:putnam-414430@ygametime.com
DTSTAMP:20231024T210000Z
DTSTART;TZID=America/New_York:20231024T170000
DURATION:PT0H60M0S
SUMMARY:Paramore vs Rice
DESCRIPTION:5/6 | Soccer\nPutnam County Family YMCA\n
URL;VALUE=URI:https://ygametime.com/branch/putnam/sports/2023-fall-soccer/16809/?utm_medium=calendar&utm_source=team_cal&utm_content=league_url#game-414430
LOCATION:Field 3 (5/6)
BEGIN:VALARM
TRIGGER:-P2H
ACTION:DISPLAY
DESCRIPTION:Paramore vs Rice
END:VALARM
END:VEVENT
END:VCALENDAR

