BEGIN:VCALENDAR
VERSION:2.0
PRODID:-//YGAMETIME.com//YGT iCal Creator//EN
METHOD:PUBLISH
X-PUBLISHED-TTL:PT6H
REFRESH-INTERVAL;VALUE=DURATION:PT6H
CALSCALE:GREGORIAN
X-WR-CALNAME:YGAMETIME CALENDAR
BEGIN:VTIMEZONE
TZID:America/New_York
X-LIC-LOCATION:America/New_York
BEGIN:DAYLIGHT
TZOFFSETFROM:-0500
TZOFFSETTO:-0400
TZNAME:EDT
DTSTART:19700308T020000
RRULE:FREQ=YEARLY;BYMONTH=3;BYDAY=2SU
END:DAYLIGHT
BEGIN:STANDARD
TZOFFSETFROM:-0400
TZOFFSETTO:-0500
TZNAME:EST
DTSTART:19701101T020000
RRULE:FREQ=YEARLY;BYMONTH=11;BYDAY=1SU
END:STANDARD
END:VTIMEZONE
BEGIN:VEVENT
UID:putnam-400957@ygametime.com
DTSTAMP:20230908T213000Z
DTSTART;TZID=America/New_York:20230908T173000
DURATION:PT0H60M0S
SUMMARY:Grimm vs Garvey
DESCRIPTION:5/6 | Soccer\nPutnam County Family YMCA\n
URL;VALUE=URI:https://ygametime.com/branch/putnam/sports/2023-fall-soccer/16809/?utm_medium=calendar&utm_source=team_cal&utm_content=league_url#game-400957
LOCATION:Field 2 (5/6)
BEGIN:VALARM
TRIGGER:-P2H
ACTION:DISPLAY
DESCRIPTION:Grimm vs Garvey
END:VALARM
END:VEVENT
BEGIN:VEVENT
UID:putnam-400924@ygametime.com
DTSTAMP:20230916T143000Z
DTSTART;TZID=America/New_York:20230916T103000
DURATION:PT0H60M0S
SUMMARY:Ross vs Garvey
DESCRIPTION:5/6 | Soccer\nPutnam County Family YMCA\n
URL;VALUE=URI:https://ygametime.com/branch/putnam/sports/2023-fall-soccer/16809/?utm_medium=calendar&utm_source=team_cal&utm_content=league_url#game-400924
LOCATION:Field 2 (5/6)
BEGIN:VALARM
TRIGGER:-P2H
ACTION:DISPLAY
DESCRIPTION:Ross vs Garvey
END:VALARM
END:VEVENT
BEGIN:VEVENT
UID:putnam-401430@ygametime.com
DTSTAMP:20230921T220000Z
DTSTART;TZID=America/New_York:20230921T180000
DURATION:PT0H60M0S
SUMMARY:Garvey vs Stratton
DESCRIPTION:5/6 | Soccer\nPutnam County Family YMCA\n
URL;VALUE=URI:https://ygametime.com/branch/putnam/sports/2023-fall-soccer/16809/?utm_medium=calendar&utm_source=team_cal&utm_content=league_url#game-401430
LOCATION:Field 2 (5/6)
BEGIN:VALARM
TRIGGER:-P2H
ACTION:DISPLAY
DESCRIPTION:Garvey vs Stratton
END:VALARM
END:VEVENT
BEGIN:VEVENT
UID:putnam-401436@ygametime.com
DTSTAMP:20230923T163000Z
DTSTART;TZID=America/New_York:20230923T123000
DURATION:PT0H60M0S
SUMMARY:Garvey vs Currier
DESCRIPTION:5/6 | Soccer\nPutnam County Family YMCA\n
URL;VALUE=URI:https://ygametime.com/branch/putnam/sports/2023-fall-soccer/16809/?utm_medium=calendar&utm_source=team_cal&utm_content=league_url#game-401436
LOCATION:Field 2 (5/6)
BEGIN:VALARM
TRIGGER:-P2H
ACTION:DISPLAY
DESCRIPTION:Garvey vs Currier
END:VALARM
END:VEVENT
BEGIN:VEVENT
UID:putnam-400946@ygametime.com
DTSTAMP:20231014T133000Z
DTSTART;TZID=America/New_York:20231014T093000
DURATION:PT0H60M0S
SUMMARY:Paramore vs Garvey
DESCRIPTION:5/6 | Soccer\nPutnam County Family YMCA\n
URL;VALUE=URI:https://ygametime.com/branch/putnam/sports/2023-fall-soccer/16809/?utm_medium=calendar&utm_source=team_cal&utm_content=league_url#game-400946
LOCATION:Field 3 (5/6)
BEGIN:VALARM
TRIGGER:-P2H
ACTION:DISPLAY
DESCRIPTION:Paramore vs Garvey
END:VALARM
END:VEVENT
BEGIN:VEVENT
UID:putnam-400951@ygametime.com
DTSTAMP:20231021T153000Z
DTSTART;TZID=America/New_York:20231021T113000
DURATION:PT0H60M0S
SUMMARY:Smith vs Garvey
DESCRIPTION:5/6 | Soccer\nPutnam County Family YMCA\n
URL;VALUE=URI:https://ygametime.com/branch/putnam/sports/2023-fall-soccer/16809/?utm_medium=calendar&utm_source=team_cal&utm_content=league_url#game-400951
LOCATION:Field 2 (5/6)
BEGIN:VALARM
TRIGGER:-P2H
ACTION:DISPLAY
DESCRIPTION:Smith vs Garvey
END:VALARM
END:VEVENT
BEGIN:VEVENT
UID:putnam-400938@ygametime.com
DTSTAMP:20231028T163000Z
DTSTART;TZID=America/New_York:20231028T123000
DURATION:PT0H60M0S
SUMMARY:Cameron vs Garvey
DESCRIPTION:5/6 | Soccer\nPutnam County Family YMCA\n
URL;VALUE=URI:https://ygametime.com/branch/putnam/sports/2023-fall-soccer/16809/?utm_medium=calendar&utm_source=team_cal&utm_content=league_url#game-400938
LOCATION:Field 3 (5/6)
BEGIN:VALARM
TRIGGER:-P2H
ACTION:DISPLAY
DESCRIPTION:Cameron vs Garvey
END:VALARM
END:VEVENT
END:VCALENDAR

