BEGIN:VCALENDAR
VERSION:2.0
PRODID:-//YGAMETIME.com//YGT iCal Creator//EN
METHOD:PUBLISH
X-PUBLISHED-TTL:PT6H
REFRESH-INTERVAL;VALUE=DURATION:PT6H
CALSCALE:GREGORIAN
X-WR-CALNAME:YGAMETIME CALENDAR
BEGIN:VTIMEZONE
TZID:America/New_York
X-LIC-LOCATION:America/New_York
BEGIN:DAYLIGHT
TZOFFSETFROM:-0500
TZOFFSETTO:-0400
TZNAME:EDT
DTSTART:19700308T020000
RRULE:FREQ=YEARLY;BYMONTH=3;BYDAY=2SU
END:DAYLIGHT
BEGIN:STANDARD
TZOFFSETFROM:-0400
TZOFFSETTO:-0500
TZNAME:EST
DTSTART:19701101T020000
RRULE:FREQ=YEARLY;BYMONTH=11;BYDAY=1SU
END:STANDARD
END:VTIMEZONE
BEGIN:VEVENT
UID:putnam-401217@ygametime.com
DTSTAMP:20230909T123000Z
DTSTART;TZID=America/New_York:20230909T083000
DURATION:PT0H30M0S
SUMMARY:Walley vs Brown
DESCRIPTION:3/4 | Soccer\nPutnam County Family YMCA\n
URL;VALUE=URI:https://ygametime.com/branch/putnam/sports/2023-fall-soccer/16810/?utm_medium=calendar&utm_source=team_cal&utm_content=league_url#game-401217
LOCATION:Field 8 (3/4)
BEGIN:VALARM
TRIGGER:-P2H
ACTION:DISPLAY
DESCRIPTION:Walley vs Brown
END:VALARM
END:VEVENT
BEGIN:VEVENT
UID:putnam-401223@ygametime.com
DTSTAMP:20230916T133000Z
DTSTART;TZID=America/New_York:20230916T093000
DURATION:PT0H30M0S
SUMMARY:Davis vs Walley
DESCRIPTION:3/4 | Soccer\nPutnam County Family YMCA\n
URL;VALUE=URI:https://ygametime.com/branch/putnam/sports/2023-fall-soccer/16810/?utm_medium=calendar&utm_source=team_cal&utm_content=league_url#game-401223
LOCATION:Field 8 (3/4)
BEGIN:VALARM
TRIGGER:-P2H
ACTION:DISPLAY
DESCRIPTION:Davis vs Walley
END:VALARM
END:VEVENT
BEGIN:VEVENT
UID:putnam-401225@ygametime.com
DTSTAMP:20230923T123000Z
DTSTART;TZID=America/New_York:20230923T083000
DURATION:PT0H30M0S
SUMMARY:Walley vs Chreston
DESCRIPTION:3/4 | Soccer\nPutnam County Family YMCA\n
URL;VALUE=URI:https://ygametime.com/branch/putnam/sports/2023-fall-soccer/16810/?utm_medium=calendar&utm_source=team_cal&utm_content=league_url#game-401225
LOCATION:Field 8 (3/4)
BEGIN:VALARM
TRIGGER:-P2H
ACTION:DISPLAY
DESCRIPTION:Walley vs Chreston
END:VALARM
END:VEVENT
BEGIN:VEVENT
UID:putnam-401249@ygametime.com
DTSTAMP:20230925T213000Z
DTSTART;TZID=America/New_York:20230925T173000
DURATION:PT0H30M0S
SUMMARY:Malugin vs Walley
DESCRIPTION:3/4 | Soccer\nPutnam County Family YMCA\n
URL;VALUE=URI:https://ygametime.com/branch/putnam/sports/2023-fall-soccer/16810/?utm_medium=calendar&utm_source=team_cal&utm_content=league_url#game-401249
LOCATION:Field 8 (3/4)
BEGIN:VALARM
TRIGGER:-P2H
ACTION:DISPLAY
DESCRIPTION:Malugin vs Walley
END:VALARM
END:VEVENT
BEGIN:VEVENT
UID:putnam-401240@ygametime.com
DTSTAMP:20231014T130000Z
DTSTART;TZID=America/New_York:20231014T090000
DURATION:PT0H30M0S
SUMMARY:Lemons vs Walley
DESCRIPTION:3/4 | Soccer\nPutnam County Family YMCA\n
URL;VALUE=URI:https://ygametime.com/branch/putnam/sports/2023-fall-soccer/16810/?utm_medium=calendar&utm_source=team_cal&utm_content=league_url#game-401240
LOCATION:Field 7 (3/4)
BEGIN:VALARM
TRIGGER:-P2H
ACTION:DISPLAY
DESCRIPTION:Lemons vs Walley
END:VALARM
END:VEVENT
BEGIN:VEVENT
UID:putnam-401244@ygametime.com
DTSTAMP:20231021T140000Z
DTSTART;TZID=America/New_York:20231021T100000
DURATION:PT0H30M0S
SUMMARY:Chreston vs Walley
DESCRIPTION:3/4 | Soccer\nPutnam County Family YMCA\n
URL;VALUE=URI:https://ygametime.com/branch/putnam/sports/2023-fall-soccer/16810/?utm_medium=calendar&utm_source=team_cal&utm_content=league_url#game-401244
LOCATION:Field 7 (3/4)
BEGIN:VALARM
TRIGGER:-P2H
ACTION:DISPLAY
DESCRIPTION:Chreston vs Walley
END:VALARM
END:VEVENT
BEGIN:VEVENT
UID:putnam-401231@ygametime.com
DTSTAMP:20231028T130000Z
DTSTART;TZID=America/New_York:20231028T090000
DURATION:PT0H30M0S
SUMMARY:Stites vs Walley
DESCRIPTION:3/4 | Soccer\nPutnam County Family YMCA\n
URL;VALUE=URI:https://ygametime.com/branch/putnam/sports/2023-fall-soccer/16810/?utm_medium=calendar&utm_source=team_cal&utm_content=league_url#game-401231
LOCATION:Field 8 (3/4)
BEGIN:VALARM
TRIGGER:-P2H
ACTION:DISPLAY
DESCRIPTION:Stites vs Walley
END:VALARM
END:VEVENT
END:VCALENDAR

