BEGIN:VCALENDAR
VERSION:2.0
PRODID:-//YGAMETIME.com//YGT iCal Creator//EN
METHOD:PUBLISH
X-PUBLISHED-TTL:PT6H
REFRESH-INTERVAL;VALUE=DURATION:PT6H
CALSCALE:GREGORIAN
X-WR-CALNAME:YGAMETIME CALENDAR
BEGIN:VTIMEZONE
TZID:America/New_York
X-LIC-LOCATION:America/New_York
BEGIN:DAYLIGHT
TZOFFSETFROM:-0500
TZOFFSETTO:-0400
TZNAME:EDT
DTSTART:19700308T020000
RRULE:FREQ=YEARLY;BYMONTH=3;BYDAY=2SU
END:DAYLIGHT
BEGIN:STANDARD
TZOFFSETFROM:-0400
TZOFFSETTO:-0500
TZNAME:EST
DTSTART:19701101T020000
RRULE:FREQ=YEARLY;BYMONTH=11;BYDAY=1SU
END:STANDARD
END:VTIMEZONE
BEGIN:VEVENT
UID:putnam-401217@ygametime.com
DTSTAMP:20230909T123000Z
DTSTART;TZID=America/New_York:20230909T083000
DURATION:PT0H30M0S
SUMMARY:Walley vs Brown
DESCRIPTION:3/4 | Soccer\nPutnam County Family YMCA\n
URL;VALUE=URI:https://ygametime.com/branch/putnam/sports/2023-fall-soccer/16810/?utm_medium=calendar&utm_source=team_cal&utm_content=league_url#game-401217
LOCATION:Field 8 (3/4)
BEGIN:VALARM
TRIGGER:-P2H
ACTION:DISPLAY
DESCRIPTION:Walley vs Brown
END:VALARM
END:VEVENT
BEGIN:VEVENT
UID:putnam-401221@ygametime.com
DTSTAMP:20230916T123000Z
DTSTART;TZID=America/New_York:20230916T083000
DURATION:PT0H30M0S
SUMMARY:Mynatt vs Brown
DESCRIPTION:3/4 | Soccer\nPutnam County Family YMCA\n
URL;VALUE=URI:https://ygametime.com/branch/putnam/sports/2023-fall-soccer/16810/?utm_medium=calendar&utm_source=team_cal&utm_content=league_url#game-401221
LOCATION:Field 8 (3/4)
BEGIN:VALARM
TRIGGER:-P2H
ACTION:DISPLAY
DESCRIPTION:Mynatt vs Brown
END:VALARM
END:VEVENT
BEGIN:VEVENT
UID:putnam-401246@ygametime.com
DTSTAMP:20230919T220000Z
DTSTART;TZID=America/New_York:20230919T180000
DURATION:PT0H30M0S
SUMMARY:Byrd vs Brown
DESCRIPTION:3/4 | Soccer\nPutnam County Family YMCA\n
URL;VALUE=URI:https://ygametime.com/branch/putnam/sports/2023-fall-soccer/16810/?utm_medium=calendar&utm_source=team_cal&utm_content=league_url#game-401246
LOCATION:Field 8 (3/4)
BEGIN:VALARM
TRIGGER:-P2H
ACTION:DISPLAY
DESCRIPTION:Byrd vs Brown
END:VALARM
END:VEVENT
BEGIN:VEVENT
UID:putnam-401239@ygametime.com
DTSTAMP:20231014T143000Z
DTSTART;TZID=America/New_York:20231014T103000
DURATION:PT0H30M0S
SUMMARY:Stites vs Brown
DESCRIPTION:3/4 | Soccer\nPutnam County Family YMCA\n
URL;VALUE=URI:https://ygametime.com/branch/putnam/sports/2023-fall-soccer/16810/?utm_medium=calendar&utm_source=team_cal&utm_content=league_url#game-401239
LOCATION:Field 8 (3/4)
BEGIN:VALARM
TRIGGER:-P2H
ACTION:DISPLAY
DESCRIPTION:Stites vs Brown
END:VALARM
END:VEVENT
BEGIN:VEVENT
UID:putnam-401241@ygametime.com
DTSTAMP:20231021T123000Z
DTSTART;TZID=America/New_York:20231021T083000
DURATION:PT0H30M0S
SUMMARY:Brown vs Malugin
DESCRIPTION:3/4 | Soccer\nPutnam County Family YMCA\n
URL;VALUE=URI:https://ygametime.com/branch/putnam/sports/2023-fall-soccer/16810/?utm_medium=calendar&utm_source=team_cal&utm_content=league_url#game-401241
LOCATION:Field 8 (3/4)
BEGIN:VALARM
TRIGGER:-P2H
ACTION:DISPLAY
DESCRIPTION:Brown vs Malugin
END:VALARM
END:VEVENT
BEGIN:VEVENT
UID:putnam-413436@ygametime.com
DTSTAMP:20231027T210000Z
DTSTART;TZID=America/New_York:20231027T170000
DURATION:PT0H30M0S
SUMMARY:Brown vs Davis
DESCRIPTION:3/4 | Soccer\nPutnam County Family YMCA\n
URL;VALUE=URI:https://ygametime.com/branch/putnam/sports/2023-fall-soccer/16810/?utm_medium=calendar&utm_source=team_cal&utm_content=league_url#game-413436
LOCATION:Field 8 (3/4)
BEGIN:VALARM
TRIGGER:-P2H
ACTION:DISPLAY
DESCRIPTION:Brown vs Davis
END:VALARM
END:VEVENT
END:VCALENDAR

