BEGIN:VCALENDAR
VERSION:2.0
PRODID:-//YGAMETIME.com//YGT iCal Creator//EN
METHOD:PUBLISH
X-PUBLISHED-TTL:PT6H
REFRESH-INTERVAL;VALUE=DURATION:PT6H
CALSCALE:GREGORIAN
X-WR-CALNAME:YGAMETIME CALENDAR
BEGIN:VTIMEZONE
TZID:America/New_York
X-LIC-LOCATION:America/New_York
BEGIN:DAYLIGHT
TZOFFSETFROM:-0500
TZOFFSETTO:-0400
TZNAME:EDT
DTSTART:19700308T020000
RRULE:FREQ=YEARLY;BYMONTH=3;BYDAY=2SU
END:DAYLIGHT
BEGIN:STANDARD
TZOFFSETFROM:-0400
TZOFFSETTO:-0500
TZNAME:EST
DTSTART:19701101T020000
RRULE:FREQ=YEARLY;BYMONTH=11;BYDAY=1SU
END:STANDARD
END:VTIMEZONE
BEGIN:VEVENT
UID:putnam-401221@ygametime.com
DTSTAMP:20230916T123000Z
DTSTART;TZID=America/New_York:20230916T083000
DURATION:PT0H30M0S
SUMMARY:Mynatt vs Brown
DESCRIPTION:3/4 | Soccer\nPutnam County Family YMCA\n
URL;VALUE=URI:https://ygametime.com/branch/putnam/sports/2023-fall-soccer/16810/?utm_medium=calendar&utm_source=team_cal&utm_content=league_url#game-401221
LOCATION:Field 8 (3/4)
BEGIN:VALARM
TRIGGER:-P2H
ACTION:DISPLAY
DESCRIPTION:Mynatt vs Brown
END:VALARM
END:VEVENT
BEGIN:VEVENT
UID:putnam-401247@ygametime.com
DTSTAMP:20230918T213000Z
DTSTART;TZID=America/New_York:20230918T173000
DURATION:PT0H30M0S
SUMMARY:Davis vs Mynatt
DESCRIPTION:3/4 | Soccer\nPutnam County Family YMCA\n
URL;VALUE=URI:https://ygametime.com/branch/putnam/sports/2023-fall-soccer/16810/?utm_medium=calendar&utm_source=team_cal&utm_content=league_url#game-401247
LOCATION:Field 7 (3/4)
BEGIN:VALARM
TRIGGER:-P2H
ACTION:DISPLAY
DESCRIPTION:Davis vs Mynatt
END:VALARM
END:VEVENT
BEGIN:VEVENT
UID:putnam-401227@ygametime.com
DTSTAMP:20230923T133000Z
DTSTART;TZID=America/New_York:20230923T093000
DURATION:PT0H30M0S
SUMMARY:Mynatt vs Lemons
DESCRIPTION:3/4 | Soccer\nPutnam County Family YMCA\n
URL;VALUE=URI:https://ygametime.com/branch/putnam/sports/2023-fall-soccer/16810/?utm_medium=calendar&utm_source=team_cal&utm_content=league_url#game-401227
LOCATION:Field 8 (3/4)
BEGIN:VALARM
TRIGGER:-P2H
ACTION:DISPLAY
DESCRIPTION:Mynatt vs Lemons
END:VALARM
END:VEVENT
BEGIN:VEVENT
UID:putnam-401797@ygametime.com
DTSTAMP:20230928T213000Z
DTSTART;TZID=America/New_York:20230928T173000
DURATION:PT0H30M0S
SUMMARY:Stites vs Mynatt
DESCRIPTION:3/4 | Soccer\nPutnam County Family YMCA\n
URL;VALUE=URI:https://ygametime.com/branch/putnam/sports/2023-fall-soccer/16810/?utm_medium=calendar&utm_source=team_cal&utm_content=league_url#game-401797
LOCATION:Field 8 (3/4)
BEGIN:VALARM
TRIGGER:-P2H
ACTION:DISPLAY
DESCRIPTION:Stites vs Mynatt
END:VALARM
END:VEVENT
BEGIN:VEVENT
UID:putnam-401237@ygametime.com
DTSTAMP:20231014T123000Z
DTSTART;TZID=America/New_York:20231014T083000
DURATION:PT0H30M0S
SUMMARY:Mynatt vs Chreston
DESCRIPTION:3/4 | Soccer\nPutnam County Family YMCA\n
URL;VALUE=URI:https://ygametime.com/branch/putnam/sports/2023-fall-soccer/16810/?utm_medium=calendar&utm_source=team_cal&utm_content=league_url#game-401237
LOCATION:Field 8 (3/4)
BEGIN:VALARM
TRIGGER:-P2H
ACTION:DISPLAY
DESCRIPTION:Mynatt vs Chreston
END:VALARM
END:VEVENT
BEGIN:VEVENT
UID:putnam-401242@ygametime.com
DTSTAMP:20231021T130000Z
DTSTART;TZID=America/New_York:20231021T090000
DURATION:PT0H30M0S
SUMMARY:Mynatt vs Stites
DESCRIPTION:3/4 | Soccer\nPutnam County Family YMCA\n
URL;VALUE=URI:https://ygametime.com/branch/putnam/sports/2023-fall-soccer/16810/?utm_medium=calendar&utm_source=team_cal&utm_content=league_url#game-401242
LOCATION:Field 7 (3/4)
BEGIN:VALARM
TRIGGER:-P2H
ACTION:DISPLAY
DESCRIPTION:Mynatt vs Stites
END:VALARM
END:VEVENT
END:VCALENDAR

