BEGIN:VCALENDAR
VERSION:2.0
PRODID:-//YGAMETIME.com//YGT iCal Creator//EN
METHOD:PUBLISH
X-PUBLISHED-TTL:PT6H
REFRESH-INTERVAL;VALUE=DURATION:PT6H
CALSCALE:GREGORIAN
X-WR-CALNAME:YGAMETIME CALENDAR
BEGIN:VTIMEZONE
TZID:America/New_York
X-LIC-LOCATION:America/New_York
BEGIN:DAYLIGHT
TZOFFSETFROM:-0500
TZOFFSETTO:-0400
TZNAME:EDT
DTSTART:19700308T020000
RRULE:FREQ=YEARLY;BYMONTH=3;BYDAY=2SU
END:DAYLIGHT
BEGIN:STANDARD
TZOFFSETFROM:-0400
TZOFFSETTO:-0500
TZNAME:EST
DTSTART:19701101T020000
RRULE:FREQ=YEARLY;BYMONTH=11;BYDAY=1SU
END:STANDARD
END:VTIMEZONE
BEGIN:VEVENT
UID:putnam-401798@ygametime.com
DTSTAMP:20230911T213000Z
DTSTART;TZID=America/New_York:20230911T173000
DURATION:PT0H30M0S
SUMMARY:Davis vs Malugin
DESCRIPTION:3/4 | Soccer\nPutnam County Family YMCA\n
URL;VALUE=URI:https://ygametime.com/branch/putnam/sports/2023-fall-soccer/16810/?utm_medium=calendar&utm_source=team_cal&utm_content=league_url#game-401798
LOCATION:Field 8 (3/4)
BEGIN:VALARM
TRIGGER:-P2H
ACTION:DISPLAY
DESCRIPTION:Davis vs Malugin
END:VALARM
END:VEVENT
BEGIN:VEVENT
UID:putnam-401222@ygametime.com
DTSTAMP:20230916T130000Z
DTSTART;TZID=America/New_York:20230916T090000
DURATION:PT0H30M0S
SUMMARY:Byrd vs Malugin
DESCRIPTION:3/4 | Soccer\nPutnam County Family YMCA\n
URL;VALUE=URI:https://ygametime.com/branch/putnam/sports/2023-fall-soccer/16810/?utm_medium=calendar&utm_source=team_cal&utm_content=league_url#game-401222
LOCATION:Field 7 (3/4)
BEGIN:VALARM
TRIGGER:-P2H
ACTION:DISPLAY
DESCRIPTION:Byrd vs Malugin
END:VALARM
END:VEVENT
BEGIN:VEVENT
UID:putnam-401228@ygametime.com
DTSTAMP:20230923T140000Z
DTSTART;TZID=America/New_York:20230923T100000
DURATION:PT0H30M0S
SUMMARY:Malugin vs Stites
DESCRIPTION:3/4 | Soccer\nPutnam County Family YMCA\n
URL;VALUE=URI:https://ygametime.com/branch/putnam/sports/2023-fall-soccer/16810/?utm_medium=calendar&utm_source=team_cal&utm_content=league_url#game-401228
LOCATION:Field 7 (3/4)
BEGIN:VALARM
TRIGGER:-P2H
ACTION:DISPLAY
DESCRIPTION:Malugin vs Stites
END:VALARM
END:VEVENT
BEGIN:VEVENT
UID:putnam-401249@ygametime.com
DTSTAMP:20230925T213000Z
DTSTART;TZID=America/New_York:20230925T173000
DURATION:PT0H30M0S
SUMMARY:Malugin vs Walley
DESCRIPTION:3/4 | Soccer\nPutnam County Family YMCA\n
URL;VALUE=URI:https://ygametime.com/branch/putnam/sports/2023-fall-soccer/16810/?utm_medium=calendar&utm_source=team_cal&utm_content=league_url#game-401249
LOCATION:Field 8 (3/4)
BEGIN:VALARM
TRIGGER:-P2H
ACTION:DISPLAY
DESCRIPTION:Malugin vs Walley
END:VALARM
END:VEVENT
BEGIN:VEVENT
UID:putnam-401238@ygametime.com
DTSTAMP:20231014T140000Z
DTSTART;TZID=America/New_York:20231014T100000
DURATION:PT0H30M0S
SUMMARY:Byrd vs Malugin
DESCRIPTION:3/4 | Soccer\nPutnam County Family YMCA\n
URL;VALUE=URI:https://ygametime.com/branch/putnam/sports/2023-fall-soccer/16810/?utm_medium=calendar&utm_source=team_cal&utm_content=league_url#game-401238
LOCATION:Field 7 (3/4)
BEGIN:VALARM
TRIGGER:-P2H
ACTION:DISPLAY
DESCRIPTION:Byrd vs Malugin
END:VALARM
END:VEVENT
BEGIN:VEVENT
UID:putnam-401241@ygametime.com
DTSTAMP:20231021T123000Z
DTSTART;TZID=America/New_York:20231021T083000
DURATION:PT0H30M0S
SUMMARY:Brown vs Malugin
DESCRIPTION:3/4 | Soccer\nPutnam County Family YMCA\n
URL;VALUE=URI:https://ygametime.com/branch/putnam/sports/2023-fall-soccer/16810/?utm_medium=calendar&utm_source=team_cal&utm_content=league_url#game-401241
LOCATION:Field 8 (3/4)
BEGIN:VALARM
TRIGGER:-P2H
ACTION:DISPLAY
DESCRIPTION:Brown vs Malugin
END:VALARM
END:VEVENT
BEGIN:VEVENT
UID:putnam-401230@ygametime.com
DTSTAMP:20231028T130000Z
DTSTART;TZID=America/New_York:20231028T090000
DURATION:PT0H30M0S
SUMMARY:Lemons vs Malugin
DESCRIPTION:3/4 | Soccer\nPutnam County Family YMCA\n
URL;VALUE=URI:https://ygametime.com/branch/putnam/sports/2023-fall-soccer/16810/?utm_medium=calendar&utm_source=team_cal&utm_content=league_url#game-401230
LOCATION:Field 7 (3/4)
BEGIN:VALARM
TRIGGER:-P2H
ACTION:DISPLAY
DESCRIPTION:Lemons vs Malugin
END:VALARM
END:VEVENT
END:VCALENDAR

