BEGIN:VCALENDAR
VERSION:2.0
PRODID:-//YGAMETIME.com//YGT iCal Creator//EN
METHOD:PUBLISH
X-PUBLISHED-TTL:PT6H
REFRESH-INTERVAL;VALUE=DURATION:PT6H
CALSCALE:GREGORIAN
X-WR-CALNAME:YGAMETIME CALENDAR
BEGIN:VTIMEZONE
TZID:America/New_York
X-LIC-LOCATION:America/New_York
BEGIN:DAYLIGHT
TZOFFSETFROM:-0500
TZOFFSETTO:-0400
TZNAME:EDT
DTSTART:19700308T020000
RRULE:FREQ=YEARLY;BYMONTH=3;BYDAY=2SU
END:DAYLIGHT
BEGIN:STANDARD
TZOFFSETFROM:-0400
TZOFFSETTO:-0500
TZNAME:EST
DTSTART:19701101T020000
RRULE:FREQ=YEARLY;BYMONTH=11;BYDAY=1SU
END:STANDARD
END:VTIMEZONE
BEGIN:VEVENT
UID:putnam-447479@ygametime.com
DTSTAMP:20240406T133000Z
DTSTART;TZID=America/New_York:20240406T093000
DURATION:PT0H60M0S
SUMMARY:Mapes vs Romine
DESCRIPTION:3/4 | Soccer\nPutnam County Family YMCA\n
URL;VALUE=URI:https://ygametime.com/branch/putnam/sports/2024-spring-soccer/18880/?utm_medium=calendar&utm_source=team_cal&utm_content=league_url#game-447479
LOCATION:Field 7 (3/4)
BEGIN:VALARM
TRIGGER:-P2H
ACTION:DISPLAY
DESCRIPTION:Mapes vs Romine
END:VALARM
END:VEVENT
BEGIN:VEVENT
UID:putnam-447485@ygametime.com
DTSTAMP:20240413T123000Z
DTSTART;TZID=America/New_York:20240413T083000
DURATION:PT0H60M0S
SUMMARY:Romine vs Cotten
DESCRIPTION:3/4 | Soccer\nPutnam County Family YMCA\n
URL;VALUE=URI:https://ygametime.com/branch/putnam/sports/2024-spring-soccer/18880/?utm_medium=calendar&utm_source=team_cal&utm_content=league_url#game-447485
LOCATION:Field 7 (3/4)
BEGIN:VALARM
TRIGGER:-P2H
ACTION:DISPLAY
DESCRIPTION:Romine vs Cotten
END:VALARM
END:VEVENT
BEGIN:VEVENT
UID:putnam-447497@ygametime.com
DTSTAMP:20240427T143000Z
DTSTART;TZID=America/New_York:20240427T103000
DURATION:PT0H60M0S
SUMMARY:Romine vs Henson
DESCRIPTION:3/4 | Soccer\nPutnam County Family YMCA\n
URL;VALUE=URI:https://ygametime.com/branch/putnam/sports/2024-spring-soccer/18880/?utm_medium=calendar&utm_source=team_cal&utm_content=league_url#game-447497
LOCATION:Field 7 (3/4)
BEGIN:VALARM
TRIGGER:-P2H
ACTION:DISPLAY
DESCRIPTION:Romine vs Henson
END:VALARM
END:VEVENT
BEGIN:VEVENT
UID:putnam-466814@ygametime.com
DTSTAMP:20240506T213000Z
DTSTART;TZID=America/New_York:20240506T173000
DURATION:PT0H60M0S
SUMMARY:Mapes vs Romine
DESCRIPTION:3/4 | Soccer\nPutnam County Family YMCA\n
URL;VALUE=URI:https://ygametime.com/branch/putnam/sports/2024-spring-soccer/18880/?utm_medium=calendar&utm_source=team_cal&utm_content=league_url#game-466814
LOCATION:Field 7 (3/4)
BEGIN:VALARM
TRIGGER:-P2H
ACTION:DISPLAY
DESCRIPTION:Mapes vs Romine
END:VALARM
END:VEVENT
BEGIN:VEVENT
UID:putnam-447508@ygametime.com
DTSTAMP:20240511T133000Z
DTSTART;TZID=America/New_York:20240511T093000
DURATION:PT0H60M0S
SUMMARY:Romine vs Hafner
DESCRIPTION:3/4 | Soccer\nPutnam County Family YMCA\n
URL;VALUE=URI:https://ygametime.com/branch/putnam/sports/2024-spring-soccer/18880/?utm_medium=calendar&utm_source=team_cal&utm_content=league_url#game-447508
LOCATION:Field 9 (3/4)
BEGIN:VALARM
TRIGGER:-P2H
ACTION:DISPLAY
DESCRIPTION:Romine vs Hafner
END:VALARM
END:VEVENT
BEGIN:VEVENT
UID:putnam-467785@ygametime.com
DTSTAMP:20240521T211500Z
DTSTART;TZID=America/New_York:20240521T171500
DURATION:PT0H60M0S
SUMMARY:Romine vs Paramore
DESCRIPTION:3/4 | Soccer\nPutnam County Family YMCA\n
URL;VALUE=URI:https://ygametime.com/branch/putnam/sports/2024-spring-soccer/18880/?utm_medium=calendar&utm_source=team_cal&utm_content=league_url#game-467785
LOCATION:Field 8 (3/4)
BEGIN:VALARM
TRIGGER:-P2H
ACTION:DISPLAY
DESCRIPTION:Romine vs Paramore
END:VALARM
END:VEVENT
END:VCALENDAR

