BEGIN:VCALENDAR
VERSION:2.0
PRODID:-//YGAMETIME.com//YGT iCal Creator//EN
METHOD:PUBLISH
X-PUBLISHED-TTL:PT6H
REFRESH-INTERVAL;VALUE=DURATION:PT6H
CALSCALE:GREGORIAN
X-WR-CALNAME:YGAMETIME CALENDAR
BEGIN:VTIMEZONE
TZID:America/New_York
X-LIC-LOCATION:America/New_York
BEGIN:DAYLIGHT
TZOFFSETFROM:-0500
TZOFFSETTO:-0400
TZNAME:EDT
DTSTART:19700308T020000
RRULE:FREQ=YEARLY;BYMONTH=3;BYDAY=2SU
END:DAYLIGHT
BEGIN:STANDARD
TZOFFSETFROM:-0400
TZOFFSETTO:-0500
TZNAME:EST
DTSTART:19701101T020000
RRULE:FREQ=YEARLY;BYMONTH=11;BYDAY=1SU
END:STANDARD
END:VTIMEZONE
BEGIN:VEVENT
UID:putnam-448425@ygametime.com
DTSTAMP:20240406T163000Z
DTSTART;TZID=America/New_York:20240406T123000
DURATION:PT0H60M0S
SUMMARY:Paramore vs Byrd
DESCRIPTION:5/6 | Soccer\nPutnam County Family YMCA\n
URL;VALUE=URI:https://ygametime.com/branch/putnam/sports/2024-spring-soccer/18881/?utm_medium=calendar&utm_source=team_cal&utm_content=league_url#game-448425
LOCATION:Field 2 (5/6)
BEGIN:VALARM
TRIGGER:-P2H
ACTION:DISPLAY
DESCRIPTION:Paramore vs Byrd
END:VALARM
END:VEVENT
BEGIN:VEVENT
UID:putnam-448428@ygametime.com
DTSTAMP:20240413T133000Z
DTSTART;TZID=America/New_York:20240413T093000
DURATION:PT0H60M0S
SUMMARY:Paramore vs Cotten
DESCRIPTION:5/6 | Soccer\nPutnam County Family YMCA\n
URL;VALUE=URI:https://ygametime.com/branch/putnam/sports/2024-spring-soccer/18881/?utm_medium=calendar&utm_source=team_cal&utm_content=league_url#game-448428
LOCATION:Field 3 (5/6)
BEGIN:VALARM
TRIGGER:-P2H
ACTION:DISPLAY
DESCRIPTION:Paramore vs Cotten
END:VALARM
END:VEVENT
BEGIN:VEVENT
UID:putnam-448469@ygametime.com
DTSTAMP:20240423T221500Z
DTSTART;TZID=America/New_York:20240423T181500
DURATION:PT0H60M0S
SUMMARY:Malugin vs Paramore
DESCRIPTION:5/6 | Soccer\nPutnam County Family YMCA\n
URL;VALUE=URI:https://ygametime.com/branch/putnam/sports/2024-spring-soccer/18881/?utm_medium=calendar&utm_source=team_cal&utm_content=league_url#game-448469
LOCATION:Field 2 (5/6)
BEGIN:VALARM
TRIGGER:-P2H
ACTION:DISPLAY
DESCRIPTION:Malugin vs Paramore
END:VALARM
END:VEVENT
BEGIN:VEVENT
UID:putnam-448439@ygametime.com
DTSTAMP:20240427T133000Z
DTSTART;TZID=America/New_York:20240427T093000
DURATION:PT0H60M0S
SUMMARY:Paramore vs Garvey
DESCRIPTION:5/6 | Soccer\nPutnam County Family YMCA\n
URL;VALUE=URI:https://ygametime.com/branch/putnam/sports/2024-spring-soccer/18881/?utm_medium=calendar&utm_source=team_cal&utm_content=league_url#game-448439
LOCATION:Field 3 (5/6)
BEGIN:VALARM
TRIGGER:-P2H
ACTION:DISPLAY
DESCRIPTION:Paramore vs Garvey
END:VALARM
END:VEVENT
BEGIN:VEVENT
UID:putnam-448452@ygametime.com
DTSTAMP:20240511T133000Z
DTSTART;TZID=America/New_York:20240511T093000
DURATION:PT0H60M0S
SUMMARY:Paramore vs Davis
DESCRIPTION:5/6 | Soccer\nPutnam County Family YMCA\n
URL;VALUE=URI:https://ygametime.com/branch/putnam/sports/2024-spring-soccer/18881/?utm_medium=calendar&utm_source=team_cal&utm_content=league_url#game-448452
LOCATION:Field 3 (5/6)
BEGIN:VALARM
TRIGGER:-P2H
ACTION:DISPLAY
DESCRIPTION:Paramore vs Davis
END:VALARM
END:VEVENT
BEGIN:VEVENT
UID:putnam-448470@ygametime.com
DTSTAMP:20240514T220000Z
DTSTART;TZID=America/New_York:20240514T180000
DURATION:PT0H60M0S
SUMMARY:Paramore vs Hill
DESCRIPTION:5/6 | Soccer\nPutnam County Family YMCA\n
URL;VALUE=URI:https://ygametime.com/branch/putnam/sports/2024-spring-soccer/18881/?utm_medium=calendar&utm_source=team_cal&utm_content=league_url#game-448470
LOCATION:Field 2 (5/6)
BEGIN:VALARM
TRIGGER:-P2H
ACTION:DISPLAY
DESCRIPTION:Paramore vs Hill
END:VALARM
END:VEVENT
END:VCALENDAR

