BEGIN:VCALENDAR
VERSION:2.0
PRODID:-//YGAMETIME.com//YGT iCal Creator//EN
METHOD:PUBLISH
X-PUBLISHED-TTL:PT6H
REFRESH-INTERVAL;VALUE=DURATION:PT6H
CALSCALE:GREGORIAN
X-WR-CALNAME:YGAMETIME CALENDAR
BEGIN:VTIMEZONE
TZID:America/New_York
X-LIC-LOCATION:America/New_York
BEGIN:DAYLIGHT
TZOFFSETFROM:-0500
TZOFFSETTO:-0400
TZNAME:EDT
DTSTART:19700308T020000
RRULE:FREQ=YEARLY;BYMONTH=3;BYDAY=2SU
END:DAYLIGHT
BEGIN:STANDARD
TZOFFSETFROM:-0400
TZOFFSETTO:-0500
TZNAME:EST
DTSTART:19701101T020000
RRULE:FREQ=YEARLY;BYMONTH=11;BYDAY=1SU
END:STANDARD
END:VTIMEZONE
BEGIN:VEVENT
UID:putnam-448423@ygametime.com
DTSTAMP:20240406T143000Z
DTSTART;TZID=America/New_York:20240406T103000
DURATION:PT0H60M0S
SUMMARY:Jones vs Malugin
DESCRIPTION:5/6 | Soccer\nPutnam County Family YMCA\n
URL;VALUE=URI:https://ygametime.com/branch/putnam/sports/2024-spring-soccer/18881/?utm_medium=calendar&utm_source=team_cal&utm_content=league_url#game-448423
LOCATION:Field 2 (5/6)
BEGIN:VALARM
TRIGGER:-P2H
ACTION:DISPLAY
DESCRIPTION:Jones vs Malugin
END:VALARM
END:VEVENT
BEGIN:VEVENT
UID:putnam-448429@ygametime.com
DTSTAMP:20240413T143000Z
DTSTART;TZID=America/New_York:20240413T103000
DURATION:PT0H60M0S
SUMMARY:Byrd vs Jones
DESCRIPTION:5/6 | Soccer\nPutnam County Family YMCA\n
URL;VALUE=URI:https://ygametime.com/branch/putnam/sports/2024-spring-soccer/18881/?utm_medium=calendar&utm_source=team_cal&utm_content=league_url#game-448429
LOCATION:Field 2 (5/6)
BEGIN:VALARM
TRIGGER:-P2H
ACTION:DISPLAY
DESCRIPTION:Byrd vs Jones
END:VALARM
END:VEVENT
BEGIN:VEVENT
UID:putnam-448468@ygametime.com
DTSTAMP:20240419T213000Z
DTSTART;TZID=America/New_York:20240419T173000
DURATION:PT0H60M0S
SUMMARY:Grimm vs Jones
DESCRIPTION:5/6 | Soccer\nPutnam County Family YMCA\n
URL;VALUE=URI:https://ygametime.com/branch/putnam/sports/2024-spring-soccer/18881/?utm_medium=calendar&utm_source=team_cal&utm_content=league_url#game-448468
LOCATION:Field 2 (5/6)
BEGIN:VALARM
TRIGGER:-P2H
ACTION:DISPLAY
DESCRIPTION:Grimm vs Jones
END:VALARM
END:VEVENT
BEGIN:VEVENT
UID:putnam-448440@ygametime.com
DTSTAMP:20240427T123000Z
DTSTART;TZID=America/New_York:20240427T083000
DURATION:PT0H60M0S
SUMMARY:Watson vs Jones
DESCRIPTION:5/6 | Soccer\nPutnam County Family YMCA\n
URL;VALUE=URI:https://ygametime.com/branch/putnam/sports/2024-spring-soccer/18881/?utm_medium=calendar&utm_source=team_cal&utm_content=league_url#game-448440
LOCATION:Field 2 (5/6)
BEGIN:VALARM
TRIGGER:-P2H
ACTION:DISPLAY
DESCRIPTION:Watson vs Jones
END:VALARM
END:VEVENT
BEGIN:VEVENT
UID:putnam-448451@ygametime.com
DTSTAMP:20240511T123000Z
DTSTART;TZID=America/New_York:20240511T083000
DURATION:PT0H60M0S
SUMMARY:Dartez vs Jones
DESCRIPTION:5/6 | Soccer\nPutnam County Family YMCA\n
URL;VALUE=URI:https://ygametime.com/branch/putnam/sports/2024-spring-soccer/18881/?utm_medium=calendar&utm_source=team_cal&utm_content=league_url#game-448451
LOCATION:Field 2 (5/6)
BEGIN:VALARM
TRIGGER:-P2H
ACTION:DISPLAY
DESCRIPTION:Dartez vs Jones
END:VALARM
END:VEVENT
BEGIN:VEVENT
UID:putnam-466864@ygametime.com
DTSTAMP:20240513T221500Z
DTSTART;TZID=America/New_York:20240513T181500
DURATION:PT0H60M0S
SUMMARY:Smith vs Jones
DESCRIPTION:5/6 | Soccer\nPutnam County Family YMCA\n
URL;VALUE=URI:https://ygametime.com/branch/putnam/sports/2024-spring-soccer/18881/?utm_medium=calendar&utm_source=team_cal&utm_content=league_url#game-466864
LOCATION:Field 3 (5/6)
BEGIN:VALARM
TRIGGER:-P2H
ACTION:DISPLAY
DESCRIPTION:Smith vs Jones
END:VALARM
END:VEVENT
BEGIN:VEVENT
UID:putnam-467793@ygametime.com
DTSTAMP:20240521T211500Z
DTSTART;TZID=America/New_York:20240521T171500
DURATION:PT0H60M0S
SUMMARY:Garvey vs Jones
DESCRIPTION:5/6 | Soccer\nPutnam County Family YMCA\n
URL;VALUE=URI:https://ygametime.com/branch/putnam/sports/2024-spring-soccer/18881/?utm_medium=calendar&utm_source=team_cal&utm_content=league_url#game-467793
LOCATION:Field 3 (5/6)
BEGIN:VALARM
TRIGGER:-P2H
ACTION:DISPLAY
DESCRIPTION:Garvey vs Jones
END:VALARM
END:VEVENT
END:VCALENDAR

