BEGIN:VCALENDAR
VERSION:2.0
PRODID:-//YGAMETIME.com//YGT iCal Creator//EN
METHOD:PUBLISH
X-PUBLISHED-TTL:PT6H
REFRESH-INTERVAL;VALUE=DURATION:PT6H
CALSCALE:GREGORIAN
X-WR-CALNAME:YGAMETIME CALENDAR
BEGIN:VTIMEZONE
TZID:America/New_York
X-LIC-LOCATION:America/New_York
BEGIN:DAYLIGHT
TZOFFSETFROM:-0500
TZOFFSETTO:-0400
TZNAME:EDT
DTSTART:19700308T020000
RRULE:FREQ=YEARLY;BYMONTH=3;BYDAY=2SU
END:DAYLIGHT
BEGIN:STANDARD
TZOFFSETFROM:-0400
TZOFFSETTO:-0500
TZNAME:EST
DTSTART:19701101T020000
RRULE:FREQ=YEARLY;BYMONTH=11;BYDAY=1SU
END:STANDARD
END:VTIMEZONE
BEGIN:VEVENT
UID:putnam-447853@ygametime.com
DTSTAMP:20240406T143000Z
DTSTART;TZID=America/New_York:20240406T103000
DURATION:PT0H60M0S
SUMMARY:Smith vs Malone
DESCRIPTION:7/8 | Soccer\nPutnam County Family YMCA\n
URL;VALUE=URI:https://ygametime.com/branch/putnam/sports/2024-spring-soccer/18882/?utm_medium=calendar&utm_source=team_cal&utm_content=league_url#game-447853
LOCATION:Field 5 (7/8)
BEGIN:VALARM
TRIGGER:-P2H
ACTION:DISPLAY
DESCRIPTION:Smith vs Malone
END:VALARM
END:VEVENT
BEGIN:VEVENT
UID:putnam-447859@ygametime.com
DTSTAMP:20240413T153000Z
DTSTART;TZID=America/New_York:20240413T113000
DURATION:PT0H60M0S
SUMMARY:Malone vs King
DESCRIPTION:7/8 | Soccer\nPutnam County Family YMCA\n
URL;VALUE=URI:https://ygametime.com/branch/putnam/sports/2024-spring-soccer/18882/?utm_medium=calendar&utm_source=team_cal&utm_content=league_url#game-447859
LOCATION:Field 4 (7/8)
BEGIN:VALARM
TRIGGER:-P2H
ACTION:DISPLAY
DESCRIPTION:Malone vs King
END:VALARM
END:VEVENT
BEGIN:VEVENT
UID:putnam-447871@ygametime.com
DTSTAMP:20240427T143000Z
DTSTART;TZID=America/New_York:20240427T103000
DURATION:PT0H60M0S
SUMMARY:Malone vs Scantland
DESCRIPTION:7/8 | Soccer\nPutnam County Family YMCA\n
URL;VALUE=URI:https://ygametime.com/branch/putnam/sports/2024-spring-soccer/18882/?utm_medium=calendar&utm_source=team_cal&utm_content=league_url#game-447871
LOCATION:Field 4 (7/8)
BEGIN:VALARM
TRIGGER:-P2H
ACTION:DISPLAY
DESCRIPTION:Malone vs Scantland
END:VALARM
END:VEVENT
BEGIN:VEVENT
UID:putnam-452776@ygametime.com
DTSTAMP:20240507T211500Z
DTSTART;TZID=America/New_York:20240507T171500
DURATION:PT0H60M0S
SUMMARY:Mason vs Malone
DESCRIPTION:7/8 | Soccer\nPutnam County Family YMCA\n
URL;VALUE=URI:https://ygametime.com/branch/putnam/sports/2024-spring-soccer/18882/?utm_medium=calendar&utm_source=team_cal&utm_content=league_url#game-452776
LOCATION:Field 4 (7/8)
BEGIN:VALARM
TRIGGER:-P2H
ACTION:DISPLAY
DESCRIPTION:Mason vs Malone
END:VALARM
END:VEVENT
BEGIN:VEVENT
UID:putnam-447893@ygametime.com
DTSTAMP:20240510T211500Z
DTSTART;TZID=America/New_York:20240510T171500
DURATION:PT0H60M0S
SUMMARY:Randolph vs Malone
DESCRIPTION:7/8 | Soccer\nPutnam County Family YMCA\n
URL;VALUE=URI:https://ygametime.com/branch/putnam/sports/2024-spring-soccer/18882/?utm_medium=calendar&utm_source=team_cal&utm_content=league_url#game-447893
LOCATION:Field 4 (7/8)
BEGIN:VALARM
TRIGGER:-P2H
ACTION:DISPLAY
DESCRIPTION:Randolph vs Malone
END:VALARM
END:VEVENT
BEGIN:VEVENT
UID:putnam-467790@ygametime.com
DTSTAMP:20240523T221500Z
DTSTART;TZID=America/New_York:20240523T181500
DURATION:PT0H60M0S
SUMMARY:Doss vs Malone
DESCRIPTION:7/8 | Soccer\nPutnam County Family YMCA\n
URL;VALUE=URI:https://ygametime.com/branch/putnam/sports/2024-spring-soccer/18882/?utm_medium=calendar&utm_source=team_cal&utm_content=league_url#game-467790
LOCATION:Field 4 (7/8)
BEGIN:VALARM
TRIGGER:-P2H
ACTION:DISPLAY
DESCRIPTION:Doss vs Malone
END:VALARM
END:VEVENT
END:VCALENDAR

