BEGIN:VCALENDAR
VERSION:2.0
PRODID:-//YGAMETIME.com//YGT iCal Creator//EN
METHOD:PUBLISH
X-PUBLISHED-TTL:PT6H
REFRESH-INTERVAL;VALUE=DURATION:PT6H
CALSCALE:GREGORIAN
X-WR-CALNAME:YGAMETIME CALENDAR
BEGIN:VTIMEZONE
TZID:America/New_York
X-LIC-LOCATION:America/New_York
BEGIN:DAYLIGHT
TZOFFSETFROM:-0500
TZOFFSETTO:-0400
TZNAME:EDT
DTSTART:19700308T020000
RRULE:FREQ=YEARLY;BYMONTH=3;BYDAY=2SU
END:DAYLIGHT
BEGIN:STANDARD
TZOFFSETFROM:-0400
TZOFFSETTO:-0500
TZNAME:EST
DTSTART:19701101T020000
RRULE:FREQ=YEARLY;BYMONTH=11;BYDAY=1SU
END:STANDARD
END:VTIMEZONE
BEGIN:VEVENT
UID:putnam-447888@ygametime.com
DTSTAMP:20240408T213000Z
DTSTART;TZID=America/New_York:20240408T173000
DURATION:PT0H60M0S
SUMMARY:Jones vs Bottoms
DESCRIPTION:7/8 | Soccer\nPutnam County Family YMCA\n
URL;VALUE=URI:https://ygametime.com/branch/putnam/sports/2024-spring-soccer/18882/?utm_medium=calendar&utm_source=team_cal&utm_content=league_url#game-447888
LOCATION:Field 5 (7/8)
BEGIN:VALARM
TRIGGER:-P2H
ACTION:DISPLAY
DESCRIPTION:Jones vs Bottoms
END:VALARM
END:VEVENT
BEGIN:VEVENT
UID:putnam-447862@ygametime.com
DTSTAMP:20240413T173000Z
DTSTART;TZID=America/New_York:20240413T133000
DURATION:PT0H60M0S
SUMMARY:Jones vs Scantland
DESCRIPTION:7/8 | Soccer\nPutnam County Family YMCA\n
URL;VALUE=URI:https://ygametime.com/branch/putnam/sports/2024-spring-soccer/18882/?utm_medium=calendar&utm_source=team_cal&utm_content=league_url#game-447862
LOCATION:Field 4 (7/8)
BEGIN:VALARM
TRIGGER:-P2H
ACTION:DISPLAY
DESCRIPTION:Jones vs Scantland
END:VALARM
END:VEVENT
BEGIN:VEVENT
UID:putnam-447870@ygametime.com
DTSTAMP:20240427T133000Z
DTSTART;TZID=America/New_York:20240427T093000
DURATION:PT0H60M0S
SUMMARY:Jones vs Randolph
DESCRIPTION:7/8 | Soccer\nPutnam County Family YMCA\n
URL;VALUE=URI:https://ygametime.com/branch/putnam/sports/2024-spring-soccer/18882/?utm_medium=calendar&utm_source=team_cal&utm_content=league_url#game-447870
LOCATION:Field 5 (7/8)
BEGIN:VALARM
TRIGGER:-P2H
ACTION:DISPLAY
DESCRIPTION:Jones vs Randolph
END:VALARM
END:VEVENT
BEGIN:VEVENT
UID:putnam-447887@ygametime.com
DTSTAMP:20240511T133000Z
DTSTART;TZID=America/New_York:20240511T093000
DURATION:PT0H60M0S
SUMMARY:Smith vs Jones
DESCRIPTION:7/8 | Soccer\nPutnam County Family YMCA\n
URL;VALUE=URI:https://ygametime.com/branch/putnam/sports/2024-spring-soccer/18882/?utm_medium=calendar&utm_source=team_cal&utm_content=league_url#game-447887
LOCATION:Field 4 (7/8)
BEGIN:VALARM
TRIGGER:-P2H
ACTION:DISPLAY
DESCRIPTION:Smith vs Jones
END:VALARM
END:VEVENT
BEGIN:VEVENT
UID:putnam-447877@ygametime.com
DTSTAMP:20240520T213000Z
DTSTART;TZID=America/New_York:20240520T173000
DURATION:PT0H60M0S
SUMMARY:Jones vs Currier
DESCRIPTION:7/8 | Soccer\nPutnam County Family YMCA\n
URL;VALUE=URI:https://ygametime.com/branch/putnam/sports/2024-spring-soccer/18882/?utm_medium=calendar&utm_source=team_cal&utm_content=league_url#game-447877
LOCATION:Field 5 (7/8)
BEGIN:VALARM
TRIGGER:-P2H
ACTION:DISPLAY
DESCRIPTION:Jones vs Currier
END:VALARM
END:VEVENT
BEGIN:VEVENT
UID:putnam-467788@ygametime.com
DTSTAMP:20240521T221500Z
DTSTART;TZID=America/New_York:20240521T181500
DURATION:PT0H60M0S
SUMMARY:Jones vs King
DESCRIPTION:7/8 | Soccer\nPutnam County Family YMCA\n
URL;VALUE=URI:https://ygametime.com/branch/putnam/sports/2024-spring-soccer/18882/?utm_medium=calendar&utm_source=team_cal&utm_content=league_url#game-467788
LOCATION:Field 5 (7/8)
BEGIN:VALARM
TRIGGER:-P2H
ACTION:DISPLAY
DESCRIPTION:Jones vs King
END:VALARM
END:VEVENT
END:VCALENDAR

