BEGIN:VCALENDAR
VERSION:2.0
PRODID:-//YGAMETIME.com//YGT iCal Creator//EN
METHOD:PUBLISH
X-PUBLISHED-TTL:PT6H
REFRESH-INTERVAL;VALUE=DURATION:PT6H
CALSCALE:GREGORIAN
X-WR-CALNAME:YGAMETIME CALENDAR
BEGIN:VTIMEZONE
TZID:America/New_York
X-LIC-LOCATION:America/New_York
BEGIN:DAYLIGHT
TZOFFSETFROM:-0500
TZOFFSETTO:-0400
TZNAME:EDT
DTSTART:19700308T020000
RRULE:FREQ=YEARLY;BYMONTH=3;BYDAY=2SU
END:DAYLIGHT
BEGIN:STANDARD
TZOFFSETFROM:-0400
TZOFFSETTO:-0500
TZNAME:EST
DTSTART:19701101T020000
RRULE:FREQ=YEARLY;BYMONTH=11;BYDAY=1SU
END:STANDARD
END:VTIMEZONE
BEGIN:VEVENT
UID:putnam-447410@ygametime.com
DTSTAMP:20240406T130000Z
DTSTART;TZID=America/New_York:20240406T090000
DURATION:PT0H90M0S
SUMMARY:Meadows vs Gunnels
DESCRIPTION:9/10 | Soccer\nPutnam County Family YMCA\n
URL;VALUE=URI:https://ygametime.com/branch/putnam/sports/2024-spring-soccer/18883/?utm_medium=calendar&utm_source=team_cal&utm_content=league_url#game-447410
LOCATION:Field 1 (9/11) Practice field
BEGIN:VALARM
TRIGGER:-P2H
ACTION:DISPLAY
DESCRIPTION:Meadows vs Gunnels
END:VALARM
END:VEVENT
BEGIN:VEVENT
UID:putnam-448419@ygametime.com
DTSTAMP:20240413T160000Z
DTSTART;TZID=America/New_York:20240413T120000
DURATION:PT0H90M0S
SUMMARY:Randolph vs Meadows
DESCRIPTION:9/10 | Soccer\nPutnam County Family YMCA\n
URL;VALUE=URI:https://ygametime.com/branch/putnam/sports/2024-spring-soccer/18883/?utm_medium=calendar&utm_source=team_cal&utm_content=league_url#game-448419
LOCATION:Field 1 (9/11) Practice field
BEGIN:VALARM
TRIGGER:-P2H
ACTION:DISPLAY
DESCRIPTION:Randolph vs Meadows
END:VALARM
END:VEVENT
BEGIN:VEVENT
UID:putnam-448420@ygametime.com
DTSTAMP:20240415T221500Z
DTSTART;TZID=America/New_York:20240415T181500
DURATION:PT0H90M0S
SUMMARY:Bowers vs Meadows
DESCRIPTION:9/10 | Soccer\nPutnam County Family YMCA\n
URL;VALUE=URI:https://ygametime.com/branch/putnam/sports/2024-spring-soccer/18883/?utm_medium=calendar&utm_source=team_cal&utm_content=league_url#game-448420
LOCATION:Field 1 (9/11) Practice field
BEGIN:VALARM
TRIGGER:-P2H
ACTION:DISPLAY
DESCRIPTION:Bowers vs Meadows
END:VALARM
END:VEVENT
BEGIN:VEVENT
UID:putnam-447420@ygametime.com
DTSTAMP:20240427T130000Z
DTSTART;TZID=America/New_York:20240427T090000
DURATION:PT0H90M0S
SUMMARY:Meadows vs Damas
DESCRIPTION:9/10 | Soccer\nPutnam County Family YMCA\n
URL;VALUE=URI:https://ygametime.com/branch/putnam/sports/2024-spring-soccer/18883/?utm_medium=calendar&utm_source=team_cal&utm_content=league_url#game-447420
LOCATION:Field 1 (9/11) Practice field
BEGIN:VALARM
TRIGGER:-P2H
ACTION:DISPLAY
DESCRIPTION:Meadows vs Damas
END:VALARM
END:VEVENT
BEGIN:VEVENT
UID:putnam-447898@ygametime.com
DTSTAMP:20240511T130000Z
DTSTART;TZID=America/New_York:20240511T090000
DURATION:PT0H90M0S
SUMMARY:Meadows vs Stiles
DESCRIPTION:9/10 | Soccer\nPutnam County Family YMCA\n
URL;VALUE=URI:https://ygametime.com/branch/putnam/sports/2024-spring-soccer/18883/?utm_medium=calendar&utm_source=team_cal&utm_content=league_url#game-447898
LOCATION:Field 1 (9/11) Practice field
BEGIN:VALARM
TRIGGER:-P2H
ACTION:DISPLAY
DESCRIPTION:Meadows vs Stiles
END:VALARM
END:VEVENT
BEGIN:VEVENT
UID:putnam-467157@ygametime.com
DTSTAMP:20240511T161500Z
DTSTART;TZID=America/New_York:20240511T121500
DURATION:PT0H90M0S
SUMMARY:Meadows vs Currier
DESCRIPTION:9/10 | Soccer\nPutnam County Family YMCA\n
URL;VALUE=URI:https://ygametime.com/branch/putnam/sports/2024-spring-soccer/18883/?utm_medium=calendar&utm_source=team_cal&utm_content=league_url#game-467157
LOCATION:Field 1 (9/11) Practice field
BEGIN:VALARM
TRIGGER:-P2H
ACTION:DISPLAY
DESCRIPTION:Meadows vs Currier
END:VALARM
END:VEVENT
BEGIN:VEVENT
UID:putnam-467612@ygametime.com
DTSTAMP:20240517T221500Z
DTSTART;TZID=America/New_York:20240517T181500
DURATION:PT0H70M0S
SUMMARY:Meadows vs Currier
DESCRIPTION:9/10 | Soccer\nPutnam County Family YMCA\n
URL;VALUE=URI:https://ygametime.com/branch/putnam/sports/2024-spring-soccer/18883/?utm_medium=calendar&utm_source=team_cal&utm_content=league_url#game-467612
LOCATION:Field 1 (9/11) Practice field
BEGIN:VALARM
TRIGGER:-P2H
ACTION:DISPLAY
DESCRIPTION:Meadows vs Currier
END:VALARM
END:VEVENT
BEGIN:VEVENT
UID:putnam-467615@ygametime.com
DTSTAMP:20240519T184500Z
DTSTART;TZID=America/New_York:20240519T144500
DURATION:PT0H70M0S
SUMMARY:Meadows vs Bowers
DESCRIPTION:9/10 | Soccer\nPutnam County Family YMCA\n
URL;VALUE=URI:https://ygametime.com/branch/putnam/sports/2024-spring-soccer/18883/?utm_medium=calendar&utm_source=team_cal&utm_content=league_url#game-467615
LOCATION:Field 1 (9/11) Practice field
BEGIN:VALARM
TRIGGER:-P2H
ACTION:DISPLAY
DESCRIPTION:Meadows vs Bowers
END:VALARM
END:VEVENT
BEGIN:VEVENT
UID:putnam-467616@ygametime.com
DTSTAMP:20240521T221500Z
DTSTART;TZID=America/New_York:20240521T181500
DURATION:PT0H70M0S
SUMMARY:- vs Meadows
DESCRIPTION:9/10 | Soccer\nPutnam County Family YMCA\n
URL;VALUE=URI:https://ygametime.com/branch/putnam/sports/2024-spring-soccer/18883/?utm_medium=calendar&utm_source=team_cal&utm_content=league_url#game-467616
LOCATION:Field 1 (9/11) Practice field
BEGIN:VALARM
TRIGGER:-P2H
ACTION:DISPLAY
DESCRIPTION:- vs Meadows
END:VALARM
END:VEVENT
END:VCALENDAR

