BEGIN:VCALENDAR
VERSION:2.0
PRODID:-//YGAMETIME.com//YGT iCal Creator//EN
METHOD:PUBLISH
X-PUBLISHED-TTL:PT6H
REFRESH-INTERVAL;VALUE=DURATION:PT6H
CALSCALE:GREGORIAN
X-WR-CALNAME:YGAMETIME CALENDAR
BEGIN:VTIMEZONE
TZID:America/New_York
X-LIC-LOCATION:America/New_York
BEGIN:DAYLIGHT
TZOFFSETFROM:-0500
TZOFFSETTO:-0400
TZNAME:EDT
DTSTART:19700308T020000
RRULE:FREQ=YEARLY;BYMONTH=3;BYDAY=2SU
END:DAYLIGHT
BEGIN:STANDARD
TZOFFSETFROM:-0400
TZOFFSETTO:-0500
TZNAME:EST
DTSTART:19701101T020000
RRULE:FREQ=YEARLY;BYMONTH=11;BYDAY=1SU
END:STANDARD
END:VTIMEZONE
BEGIN:VEVENT
UID:putnam-447412@ygametime.com
DTSTAMP:20240413T130000Z
DTSTART;TZID=America/New_York:20240413T090000
DURATION:PT0H90M0S
SUMMARY:Gunnels vs Damas
DESCRIPTION:9/10 | Soccer\nPutnam County Family YMCA\n
URL;VALUE=URI:https://ygametime.com/branch/putnam/sports/2024-spring-soccer/18883/?utm_medium=calendar&utm_source=team_cal&utm_content=league_url#game-447412
LOCATION:Field 1 (9/11) Practice field
BEGIN:VALARM
TRIGGER:-P2H
ACTION:DISPLAY
DESCRIPTION:Gunnels vs Damas
END:VALARM
END:VEVENT
BEGIN:VEVENT
UID:putnam-447420@ygametime.com
DTSTAMP:20240427T130000Z
DTSTART;TZID=America/New_York:20240427T090000
DURATION:PT0H90M0S
SUMMARY:Meadows vs Damas
DESCRIPTION:9/10 | Soccer\nPutnam County Family YMCA\n
URL;VALUE=URI:https://ygametime.com/branch/putnam/sports/2024-spring-soccer/18883/?utm_medium=calendar&utm_source=team_cal&utm_content=league_url#game-447420
LOCATION:Field 1 (9/11) Practice field
BEGIN:VALARM
TRIGGER:-P2H
ACTION:DISPLAY
DESCRIPTION:Meadows vs Damas
END:VALARM
END:VEVENT
BEGIN:VEVENT
UID:putnam-447424@ygametime.com
DTSTAMP:20240513T210000Z
DTSTART;TZID=America/New_York:20240513T170000
DURATION:PT0H90M0S
SUMMARY:Bowers vs Damas
DESCRIPTION:9/10 | Soccer\nPutnam County Family YMCA\n
URL;VALUE=URI:https://ygametime.com/branch/putnam/sports/2024-spring-soccer/18883/?utm_medium=calendar&utm_source=team_cal&utm_content=league_url#game-447424
LOCATION:Field 1 (9/11) Practice field
BEGIN:VALARM
TRIGGER:-P2H
ACTION:DISPLAY
DESCRIPTION:Bowers vs Damas
END:VALARM
END:VEVENT
BEGIN:VEVENT
UID:putnam-448416@ygametime.com
DTSTAMP:20240514T221500Z
DTSTART;TZID=America/New_York:20240514T181500
DURATION:PT0H90M0S
SUMMARY:Randolph vs Damas
DESCRIPTION:9/10 | Soccer\nPutnam County Family YMCA\n
URL;VALUE=URI:https://ygametime.com/branch/putnam/sports/2024-spring-soccer/18883/?utm_medium=calendar&utm_source=team_cal&utm_content=league_url#game-448416
LOCATION:Field 1 (9/11) Practice field
BEGIN:VALARM
TRIGGER:-P2H
ACTION:DISPLAY
DESCRIPTION:Randolph vs Damas
END:VALARM
END:VEVENT
BEGIN:VEVENT
UID:putnam-447434@ygametime.com
DTSTAMP:20240515T221500Z
DTSTART;TZID=America/New_York:20240515T181500
DURATION:PT0H90M0S
SUMMARY:Tony vs Damas
DESCRIPTION:9/10 | Soccer\nPutnam County Family YMCA\n
URL;VALUE=URI:https://ygametime.com/branch/putnam/sports/2024-spring-soccer/18883/?utm_medium=calendar&utm_source=team_cal&utm_content=league_url#game-447434
LOCATION:Field 1 (9/11) Practice field
BEGIN:VALARM
TRIGGER:-P2H
ACTION:DISPLAY
DESCRIPTION:Tony vs Damas
END:VALARM
END:VEVENT
BEGIN:VEVENT
UID:putnam-467613@ygametime.com
DTSTAMP:20240519T173000Z
DTSTART;TZID=America/New_York:20240519T133000
DURATION:PT0H70M0S
SUMMARY:Bowers vs Damas
DESCRIPTION:9/10 | Soccer\nPutnam County Family YMCA\n
URL;VALUE=URI:https://ygametime.com/branch/putnam/sports/2024-spring-soccer/18883/?utm_medium=calendar&utm_source=team_cal&utm_content=league_url#game-467613
LOCATION:Field 1 (9/11) Practice field
BEGIN:VALARM
TRIGGER:-P2H
ACTION:DISPLAY
DESCRIPTION:Bowers vs Damas
END:VALARM
END:VEVENT
END:VCALENDAR

