BEGIN:VCALENDAR
VERSION:2.0
PRODID:-//YGAMETIME.com//YGT iCal Creator//EN
METHOD:PUBLISH
X-PUBLISHED-TTL:PT6H
REFRESH-INTERVAL;VALUE=DURATION:PT6H
CALSCALE:GREGORIAN
X-WR-CALNAME:YGAMETIME CALENDAR
BEGIN:VTIMEZONE
TZID:America/New_York
X-LIC-LOCATION:America/New_York
BEGIN:DAYLIGHT
TZOFFSETFROM:-0500
TZOFFSETTO:-0400
TZNAME:EDT
DTSTART:19700308T020000
RRULE:FREQ=YEARLY;BYMONTH=3;BYDAY=2SU
END:DAYLIGHT
BEGIN:STANDARD
TZOFFSETFROM:-0400
TZOFFSETTO:-0500
TZNAME:EST
DTSTART:19701101T020000
RRULE:FREQ=YEARLY;BYMONTH=11;BYDAY=1SU
END:STANDARD
END:VTIMEZONE
BEGIN:VEVENT
UID:putnam-447480@ygametime.com
DTSTAMP:20240406T121500Z
DTSTART;TZID=America/New_York:20240406T081500
DURATION:PT0H60M0S
SUMMARY:Tellez vs Chreston
DESCRIPTION:3/4 | Soccer\nPutnam County Family YMCA\n
URL;VALUE=URI:https://ygametime.com/branch/putnam/sports/2024-spring-soccer/18880/?utm_medium=calendar&utm_source=team_cal&utm_content=league_url#game-447480
LOCATION:Field 9 (3/4)
BEGIN:VALARM
TRIGGER:-P2H
ACTION:DISPLAY
DESCRIPTION:Tellez vs Chreston
END:VALARM
END:VEVENT
BEGIN:VEVENT
UID:putnam-447486@ygametime.com
DTSTAMP:20240413T143000Z
DTSTART;TZID=America/New_York:20240413T103000
DURATION:PT0H60M0S
SUMMARY:McBreen vs Tellez
DESCRIPTION:3/4 | Soccer\nPutnam County Family YMCA\n
URL;VALUE=URI:https://ygametime.com/branch/putnam/sports/2024-spring-soccer/18880/?utm_medium=calendar&utm_source=team_cal&utm_content=league_url#game-447486
LOCATION:Field 7 (3/4)
BEGIN:VALARM
TRIGGER:-P2H
ACTION:DISPLAY
DESCRIPTION:McBreen vs Tellez
END:VALARM
END:VEVENT
BEGIN:VEVENT
UID:putnam-447498@ygametime.com
DTSTAMP:20240427T133000Z
DTSTART;TZID=America/New_York:20240427T093000
DURATION:PT0H60M0S
SUMMARY:Baugh vs Tellez
DESCRIPTION:3/4 | Soccer\nPutnam County Family YMCA\n
URL;VALUE=URI:https://ygametime.com/branch/putnam/sports/2024-spring-soccer/18880/?utm_medium=calendar&utm_source=team_cal&utm_content=league_url#game-447498
LOCATION:Field 9 (3/4)
BEGIN:VALARM
TRIGGER:-P2H
ACTION:DISPLAY
DESCRIPTION:Baugh vs Tellez
END:VALARM
END:VEVENT
BEGIN:VEVENT
UID:putnam-447513@ygametime.com
DTSTAMP:20240511T143000Z
DTSTART;TZID=America/New_York:20240511T103000
DURATION:PT0H60M0S
SUMMARY:Mapes vs Tellez
DESCRIPTION:3/4 | Soccer\nPutnam County Family YMCA\n
URL;VALUE=URI:https://ygametime.com/branch/putnam/sports/2024-spring-soccer/18880/?utm_medium=calendar&utm_source=team_cal&utm_content=league_url#game-447513
LOCATION:Field 7 (3/4)
BEGIN:VALARM
TRIGGER:-P2H
ACTION:DISPLAY
DESCRIPTION:Mapes vs Tellez
END:VALARM
END:VEVENT
BEGIN:VEVENT
UID:putnam-466979@ygametime.com
DTSTAMP:20240516T213000Z
DTSTART;TZID=America/New_York:20240516T173000
DURATION:PT0H60M0S
SUMMARY:Tellez vs Julian
DESCRIPTION:3/4 | Soccer\nPutnam County Family YMCA\n
URL;VALUE=URI:https://ygametime.com/branch/putnam/sports/2024-spring-soccer/18880/?utm_medium=calendar&utm_source=team_cal&utm_content=league_url#game-466979
LOCATION:Field 9 (3/4)
BEGIN:VALARM
TRIGGER:-P2H
ACTION:DISPLAY
DESCRIPTION:Tellez vs Julian
END:VALARM
END:VEVENT
END:VCALENDAR

