BEGIN:VCALENDAR
VERSION:2.0
PRODID:-//YGAMETIME.com//YGT iCal Creator//EN
METHOD:PUBLISH
X-PUBLISHED-TTL:PT6H
REFRESH-INTERVAL;VALUE=DURATION:PT6H
CALSCALE:GREGORIAN
X-WR-CALNAME:YGAMETIME CALENDAR
BEGIN:VTIMEZONE
TZID:America/New_York
X-LIC-LOCATION:America/New_York
BEGIN:DAYLIGHT
TZOFFSETFROM:-0500
TZOFFSETTO:-0400
TZNAME:EDT
DTSTART:19700308T020000
RRULE:FREQ=YEARLY;BYMONTH=3;BYDAY=2SU
END:DAYLIGHT
BEGIN:STANDARD
TZOFFSETFROM:-0400
TZOFFSETTO:-0500
TZNAME:EST
DTSTART:19701101T020000
RRULE:FREQ=YEARLY;BYMONTH=11;BYDAY=1SU
END:STANDARD
END:VTIMEZONE
BEGIN:VEVENT
UID:putnam-447482@ygametime.com
DTSTAMP:20240406T124500Z
DTSTART;TZID=America/New_York:20240406T084500
DURATION:PT0H60M0S
SUMMARY:Henson vs Hafner
DESCRIPTION:3/4 | Soccer\nPutnam County Family YMCA\n
URL;VALUE=URI:https://ygametime.com/branch/putnam/sports/2024-spring-soccer/18880/?utm_medium=calendar&utm_source=team_cal&utm_content=league_url#game-447482
LOCATION:Field 8 (3/4)
BEGIN:VALARM
TRIGGER:-P2H
ACTION:DISPLAY
DESCRIPTION:Henson vs Hafner
END:VALARM
END:VEVENT
BEGIN:VEVENT
UID:putnam-447488@ygametime.com
DTSTAMP:20240413T143000Z
DTSTART;TZID=America/New_York:20240413T103000
DURATION:PT0H60M0S
SUMMARY:Gilpin vs Henson
DESCRIPTION:3/4 | Soccer\nPutnam County Family YMCA\n
URL;VALUE=URI:https://ygametime.com/branch/putnam/sports/2024-spring-soccer/18880/?utm_medium=calendar&utm_source=team_cal&utm_content=league_url#game-447488
LOCATION:Field 9 (3/4)
BEGIN:VALARM
TRIGGER:-P2H
ACTION:DISPLAY
DESCRIPTION:Gilpin vs Henson
END:VALARM
END:VEVENT
BEGIN:VEVENT
UID:putnam-447497@ygametime.com
DTSTAMP:20240427T143000Z
DTSTART;TZID=America/New_York:20240427T103000
DURATION:PT0H60M0S
SUMMARY:Romine vs Henson
DESCRIPTION:3/4 | Soccer\nPutnam County Family YMCA\n
URL;VALUE=URI:https://ygametime.com/branch/putnam/sports/2024-spring-soccer/18880/?utm_medium=calendar&utm_source=team_cal&utm_content=league_url#game-447497
LOCATION:Field 7 (3/4)
BEGIN:VALARM
TRIGGER:-P2H
ACTION:DISPLAY
DESCRIPTION:Romine vs Henson
END:VALARM
END:VEVENT
BEGIN:VEVENT
UID:putnam-447511@ygametime.com
DTSTAMP:20240511T143000Z
DTSTART;TZID=America/New_York:20240511T103000
DURATION:PT0H60M0S
SUMMARY:Cotten vs Henson
DESCRIPTION:3/4 | Soccer\nPutnam County Family YMCA\n
URL;VALUE=URI:https://ygametime.com/branch/putnam/sports/2024-spring-soccer/18880/?utm_medium=calendar&utm_source=team_cal&utm_content=league_url#game-447511
LOCATION:Field 9 (3/4)
BEGIN:VALARM
TRIGGER:-P2H
ACTION:DISPLAY
DESCRIPTION:Cotten vs Henson
END:VALARM
END:VEVENT
BEGIN:VEVENT
UID:putnam-466815@ygametime.com
DTSTAMP:20240515T214500Z
DTSTART;TZID=America/New_York:20240515T174500
DURATION:PT0H60M0S
SUMMARY:Chreston vs Henson
DESCRIPTION:3/4 | Soccer\nPutnam County Family YMCA\n
URL;VALUE=URI:https://ygametime.com/branch/putnam/sports/2024-spring-soccer/18880/?utm_medium=calendar&utm_source=team_cal&utm_content=league_url#game-466815
LOCATION:Field 9 (3/4)
BEGIN:VALARM
TRIGGER:-P2H
ACTION:DISPLAY
DESCRIPTION:Chreston vs Henson
END:VALARM
END:VEVENT
BEGIN:VEVENT
UID:putnam-467783@ygametime.com
DTSTAMP:20240520T213000Z
DTSTART;TZID=America/New_York:20240520T173000
DURATION:PT0H60M0S
SUMMARY:Baugh vs Henson
DESCRIPTION:3/4 | Soccer\nPutnam County Family YMCA\n
URL;VALUE=URI:https://ygametime.com/branch/putnam/sports/2024-spring-soccer/18880/?utm_medium=calendar&utm_source=team_cal&utm_content=league_url#game-467783
LOCATION:Field 7 (3/4)
BEGIN:VALARM
TRIGGER:-P2H
ACTION:DISPLAY
DESCRIPTION:Baugh vs Henson
END:VALARM
END:VEVENT
END:VCALENDAR

