BEGIN:VCALENDAR
VERSION:2.0
PRODID:-//YGAMETIME.com//YGT iCal Creator//EN
METHOD:PUBLISH
X-PUBLISHED-TTL:PT6H
REFRESH-INTERVAL;VALUE=DURATION:PT6H
CALSCALE:GREGORIAN
X-WR-CALNAME:YGAMETIME CALENDAR
BEGIN:VTIMEZONE
TZID:America/New_York
X-LIC-LOCATION:America/New_York
BEGIN:DAYLIGHT
TZOFFSETFROM:-0500
TZOFFSETTO:-0400
TZNAME:EDT
DTSTART:19700308T020000
RRULE:FREQ=YEARLY;BYMONTH=3;BYDAY=2SU
END:DAYLIGHT
BEGIN:STANDARD
TZOFFSETFROM:-0400
TZOFFSETTO:-0500
TZNAME:EST
DTSTART:19701101T020000
RRULE:FREQ=YEARLY;BYMONTH=11;BYDAY=1SU
END:STANDARD
END:VTIMEZONE
BEGIN:VEVENT
UID:putnam-447857@ygametime.com
DTSTAMP:20240406T133000Z
DTSTART;TZID=America/New_York:20240406T093000
DURATION:PT0H60M0S
SUMMARY:Doss vs King
DESCRIPTION:7/8 | Soccer\nPutnam County Family YMCA\n
URL;VALUE=URI:https://ygametime.com/branch/putnam/sports/2024-spring-soccer/18882/?utm_medium=calendar&utm_source=team_cal&utm_content=league_url#game-447857
LOCATION:Field 4 (7/8)
BEGIN:VALARM
TRIGGER:-P2H
ACTION:DISPLAY
DESCRIPTION:Doss vs King
END:VALARM
END:VEVENT
BEGIN:VEVENT
UID:putnam-447859@ygametime.com
DTSTAMP:20240413T153000Z
DTSTART;TZID=America/New_York:20240413T113000
DURATION:PT0H60M0S
SUMMARY:Malone vs King
DESCRIPTION:7/8 | Soccer\nPutnam County Family YMCA\n
URL;VALUE=URI:https://ygametime.com/branch/putnam/sports/2024-spring-soccer/18882/?utm_medium=calendar&utm_source=team_cal&utm_content=league_url#game-447859
LOCATION:Field 4 (7/8)
BEGIN:VALARM
TRIGGER:-P2H
ACTION:DISPLAY
DESCRIPTION:Malone vs King
END:VALARM
END:VEVENT
BEGIN:VEVENT
UID:putnam-447892@ygametime.com
DTSTAMP:20240430T211500Z
DTSTART;TZID=America/New_York:20240430T171500
DURATION:PT0H60M0S
SUMMARY:Mason vs King
DESCRIPTION:7/8 | Soccer\nPutnam County Family YMCA\n
URL;VALUE=URI:https://ygametime.com/branch/putnam/sports/2024-spring-soccer/18882/?utm_medium=calendar&utm_source=team_cal&utm_content=league_url#game-447892
LOCATION:Field 5 (7/8)
BEGIN:VALARM
TRIGGER:-P2H
ACTION:DISPLAY
DESCRIPTION:Mason vs King
END:VALARM
END:VEVENT
BEGIN:VEVENT
UID:putnam-447884@ygametime.com
DTSTAMP:20240511T123000Z
DTSTART;TZID=America/New_York:20240511T083000
DURATION:PT0H60M0S
SUMMARY:King vs Stratton
DESCRIPTION:7/8 | Soccer\nPutnam County Family YMCA\n
URL;VALUE=URI:https://ygametime.com/branch/putnam/sports/2024-spring-soccer/18882/?utm_medium=calendar&utm_source=team_cal&utm_content=league_url#game-447884
LOCATION:Field 5 (7/8)
BEGIN:VALARM
TRIGGER:-P2H
ACTION:DISPLAY
DESCRIPTION:King vs Stratton
END:VALARM
END:VEVENT
BEGIN:VEVENT
UID:putnam-467069@ygametime.com
DTSTAMP:20240514T221500Z
DTSTART;TZID=America/New_York:20240514T181500
DURATION:PT0H60M0S
SUMMARY:Bottoms vs King
DESCRIPTION:7/8 | Soccer\nPutnam County Family YMCA\n
URL;VALUE=URI:https://ygametime.com/branch/putnam/sports/2024-spring-soccer/18882/?utm_medium=calendar&utm_source=team_cal&utm_content=league_url#game-467069
LOCATION:Field 5 (7/8)
BEGIN:VALARM
TRIGGER:-P2H
ACTION:DISPLAY
DESCRIPTION:Bottoms vs King
END:VALARM
END:VEVENT
BEGIN:VEVENT
UID:putnam-467788@ygametime.com
DTSTAMP:20240521T221500Z
DTSTART;TZID=America/New_York:20240521T181500
DURATION:PT0H60M0S
SUMMARY:Jones vs King
DESCRIPTION:7/8 | Soccer\nPutnam County Family YMCA\n
URL;VALUE=URI:https://ygametime.com/branch/putnam/sports/2024-spring-soccer/18882/?utm_medium=calendar&utm_source=team_cal&utm_content=league_url#game-467788
LOCATION:Field 5 (7/8)
BEGIN:VALARM
TRIGGER:-P2H
ACTION:DISPLAY
DESCRIPTION:Jones vs King
END:VALARM
END:VEVENT
BEGIN:VEVENT
UID:putnam-467886@ygametime.com
DTSTAMP:20240523T221500Z
DTSTART;TZID=America/New_York:20240523T181500
DURATION:PT0H60M0S
SUMMARY:Scantland vs King
DESCRIPTION:7/8 | Soccer\nPutnam County Family YMCA\n
URL;VALUE=URI:https://ygametime.com/branch/putnam/sports/2024-spring-soccer/18882/?utm_medium=calendar&utm_source=team_cal&utm_content=league_url#game-467886
LOCATION:Field 5 (7/8)
BEGIN:VALARM
TRIGGER:-P2H
ACTION:DISPLAY
DESCRIPTION:Scantland vs King
END:VALARM
END:VEVENT
END:VCALENDAR

