BEGIN:VCALENDAR
VERSION:2.0
PRODID:-//YGAMETIME.com//YGT iCal Creator//EN
METHOD:PUBLISH
X-PUBLISHED-TTL:PT6H
REFRESH-INTERVAL;VALUE=DURATION:PT6H
CALSCALE:GREGORIAN
X-WR-CALNAME:YGAMETIME CALENDAR
BEGIN:VTIMEZONE
TZID:America/New_York
X-LIC-LOCATION:America/New_York
BEGIN:DAYLIGHT
TZOFFSETFROM:-0500
TZOFFSETTO:-0400
TZNAME:EDT
DTSTART:19700308T020000
RRULE:FREQ=YEARLY;BYMONTH=3;BYDAY=2SU
END:DAYLIGHT
BEGIN:STANDARD
TZOFFSETFROM:-0400
TZOFFSETTO:-0500
TZNAME:EST
DTSTART:19701101T020000
RRULE:FREQ=YEARLY;BYMONTH=11;BYDAY=1SU
END:STANDARD
END:VTIMEZONE
BEGIN:VEVENT
UID:putnam-447394@ygametime.com
DTSTAMP:20240406T140000Z
DTSTART;TZID=America/New_York:20240406T100000
DURATION:PT0H90M0S
SUMMARY:Brown vs Bowers
DESCRIPTION:11/14 | Soccer\nPutnam County Family YMCA\n
URL;VALUE=URI:https://ygametime.com/branch/putnam/sports/2024-spring-soccer/19006/?utm_medium=calendar&utm_source=team_cal&utm_content=league_url#game-447394
LOCATION:Field 6 (9/11 Game Field)
BEGIN:VALARM
TRIGGER:-P2H
ACTION:DISPLAY
DESCRIPTION:Brown vs Bowers
END:VALARM
END:VEVENT
BEGIN:VEVENT
UID:putnam-447395@ygametime.com
DTSTAMP:20240413T131500Z
DTSTART;TZID=America/New_York:20240413T091500
DURATION:PT0H90M0S
SUMMARY:Meadows vs Bowers
DESCRIPTION:11/14 | Soccer\nPutnam County Family YMCA\n
URL;VALUE=URI:https://ygametime.com/branch/putnam/sports/2024-spring-soccer/19006/?utm_medium=calendar&utm_source=team_cal&utm_content=league_url#game-447395
LOCATION:Field 6 (9/11 Game Field)
BEGIN:VALARM
TRIGGER:-P2H
ACTION:DISPLAY
DESCRIPTION:Meadows vs Bowers
END:VALARM
END:VEVENT
BEGIN:VEVENT
UID:putnam-447400@ygametime.com
DTSTAMP:20240427T153000Z
DTSTART;TZID=America/New_York:20240427T113000
DURATION:PT0H90M0S
SUMMARY:Bucher vs Bowers
DESCRIPTION:11/14 | Soccer\nPutnam County Family YMCA\n
URL;VALUE=URI:https://ygametime.com/branch/putnam/sports/2024-spring-soccer/19006/?utm_medium=calendar&utm_source=team_cal&utm_content=league_url#game-447400
LOCATION:Field 6 (9/11 Game Field)
BEGIN:VALARM
TRIGGER:-P2H
ACTION:DISPLAY
DESCRIPTION:Bucher vs Bowers
END:VALARM
END:VEVENT
BEGIN:VEVENT
UID:putnam-447404@ygametime.com
DTSTAMP:20240511T153000Z
DTSTART;TZID=America/New_York:20240511T113000
DURATION:PT0H90M0S
SUMMARY:Meadows vs Bowers
DESCRIPTION:11/14 | Soccer\nPutnam County Family YMCA\n
URL;VALUE=URI:https://ygametime.com/branch/putnam/sports/2024-spring-soccer/19006/?utm_medium=calendar&utm_source=team_cal&utm_content=league_url#game-447404
LOCATION:Field 6 (9/11 Game Field)
BEGIN:VALARM
TRIGGER:-P2H
ACTION:DISPLAY
DESCRIPTION:Meadows vs Bowers
END:VALARM
END:VEVENT
BEGIN:VEVENT
UID:putnam-467155@ygametime.com
DTSTAMP:20240511T164500Z
DTSTART;TZID=America/New_York:20240511T124500
DURATION:PT0H90M0S
SUMMARY:Brown vs Bowers
DESCRIPTION:11/14 | Soccer\nPutnam County Family YMCA\n
URL;VALUE=URI:https://ygametime.com/branch/putnam/sports/2024-spring-soccer/19006/?utm_medium=calendar&utm_source=team_cal&utm_content=league_url#game-467155
LOCATION:Field 6 (9/11 Game Field)
BEGIN:VALARM
TRIGGER:-P2H
ACTION:DISPLAY
DESCRIPTION:Brown vs Bowers
END:VALARM
END:VEVENT
BEGIN:VEVENT
UID:putnam-447405@ygametime.com
DTSTAMP:20240513T221500Z
DTSTART;TZID=America/New_York:20240513T181500
DURATION:PT0H90M0S
SUMMARY:Bowers vs Meadows
DESCRIPTION:11/14 | Soccer\nPutnam County Family YMCA\n
URL;VALUE=URI:https://ygametime.com/branch/putnam/sports/2024-spring-soccer/19006/?utm_medium=calendar&utm_source=team_cal&utm_content=league_url#game-447405
LOCATION:Field 6 (9/11 Game Field)
BEGIN:VALARM
TRIGGER:-P2H
ACTION:DISPLAY
DESCRIPTION:Bowers vs Meadows
END:VALARM
END:VEVENT
BEGIN:VEVENT
UID:putnam-447407@ygametime.com
DTSTAMP:20240520T220000Z
DTSTART;TZID=America/New_York:20240520T180000
DURATION:PT0H90M0S
SUMMARY:Bowers vs Bucher
DESCRIPTION:11/14 | Soccer\nPutnam County Family YMCA\n
URL;VALUE=URI:https://ygametime.com/branch/putnam/sports/2024-spring-soccer/19006/?utm_medium=calendar&utm_source=team_cal&utm_content=league_url#game-447407
LOCATION:Field 6 (9/11 Game Field)
BEGIN:VALARM
TRIGGER:-P2H
ACTION:DISPLAY
DESCRIPTION:Bowers vs Bucher
END:VALARM
END:VEVENT
END:VCALENDAR

