BEGIN:VCALENDAR
VERSION:2.0
PRODID:-//YGAMETIME.com//YGT iCal Creator//EN
METHOD:PUBLISH
X-PUBLISHED-TTL:PT6H
REFRESH-INTERVAL;VALUE=DURATION:PT6H
CALSCALE:GREGORIAN
X-WR-CALNAME:YGAMETIME CALENDAR
BEGIN:VTIMEZONE
TZID:America/New_York
X-LIC-LOCATION:America/New_York
BEGIN:DAYLIGHT
TZOFFSETFROM:-0500
TZOFFSETTO:-0400
TZNAME:EDT
DTSTART:19700308T020000
RRULE:FREQ=YEARLY;BYMONTH=3;BYDAY=2SU
END:DAYLIGHT
BEGIN:STANDARD
TZOFFSETFROM:-0400
TZOFFSETTO:-0500
TZNAME:EST
DTSTART:19701101T020000
RRULE:FREQ=YEARLY;BYMONTH=11;BYDAY=1SU
END:STANDARD
END:VTIMEZONE
BEGIN:VEVENT
UID:putnam-448422@ygametime.com
DTSTAMP:20240406T133000Z
DTSTART;TZID=America/New_York:20240406T093000
DURATION:PT0H60M0S
SUMMARY:Smith vs Dartez
DESCRIPTION:5/6 | Soccer\nPutnam County Family YMCA\n
URL;VALUE=URI:https://ygametime.com/branch/putnam/sports/2024-spring-soccer/18881/?utm_medium=calendar&utm_source=team_cal&utm_content=league_url#game-448422
LOCATION:Field 3 (5/6)
BEGIN:VALARM
TRIGGER:-P2H
ACTION:DISPLAY
DESCRIPTION:Smith vs Dartez
END:VALARM
END:VEVENT
BEGIN:VEVENT
UID:putnam-448431@ygametime.com
DTSTAMP:20240413T153000Z
DTSTART;TZID=America/New_York:20240413T113000
DURATION:PT0H60M0S
SUMMARY:Watson vs Smith
DESCRIPTION:5/6 | Soccer\nPutnam County Family YMCA\n
URL;VALUE=URI:https://ygametime.com/branch/putnam/sports/2024-spring-soccer/18881/?utm_medium=calendar&utm_source=team_cal&utm_content=league_url#game-448431
LOCATION:Field 3 (5/6)
BEGIN:VALARM
TRIGGER:-P2H
ACTION:DISPLAY
DESCRIPTION:Watson vs Smith
END:VALARM
END:VEVENT
BEGIN:VEVENT
UID:putnam-448443@ygametime.com
DTSTAMP:20240427T163000Z
DTSTART;TZID=America/New_York:20240427T123000
DURATION:PT0H60M0S
SUMMARY:Grimm vs Smith
DESCRIPTION:5/6 | Soccer\nPutnam County Family YMCA\n
URL;VALUE=URI:https://ygametime.com/branch/putnam/sports/2024-spring-soccer/18881/?utm_medium=calendar&utm_source=team_cal&utm_content=league_url#game-448443
LOCATION:Field 2 (5/6)
BEGIN:VALARM
TRIGGER:-P2H
ACTION:DISPLAY
DESCRIPTION:Grimm vs Smith
END:VALARM
END:VEVENT
BEGIN:VEVENT
UID:putnam-466818@ygametime.com
DTSTAMP:20240506T221500Z
DTSTART;TZID=America/New_York:20240506T181500
DURATION:PT0H60M0S
SUMMARY:Smith vs Ross
DESCRIPTION:5/6 | Soccer\nPutnam County Family YMCA\n
URL;VALUE=URI:https://ygametime.com/branch/putnam/sports/2024-spring-soccer/18881/?utm_medium=calendar&utm_source=team_cal&utm_content=league_url#game-466818
LOCATION:Field 3 (5/6)
BEGIN:VALARM
TRIGGER:-P2H
ACTION:DISPLAY
DESCRIPTION:Smith vs Ross
END:VALARM
END:VEVENT
BEGIN:VEVENT
UID:putnam-448453@ygametime.com
DTSTAMP:20240511T143000Z
DTSTART;TZID=America/New_York:20240511T103000
DURATION:PT0H60M0S
SUMMARY:Garvey vs Smith
DESCRIPTION:5/6 | Soccer\nPutnam County Family YMCA\n
URL;VALUE=URI:https://ygametime.com/branch/putnam/sports/2024-spring-soccer/18881/?utm_medium=calendar&utm_source=team_cal&utm_content=league_url#game-448453
LOCATION:Field 2 (5/6)
BEGIN:VALARM
TRIGGER:-P2H
ACTION:DISPLAY
DESCRIPTION:Garvey vs Smith
END:VALARM
END:VEVENT
BEGIN:VEVENT
UID:putnam-466864@ygametime.com
DTSTAMP:20240513T221500Z
DTSTART;TZID=America/New_York:20240513T181500
DURATION:PT0H60M0S
SUMMARY:Smith vs Jones
DESCRIPTION:5/6 | Soccer\nPutnam County Family YMCA\n
URL;VALUE=URI:https://ygametime.com/branch/putnam/sports/2024-spring-soccer/18881/?utm_medium=calendar&utm_source=team_cal&utm_content=league_url#game-466864
LOCATION:Field 3 (5/6)
BEGIN:VALARM
TRIGGER:-P2H
ACTION:DISPLAY
DESCRIPTION:Smith vs Jones
END:VALARM
END:VEVENT
BEGIN:VEVENT
UID:putnam-467795@ygametime.com
DTSTAMP:20240520T213000Z
DTSTART;TZID=America/New_York:20240520T173000
DURATION:PT0H60M0S
SUMMARY:Davis vs Smith
DESCRIPTION:5/6 | Soccer\nPutnam County Family YMCA\n
URL;VALUE=URI:https://ygametime.com/branch/putnam/sports/2024-spring-soccer/18881/?utm_medium=calendar&utm_source=team_cal&utm_content=league_url#game-467795
LOCATION:Field 2 (5/6)
BEGIN:VALARM
TRIGGER:-P2H
ACTION:DISPLAY
DESCRIPTION:Davis vs Smith
END:VALARM
END:VEVENT
END:VCALENDAR

