BEGIN:VCALENDAR
VERSION:2.0
PRODID:-//YGAMETIME.com//YGT iCal Creator//EN
METHOD:PUBLISH
X-PUBLISHED-TTL:PT6H
REFRESH-INTERVAL;VALUE=DURATION:PT6H
CALSCALE:GREGORIAN
X-WR-CALNAME:YGAMETIME CALENDAR
BEGIN:VTIMEZONE
TZID:America/New_York
X-LIC-LOCATION:America/New_York
BEGIN:DAYLIGHT
TZOFFSETFROM:-0500
TZOFFSETTO:-0400
TZNAME:EDT
DTSTART:19700308T020000
RRULE:FREQ=YEARLY;BYMONTH=3;BYDAY=2SU
END:DAYLIGHT
BEGIN:STANDARD
TZOFFSETFROM:-0400
TZOFFSETTO:-0500
TZNAME:EST
DTSTART:19701101T020000
RRULE:FREQ=YEARLY;BYMONTH=11;BYDAY=1SU
END:STANDARD
END:VTIMEZONE
BEGIN:VEVENT
UID:putnam-447853@ygametime.com
DTSTAMP:20240406T143000Z
DTSTART;TZID=America/New_York:20240406T103000
DURATION:PT0H60M0S
SUMMARY:Smith vs Malone
DESCRIPTION:7/8 | Soccer\nPutnam County Family YMCA\n
URL;VALUE=URI:https://ygametime.com/branch/putnam/sports/2024-spring-soccer/18882/?utm_medium=calendar&utm_source=team_cal&utm_content=league_url#game-447853
LOCATION:Field 5 (7/8)
BEGIN:VALARM
TRIGGER:-P2H
ACTION:DISPLAY
DESCRIPTION:Smith vs Malone
END:VALARM
END:VEVENT
BEGIN:VEVENT
UID:putnam-447863@ygametime.com
DTSTAMP:20240413T163000Z
DTSTART;TZID=America/New_York:20240413T123000
DURATION:PT0H60M0S
SUMMARY:Currier vs Smith
DESCRIPTION:7/8 | Soccer\nPutnam County Family YMCA\n
URL;VALUE=URI:https://ygametime.com/branch/putnam/sports/2024-spring-soccer/18882/?utm_medium=calendar&utm_source=team_cal&utm_content=league_url#game-447863
LOCATION:Field 5 (7/8)
BEGIN:VALARM
TRIGGER:-P2H
ACTION:DISPLAY
DESCRIPTION:Currier vs Smith
END:VALARM
END:VEVENT
BEGIN:VEVENT
UID:putnam-447875@ygametime.com
DTSTAMP:20240427T153000Z
DTSTART;TZID=America/New_York:20240427T113000
DURATION:PT0H60M0S
SUMMARY:Smith vs Doss
DESCRIPTION:7/8 | Soccer\nPutnam County Family YMCA\n
URL;VALUE=URI:https://ygametime.com/branch/putnam/sports/2024-spring-soccer/18882/?utm_medium=calendar&utm_source=team_cal&utm_content=league_url#game-447875
LOCATION:Field 5 (7/8)
BEGIN:VALARM
TRIGGER:-P2H
ACTION:DISPLAY
DESCRIPTION:Smith vs Doss
END:VALARM
END:VEVENT
BEGIN:VEVENT
UID:putnam-447887@ygametime.com
DTSTAMP:20240511T133000Z
DTSTART;TZID=America/New_York:20240511T093000
DURATION:PT0H60M0S
SUMMARY:Smith vs Jones
DESCRIPTION:7/8 | Soccer\nPutnam County Family YMCA\n
URL;VALUE=URI:https://ygametime.com/branch/putnam/sports/2024-spring-soccer/18882/?utm_medium=calendar&utm_source=team_cal&utm_content=league_url#game-447887
LOCATION:Field 4 (7/8)
BEGIN:VALARM
TRIGGER:-P2H
ACTION:DISPLAY
DESCRIPTION:Smith vs Jones
END:VALARM
END:VEVENT
BEGIN:VEVENT
UID:putnam-467068@ygametime.com
DTSTAMP:20240513T213000Z
DTSTART;TZID=America/New_York:20240513T173000
DURATION:PT0H60M0S
SUMMARY:Smith vs Scantland
DESCRIPTION:7/8 | Soccer\nPutnam County Family YMCA\n
URL;VALUE=URI:https://ygametime.com/branch/putnam/sports/2024-spring-soccer/18882/?utm_medium=calendar&utm_source=team_cal&utm_content=league_url#game-467068
LOCATION:Field 5 (7/8)
BEGIN:VALARM
TRIGGER:-P2H
ACTION:DISPLAY
DESCRIPTION:Smith vs Scantland
END:VALARM
END:VEVENT
BEGIN:VEVENT
UID:putnam-467786@ygametime.com
DTSTAMP:20240520T223000Z
DTSTART;TZID=America/New_York:20240520T183000
DURATION:PT0H60M0S
SUMMARY:Eddington vs Smith
DESCRIPTION:7/8 | Soccer\nPutnam County Family YMCA\n
URL;VALUE=URI:https://ygametime.com/branch/putnam/sports/2024-spring-soccer/18882/?utm_medium=calendar&utm_source=team_cal&utm_content=league_url#game-467786
LOCATION:Field 4 (7/8)
BEGIN:VALARM
TRIGGER:-P2H
ACTION:DISPLAY
DESCRIPTION:Eddington vs Smith
END:VALARM
END:VEVENT
END:VCALENDAR

