BEGIN:VCALENDAR
VERSION:2.0
PRODID:-//YGAMETIME.com//YGT iCal Creator//EN
METHOD:PUBLISH
X-PUBLISHED-TTL:PT6H
REFRESH-INTERVAL;VALUE=DURATION:PT6H
CALSCALE:GREGORIAN
X-WR-CALNAME:YGAMETIME CALENDAR
BEGIN:VTIMEZONE
TZID:America/New_York
X-LIC-LOCATION:America/New_York
BEGIN:DAYLIGHT
TZOFFSETFROM:-0500
TZOFFSETTO:-0400
TZNAME:EDT
DTSTART:19700308T020000
RRULE:FREQ=YEARLY;BYMONTH=3;BYDAY=2SU
END:DAYLIGHT
BEGIN:STANDARD
TZOFFSETFROM:-0400
TZOFFSETTO:-0500
TZNAME:EST
DTSTART:19701101T020000
RRULE:FREQ=YEARLY;BYMONTH=11;BYDAY=1SU
END:STANDARD
END:VTIMEZONE
BEGIN:VEVENT
UID:putnam-447484@ygametime.com
DTSTAMP:20240413T123000Z
DTSTART;TZID=America/New_York:20240413T083000
DURATION:PT0H60M0S
SUMMARY:Paramore vs Baugh
DESCRIPTION:3/4 | Soccer\nPutnam County Family YMCA\n
URL;VALUE=URI:https://ygametime.com/branch/putnam/sports/2024-spring-soccer/18880/?utm_medium=calendar&utm_source=team_cal&utm_content=league_url#game-447484
LOCATION:Field 9 (3/4)
BEGIN:VALARM
TRIGGER:-P2H
ACTION:DISPLAY
DESCRIPTION:Paramore vs Baugh
END:VALARM
END:VEVENT
BEGIN:VEVENT
UID:putnam-447515@ygametime.com
DTSTAMP:20240416T211500Z
DTSTART;TZID=America/New_York:20240416T171500
DURATION:PT0H60M0S
SUMMARY:Cotten vs Paramore
DESCRIPTION:3/4 | Soccer\nPutnam County Family YMCA\n
URL;VALUE=URI:https://ygametime.com/branch/putnam/sports/2024-spring-soccer/18880/?utm_medium=calendar&utm_source=team_cal&utm_content=league_url#game-447515
LOCATION:Field 7 (3/4)
BEGIN:VALARM
TRIGGER:-P2H
ACTION:DISPLAY
DESCRIPTION:Cotten vs Paramore
END:VALARM
END:VEVENT
BEGIN:VEVENT
UID:putnam-447500@ygametime.com
DTSTAMP:20240427T123000Z
DTSTART;TZID=America/New_York:20240427T083000
DURATION:PT0H60M0S
SUMMARY:McBreen vs Paramore
DESCRIPTION:3/4 | Soccer\nPutnam County Family YMCA\n
URL;VALUE=URI:https://ygametime.com/branch/putnam/sports/2024-spring-soccer/18880/?utm_medium=calendar&utm_source=team_cal&utm_content=league_url#game-447500
LOCATION:Field 7 (3/4)
BEGIN:VALARM
TRIGGER:-P2H
ACTION:DISPLAY
DESCRIPTION:McBreen vs Paramore
END:VALARM
END:VEVENT
BEGIN:VEVENT
UID:putnam-450529@ygametime.com
DTSTAMP:20240507T211500Z
DTSTART;TZID=America/New_York:20240507T171500
DURATION:PT0H60M0S
SUMMARY:Gilpin vs Paramore
DESCRIPTION:3/4 | Soccer\nPutnam County Family YMCA\n
URL;VALUE=URI:https://ygametime.com/branch/putnam/sports/2024-spring-soccer/18880/?utm_medium=calendar&utm_source=team_cal&utm_content=league_url#game-450529
LOCATION:Field 8 (3/4)
BEGIN:VALARM
TRIGGER:-P2H
ACTION:DISPLAY
DESCRIPTION:Gilpin vs Paramore
END:VALARM
END:VEVENT
BEGIN:VEVENT
UID:putnam-447512@ygametime.com
DTSTAMP:20240511T123000Z
DTSTART;TZID=America/New_York:20240511T083000
DURATION:PT0H60M0S
SUMMARY:Julian vs Paramore
DESCRIPTION:3/4 | Soccer\nPutnam County Family YMCA\n
URL;VALUE=URI:https://ygametime.com/branch/putnam/sports/2024-spring-soccer/18880/?utm_medium=calendar&utm_source=team_cal&utm_content=league_url#game-447512
LOCATION:Field 7 (3/4)
BEGIN:VALARM
TRIGGER:-P2H
ACTION:DISPLAY
DESCRIPTION:Julian vs Paramore
END:VALARM
END:VEVENT
BEGIN:VEVENT
UID:putnam-467785@ygametime.com
DTSTAMP:20240521T211500Z
DTSTART;TZID=America/New_York:20240521T171500
DURATION:PT0H60M0S
SUMMARY:Romine vs Paramore
DESCRIPTION:3/4 | Soccer\nPutnam County Family YMCA\n
URL;VALUE=URI:https://ygametime.com/branch/putnam/sports/2024-spring-soccer/18880/?utm_medium=calendar&utm_source=team_cal&utm_content=league_url#game-467785
LOCATION:Field 8 (3/4)
BEGIN:VALARM
TRIGGER:-P2H
ACTION:DISPLAY
DESCRIPTION:Romine vs Paramore
END:VALARM
END:VEVENT
END:VCALENDAR

