BEGIN:VCALENDAR
VERSION:2.0
PRODID:-//YGAMETIME.com//YGT iCal Creator//EN
METHOD:PUBLISH
X-PUBLISHED-TTL:PT6H
REFRESH-INTERVAL;VALUE=DURATION:PT6H
CALSCALE:GREGORIAN
X-WR-CALNAME:YGAMETIME CALENDAR
BEGIN:VTIMEZONE
TZID:America/New_York
X-LIC-LOCATION:America/New_York
BEGIN:DAYLIGHT
TZOFFSETFROM:-0500
TZOFFSETTO:-0400
TZNAME:EDT
DTSTART:19700308T020000
RRULE:FREQ=YEARLY;BYMONTH=3;BYDAY=2SU
END:DAYLIGHT
BEGIN:STANDARD
TZOFFSETFROM:-0400
TZOFFSETTO:-0500
TZNAME:EST
DTSTART:19701101T020000
RRULE:FREQ=YEARLY;BYMONTH=11;BYDAY=1SU
END:STANDARD
END:VTIMEZONE
BEGIN:VEVENT
UID:putnam-448421@ygametime.com
DTSTAMP:20240406T123000Z
DTSTART;TZID=America/New_York:20240406T083000
DURATION:PT0H60M0S
SUMMARY:Ross vs Grimm
DESCRIPTION:5/6 | Soccer\nPutnam County Family YMCA\n
URL;VALUE=URI:https://ygametime.com/branch/putnam/sports/2024-spring-soccer/18881/?utm_medium=calendar&utm_source=team_cal&utm_content=league_url#game-448421
LOCATION:Field 2 (5/6)
BEGIN:VALARM
TRIGGER:-P2H
ACTION:DISPLAY
DESCRIPTION:Ross vs Grimm
END:VALARM
END:VEVENT
BEGIN:VEVENT
UID:putnam-448427@ygametime.com
DTSTAMP:20240413T123000Z
DTSTART;TZID=America/New_York:20240413T083000
DURATION:PT0H60M0S
SUMMARY:Malugin vs Ross
DESCRIPTION:5/6 | Soccer\nPutnam County Family YMCA\n
URL;VALUE=URI:https://ygametime.com/branch/putnam/sports/2024-spring-soccer/18881/?utm_medium=calendar&utm_source=team_cal&utm_content=league_url#game-448427
LOCATION:Field 2 (5/6)
BEGIN:VALARM
TRIGGER:-P2H
ACTION:DISPLAY
DESCRIPTION:Malugin vs Ross
END:VALARM
END:VEVENT
BEGIN:VEVENT
UID:putnam-448467@ygametime.com
DTSTAMP:20240422T220000Z
DTSTART;TZID=America/New_York:20240422T180000
DURATION:PT0H60M0S
SUMMARY:Ross vs Byrd
DESCRIPTION:5/6 | Soccer\nPutnam County Family YMCA\n
URL;VALUE=URI:https://ygametime.com/branch/putnam/sports/2024-spring-soccer/18881/?utm_medium=calendar&utm_source=team_cal&utm_content=league_url#game-448467
LOCATION:Field 2 (5/6)
BEGIN:VALARM
TRIGGER:-P2H
ACTION:DISPLAY
DESCRIPTION:Ross vs Byrd
END:VALARM
END:VEVENT
BEGIN:VEVENT
UID:putnam-466818@ygametime.com
DTSTAMP:20240506T221500Z
DTSTART;TZID=America/New_York:20240506T181500
DURATION:PT0H60M0S
SUMMARY:Smith vs Ross
DESCRIPTION:5/6 | Soccer\nPutnam County Family YMCA\n
URL;VALUE=URI:https://ygametime.com/branch/putnam/sports/2024-spring-soccer/18881/?utm_medium=calendar&utm_source=team_cal&utm_content=league_url#game-466818
LOCATION:Field 3 (5/6)
BEGIN:VALARM
TRIGGER:-P2H
ACTION:DISPLAY
DESCRIPTION:Smith vs Ross
END:VALARM
END:VEVENT
BEGIN:VEVENT
UID:putnam-448464@ygametime.com
DTSTAMP:20240513T220000Z
DTSTART;TZID=America/New_York:20240513T180000
DURATION:PT0H60M0S
SUMMARY:Watson vs Ross
DESCRIPTION:5/6 | Soccer\nPutnam County Family YMCA\n
URL;VALUE=URI:https://ygametime.com/branch/putnam/sports/2024-spring-soccer/18881/?utm_medium=calendar&utm_source=team_cal&utm_content=league_url#game-448464
LOCATION:Field 2 (5/6)
BEGIN:VALARM
TRIGGER:-P2H
ACTION:DISPLAY
DESCRIPTION:Watson vs Ross
END:VALARM
END:VEVENT
BEGIN:VEVENT
UID:putnam-448462@ygametime.com
DTSTAMP:20240523T211500Z
DTSTART;TZID=America/New_York:20240523T171500
DURATION:PT0H60M0S
SUMMARY:Ross vs Dartez
DESCRIPTION:5/6 | Soccer\nPutnam County Family YMCA\n
URL;VALUE=URI:https://ygametime.com/branch/putnam/sports/2024-spring-soccer/18881/?utm_medium=calendar&utm_source=team_cal&utm_content=league_url#game-448462
LOCATION:Field 2 (5/6)
BEGIN:VALARM
TRIGGER:-P2H
ACTION:DISPLAY
DESCRIPTION:Ross vs Dartez
END:VALARM
END:VEVENT
END:VCALENDAR

