BEGIN:VCALENDAR
VERSION:2.0
PRODID:-//YGAMETIME.com//YGT iCal Creator//EN
METHOD:PUBLISH
X-PUBLISHED-TTL:PT6H
REFRESH-INTERVAL;VALUE=DURATION:PT6H
CALSCALE:GREGORIAN
X-WR-CALNAME:YGAMETIME CALENDAR
BEGIN:VTIMEZONE
TZID:America/New_York
X-LIC-LOCATION:America/New_York
BEGIN:DAYLIGHT
TZOFFSETFROM:-0500
TZOFFSETTO:-0400
TZNAME:EDT
DTSTART:19700308T020000
RRULE:FREQ=YEARLY;BYMONTH=3;BYDAY=2SU
END:DAYLIGHT
BEGIN:STANDARD
TZOFFSETFROM:-0400
TZOFFSETTO:-0500
TZNAME:EST
DTSTART:19701101T020000
RRULE:FREQ=YEARLY;BYMONTH=11;BYDAY=1SU
END:STANDARD
END:VTIMEZONE
BEGIN:VEVENT
UID:putnam-448423@ygametime.com
DTSTAMP:20240406T143000Z
DTSTART;TZID=America/New_York:20240406T103000
DURATION:PT0H60M0S
SUMMARY:Jones vs Malugin
DESCRIPTION:5/6 | Soccer\nPutnam County Family YMCA\n
URL;VALUE=URI:https://ygametime.com/branch/putnam/sports/2024-spring-soccer/18881/?utm_medium=calendar&utm_source=team_cal&utm_content=league_url#game-448423
LOCATION:Field 2 (5/6)
BEGIN:VALARM
TRIGGER:-P2H
ACTION:DISPLAY
DESCRIPTION:Jones vs Malugin
END:VALARM
END:VEVENT
BEGIN:VEVENT
UID:putnam-448427@ygametime.com
DTSTAMP:20240413T123000Z
DTSTART;TZID=America/New_York:20240413T083000
DURATION:PT0H60M0S
SUMMARY:Malugin vs Ross
DESCRIPTION:5/6 | Soccer\nPutnam County Family YMCA\n
URL;VALUE=URI:https://ygametime.com/branch/putnam/sports/2024-spring-soccer/18881/?utm_medium=calendar&utm_source=team_cal&utm_content=league_url#game-448427
LOCATION:Field 2 (5/6)
BEGIN:VALARM
TRIGGER:-P2H
ACTION:DISPLAY
DESCRIPTION:Malugin vs Ross
END:VALARM
END:VEVENT
BEGIN:VEVENT
UID:putnam-448469@ygametime.com
DTSTAMP:20240423T221500Z
DTSTART;TZID=America/New_York:20240423T181500
DURATION:PT0H60M0S
SUMMARY:Malugin vs Paramore
DESCRIPTION:5/6 | Soccer\nPutnam County Family YMCA\n
URL;VALUE=URI:https://ygametime.com/branch/putnam/sports/2024-spring-soccer/18881/?utm_medium=calendar&utm_source=team_cal&utm_content=league_url#game-448469
LOCATION:Field 2 (5/6)
BEGIN:VALARM
TRIGGER:-P2H
ACTION:DISPLAY
DESCRIPTION:Malugin vs Paramore
END:VALARM
END:VEVENT
BEGIN:VEVENT
UID:putnam-448442@ygametime.com
DTSTAMP:20240427T153000Z
DTSTART;TZID=America/New_York:20240427T113000
DURATION:PT0H60M0S
SUMMARY:Byrd vs Malugin
DESCRIPTION:5/6 | Soccer\nPutnam County Family YMCA\n
URL;VALUE=URI:https://ygametime.com/branch/putnam/sports/2024-spring-soccer/18881/?utm_medium=calendar&utm_source=team_cal&utm_content=league_url#game-448442
LOCATION:Field 3 (5/6)
BEGIN:VALARM
TRIGGER:-P2H
ACTION:DISPLAY
DESCRIPTION:Byrd vs Malugin
END:VALARM
END:VEVENT
BEGIN:VEVENT
UID:putnam-466819@ygametime.com
DTSTAMP:20240507T221500Z
DTSTART;TZID=America/New_York:20240507T181500
DURATION:PT0H60M0S
SUMMARY:Cotten vs Malugin
DESCRIPTION:5/6 | Soccer\nPutnam County Family YMCA\n
URL;VALUE=URI:https://ygametime.com/branch/putnam/sports/2024-spring-soccer/18881/?utm_medium=calendar&utm_source=team_cal&utm_content=league_url#game-466819
LOCATION:Field 3 (5/6)
BEGIN:VALARM
TRIGGER:-P2H
ACTION:DISPLAY
DESCRIPTION:Cotten vs Malugin
END:VALARM
END:VEVENT
BEGIN:VEVENT
UID:putnam-448455@ygametime.com
DTSTAMP:20240511T163000Z
DTSTART;TZID=America/New_York:20240511T123000
DURATION:PT0H60M0S
SUMMARY:Byrd vs Malugin
DESCRIPTION:5/6 | Soccer\nPutnam County Family YMCA\n
URL;VALUE=URI:https://ygametime.com/branch/putnam/sports/2024-spring-soccer/18881/?utm_medium=calendar&utm_source=team_cal&utm_content=league_url#game-448455
LOCATION:Field 2 (5/6)
BEGIN:VALARM
TRIGGER:-P2H
ACTION:DISPLAY
DESCRIPTION:Byrd vs Malugin
END:VALARM
END:VEVENT
BEGIN:VEVENT
UID:putnam-467796@ygametime.com
DTSTAMP:20240521T210000Z
DTSTART;TZID=America/New_York:20240521T170000
DURATION:PT0H60M0S
SUMMARY:Malugin vs Hill
DESCRIPTION:5/6 | Soccer\nPutnam County Family YMCA\n
URL;VALUE=URI:https://ygametime.com/branch/putnam/sports/2024-spring-soccer/18881/?utm_medium=calendar&utm_source=team_cal&utm_content=league_url#game-467796
LOCATION:Field 2 (5/6)
BEGIN:VALARM
TRIGGER:-P2H
ACTION:DISPLAY
DESCRIPTION:Malugin vs Hill
END:VALARM
END:VEVENT
END:VCALENDAR

