BEGIN:VCALENDAR
VERSION:2.0
PRODID:-//YGAMETIME.com//YGT iCal Creator//EN
METHOD:PUBLISH
X-PUBLISHED-TTL:PT6H
REFRESH-INTERVAL;VALUE=DURATION:PT6H
CALSCALE:GREGORIAN
X-WR-CALNAME:YGAMETIME CALENDAR
BEGIN:VTIMEZONE
TZID:America/New_York
X-LIC-LOCATION:America/New_York
BEGIN:DAYLIGHT
TZOFFSETFROM:-0500
TZOFFSETTO:-0400
TZNAME:EDT
DTSTART:19700308T020000
RRULE:FREQ=YEARLY;BYMONTH=3;BYDAY=2SU
END:DAYLIGHT
BEGIN:STANDARD
TZOFFSETFROM:-0400
TZOFFSETTO:-0500
TZNAME:EST
DTSTART:19701101T020000
RRULE:FREQ=YEARLY;BYMONTH=11;BYDAY=1SU
END:STANDARD
END:VTIMEZONE
BEGIN:VEVENT
UID:putnam-448424@ygametime.com
DTSTAMP:20240406T153000Z
DTSTART;TZID=America/New_York:20240406T113000
DURATION:PT0H60M0S
SUMMARY:Garvey vs Hill
DESCRIPTION:5/6 | Soccer\nPutnam County Family YMCA\n
URL;VALUE=URI:https://ygametime.com/branch/putnam/sports/2024-spring-soccer/18881/?utm_medium=calendar&utm_source=team_cal&utm_content=league_url#game-448424
LOCATION:Field 3 (5/6)
BEGIN:VALARM
TRIGGER:-P2H
ACTION:DISPLAY
DESCRIPTION:Garvey vs Hill
END:VALARM
END:VEVENT
BEGIN:VEVENT
UID:putnam-448432@ygametime.com
DTSTAMP:20240413T163000Z
DTSTART;TZID=America/New_York:20240413T123000
DURATION:PT0H60M0S
SUMMARY:Garvey vs Dartez
DESCRIPTION:5/6 | Soccer\nPutnam County Family YMCA\n
URL;VALUE=URI:https://ygametime.com/branch/putnam/sports/2024-spring-soccer/18881/?utm_medium=calendar&utm_source=team_cal&utm_content=league_url#game-448432
LOCATION:Field 2 (5/6)
BEGIN:VALARM
TRIGGER:-P2H
ACTION:DISPLAY
DESCRIPTION:Garvey vs Dartez
END:VALARM
END:VEVENT
BEGIN:VEVENT
UID:putnam-448439@ygametime.com
DTSTAMP:20240427T133000Z
DTSTART;TZID=America/New_York:20240427T093000
DURATION:PT0H60M0S
SUMMARY:Paramore vs Garvey
DESCRIPTION:5/6 | Soccer\nPutnam County Family YMCA\n
URL;VALUE=URI:https://ygametime.com/branch/putnam/sports/2024-spring-soccer/18881/?utm_medium=calendar&utm_source=team_cal&utm_content=league_url#game-448439
LOCATION:Field 3 (5/6)
BEGIN:VALARM
TRIGGER:-P2H
ACTION:DISPLAY
DESCRIPTION:Paramore vs Garvey
END:VALARM
END:VEVENT
BEGIN:VEVENT
UID:putnam-448453@ygametime.com
DTSTAMP:20240511T143000Z
DTSTART;TZID=America/New_York:20240511T103000
DURATION:PT0H60M0S
SUMMARY:Garvey vs Smith
DESCRIPTION:5/6 | Soccer\nPutnam County Family YMCA\n
URL;VALUE=URI:https://ygametime.com/branch/putnam/sports/2024-spring-soccer/18881/?utm_medium=calendar&utm_source=team_cal&utm_content=league_url#game-448453
LOCATION:Field 2 (5/6)
BEGIN:VALARM
TRIGGER:-P2H
ACTION:DISPLAY
DESCRIPTION:Garvey vs Smith
END:VALARM
END:VEVENT
BEGIN:VEVENT
UID:putnam-466822@ygametime.com
DTSTAMP:20240517T213000Z
DTSTART;TZID=America/New_York:20240517T173000
DURATION:PT0H60M0S
SUMMARY:Grimm vs Garvey
DESCRIPTION:5/6 | Soccer\nPutnam County Family YMCA\n
URL;VALUE=URI:https://ygametime.com/branch/putnam/sports/2024-spring-soccer/18881/?utm_medium=calendar&utm_source=team_cal&utm_content=league_url#game-466822
LOCATION:Field 3 (5/6)
BEGIN:VALARM
TRIGGER:-P2H
ACTION:DISPLAY
DESCRIPTION:Grimm vs Garvey
END:VALARM
END:VEVENT
BEGIN:VEVENT
UID:putnam-467793@ygametime.com
DTSTAMP:20240521T211500Z
DTSTART;TZID=America/New_York:20240521T171500
DURATION:PT0H60M0S
SUMMARY:Garvey vs Jones
DESCRIPTION:5/6 | Soccer\nPutnam County Family YMCA\n
URL;VALUE=URI:https://ygametime.com/branch/putnam/sports/2024-spring-soccer/18881/?utm_medium=calendar&utm_source=team_cal&utm_content=league_url#game-467793
LOCATION:Field 3 (5/6)
BEGIN:VALARM
TRIGGER:-P2H
ACTION:DISPLAY
DESCRIPTION:Garvey vs Jones
END:VALARM
END:VEVENT
END:VCALENDAR

