BEGIN:VCALENDAR
VERSION:2.0
PRODID:-//YGAMETIME.com//YGT iCal Creator//EN
METHOD:PUBLISH
X-PUBLISHED-TTL:PT6H
REFRESH-INTERVAL;VALUE=DURATION:PT6H
CALSCALE:GREGORIAN
X-WR-CALNAME:YGAMETIME CALENDAR
BEGIN:VTIMEZONE
TZID:America/New_York
X-LIC-LOCATION:America/New_York
BEGIN:DAYLIGHT
TZOFFSETFROM:-0500
TZOFFSETTO:-0400
TZNAME:EDT
DTSTART:19700308T020000
RRULE:FREQ=YEARLY;BYMONTH=3;BYDAY=2SU
END:DAYLIGHT
BEGIN:STANDARD
TZOFFSETFROM:-0400
TZOFFSETTO:-0500
TZNAME:EST
DTSTART:19701101T020000
RRULE:FREQ=YEARLY;BYMONTH=11;BYDAY=1SU
END:STANDARD
END:VTIMEZONE
BEGIN:VEVENT
UID:putnam-447478@ygametime.com
DTSTAMP:20240406T121500Z
DTSTART;TZID=America/New_York:20240406T081500
DURATION:PT0H60M0S
SUMMARY:Julian vs Baugh
DESCRIPTION:3/4 | Soccer\nPutnam County Family YMCA\n
URL;VALUE=URI:https://ygametime.com/branch/putnam/sports/2024-spring-soccer/18880/?utm_medium=calendar&utm_source=team_cal&utm_content=league_url#game-447478
LOCATION:Field 7 (3/4)
BEGIN:VALARM
TRIGGER:-P2H
ACTION:DISPLAY
DESCRIPTION:Julian vs Baugh
END:VALARM
END:VEVENT
BEGIN:VEVENT
UID:putnam-447487@ygametime.com
DTSTAMP:20240413T133000Z
DTSTART;TZID=America/New_York:20240413T093000
DURATION:PT0H60M0S
SUMMARY:Julian vs Hafner
DESCRIPTION:3/4 | Soccer\nPutnam County Family YMCA\n
URL;VALUE=URI:https://ygametime.com/branch/putnam/sports/2024-spring-soccer/18880/?utm_medium=calendar&utm_source=team_cal&utm_content=league_url#game-447487
LOCATION:Field 9 (3/4)
BEGIN:VALARM
TRIGGER:-P2H
ACTION:DISPLAY
DESCRIPTION:Julian vs Hafner
END:VALARM
END:VEVENT
BEGIN:VEVENT
UID:putnam-447501@ygametime.com
DTSTAMP:20240427T143000Z
DTSTART;TZID=America/New_York:20240427T103000
DURATION:PT0H60M0S
SUMMARY:Mapes vs Julian
DESCRIPTION:3/4 | Soccer\nPutnam County Family YMCA\n
URL;VALUE=URI:https://ygametime.com/branch/putnam/sports/2024-spring-soccer/18880/?utm_medium=calendar&utm_source=team_cal&utm_content=league_url#game-447501
LOCATION:Field 9 (3/4)
BEGIN:VALARM
TRIGGER:-P2H
ACTION:DISPLAY
DESCRIPTION:Mapes vs Julian
END:VALARM
END:VEVENT
BEGIN:VEVENT
UID:putnam-447512@ygametime.com
DTSTAMP:20240511T123000Z
DTSTART;TZID=America/New_York:20240511T083000
DURATION:PT0H60M0S
SUMMARY:Julian vs Paramore
DESCRIPTION:3/4 | Soccer\nPutnam County Family YMCA\n
URL;VALUE=URI:https://ygametime.com/branch/putnam/sports/2024-spring-soccer/18880/?utm_medium=calendar&utm_source=team_cal&utm_content=league_url#game-447512
LOCATION:Field 7 (3/4)
BEGIN:VALARM
TRIGGER:-P2H
ACTION:DISPLAY
DESCRIPTION:Julian vs Paramore
END:VALARM
END:VEVENT
BEGIN:VEVENT
UID:putnam-466979@ygametime.com
DTSTAMP:20240516T213000Z
DTSTART;TZID=America/New_York:20240516T173000
DURATION:PT0H60M0S
SUMMARY:Tellez vs Julian
DESCRIPTION:3/4 | Soccer\nPutnam County Family YMCA\n
URL;VALUE=URI:https://ygametime.com/branch/putnam/sports/2024-spring-soccer/18880/?utm_medium=calendar&utm_source=team_cal&utm_content=league_url#game-466979
LOCATION:Field 9 (3/4)
BEGIN:VALARM
TRIGGER:-P2H
ACTION:DISPLAY
DESCRIPTION:Tellez vs Julian
END:VALARM
END:VEVENT
BEGIN:VEVENT
UID:putnam-447494@ygametime.com
DTSTAMP:20240523T213000Z
DTSTART;TZID=America/New_York:20240523T173000
DURATION:PT0H60M0S
SUMMARY:Julian vs Chreston
DESCRIPTION:3/4 | Soccer\nPutnam County Family YMCA\n
URL;VALUE=URI:https://ygametime.com/branch/putnam/sports/2024-spring-soccer/18880/?utm_medium=calendar&utm_source=team_cal&utm_content=league_url#game-447494
LOCATION:Field 8 (3/4)
BEGIN:VALARM
TRIGGER:-P2H
ACTION:DISPLAY
DESCRIPTION:Julian vs Chreston
END:VALARM
END:VEVENT
END:VCALENDAR

