BEGIN:VCALENDAR
VERSION:2.0
PRODID:-//YGAMETIME.com//YGT iCal Creator//EN
METHOD:PUBLISH
X-PUBLISHED-TTL:PT6H
REFRESH-INTERVAL;VALUE=DURATION:PT6H
CALSCALE:GREGORIAN
X-WR-CALNAME:YGAMETIME CALENDAR
BEGIN:VTIMEZONE
TZID:America/New_York
X-LIC-LOCATION:America/New_York
BEGIN:DAYLIGHT
TZOFFSETFROM:-0500
TZOFFSETTO:-0400
TZNAME:EDT
DTSTART:19700308T020000
RRULE:FREQ=YEARLY;BYMONTH=3;BYDAY=2SU
END:DAYLIGHT
BEGIN:STANDARD
TZOFFSETFROM:-0400
TZOFFSETTO:-0500
TZNAME:EST
DTSTART:19701101T020000
RRULE:FREQ=YEARLY;BYMONTH=11;BYDAY=1SU
END:STANDARD
END:VTIMEZONE
BEGIN:VEVENT
UID:putnam-447857@ygametime.com
DTSTAMP:20240406T133000Z
DTSTART;TZID=America/New_York:20240406T093000
DURATION:PT0H60M0S
SUMMARY:Doss vs King
DESCRIPTION:7/8 | Soccer\nPutnam County Family YMCA\n
URL;VALUE=URI:https://ygametime.com/branch/putnam/sports/2024-spring-soccer/18882/?utm_medium=calendar&utm_source=team_cal&utm_content=league_url#game-447857
LOCATION:Field 4 (7/8)
BEGIN:VALARM
TRIGGER:-P2H
ACTION:DISPLAY
DESCRIPTION:Doss vs King
END:VALARM
END:VEVENT
BEGIN:VEVENT
UID:putnam-447861@ygametime.com
DTSTAMP:20240413T123000Z
DTSTART;TZID=America/New_York:20240413T083000
DURATION:PT0H60M0S
SUMMARY:Mason vs Doss
DESCRIPTION:7/8 | Soccer\nPutnam County Family YMCA\n
URL;VALUE=URI:https://ygametime.com/branch/putnam/sports/2024-spring-soccer/18882/?utm_medium=calendar&utm_source=team_cal&utm_content=league_url#game-447861
LOCATION:Field 5 (7/8)
BEGIN:VALARM
TRIGGER:-P2H
ACTION:DISPLAY
DESCRIPTION:Mason vs Doss
END:VALARM
END:VEVENT
BEGIN:VEVENT
UID:putnam-447875@ygametime.com
DTSTAMP:20240427T153000Z
DTSTART;TZID=America/New_York:20240427T113000
DURATION:PT0H60M0S
SUMMARY:Smith vs Doss
DESCRIPTION:7/8 | Soccer\nPutnam County Family YMCA\n
URL;VALUE=URI:https://ygametime.com/branch/putnam/sports/2024-spring-soccer/18882/?utm_medium=calendar&utm_source=team_cal&utm_content=league_url#game-447875
LOCATION:Field 5 (7/8)
BEGIN:VALARM
TRIGGER:-P2H
ACTION:DISPLAY
DESCRIPTION:Smith vs Doss
END:VALARM
END:VEVENT
BEGIN:VEVENT
UID:putnam-467066@ygametime.com
DTSTAMP:20240511T120000Z
DTSTART;TZID=America/New_York:20240511T080000
DURATION:PT0H60M0S
SUMMARY:Doss vs Eddington
DESCRIPTION:7/8 | Soccer\nPutnam County Family YMCA\n
URL;VALUE=URI:https://ygametime.com/branch/putnam/sports/2024-spring-soccer/18882/?utm_medium=calendar&utm_source=team_cal&utm_content=league_url#game-467066
LOCATION:Field 4 (7/8)
BEGIN:VALARM
TRIGGER:-P2H
ACTION:DISPLAY
DESCRIPTION:Doss vs Eddington
END:VALARM
END:VEVENT
BEGIN:VEVENT
UID:putnam-447896@ygametime.com
DTSTAMP:20240516T221500Z
DTSTART;TZID=America/New_York:20240516T181500
DURATION:PT0H60M0S
SUMMARY:Doss vs Bottoms
DESCRIPTION:7/8 | Soccer\nPutnam County Family YMCA\n
URL;VALUE=URI:https://ygametime.com/branch/putnam/sports/2024-spring-soccer/18882/?utm_medium=calendar&utm_source=team_cal&utm_content=league_url#game-447896
LOCATION:Field 5 (7/8)
BEGIN:VALARM
TRIGGER:-P2H
ACTION:DISPLAY
DESCRIPTION:Doss vs Bottoms
END:VALARM
END:VEVENT
BEGIN:VEVENT
UID:putnam-467790@ygametime.com
DTSTAMP:20240523T221500Z
DTSTART;TZID=America/New_York:20240523T181500
DURATION:PT0H60M0S
SUMMARY:Doss vs Malone
DESCRIPTION:7/8 | Soccer\nPutnam County Family YMCA\n
URL;VALUE=URI:https://ygametime.com/branch/putnam/sports/2024-spring-soccer/18882/?utm_medium=calendar&utm_source=team_cal&utm_content=league_url#game-467790
LOCATION:Field 4 (7/8)
BEGIN:VALARM
TRIGGER:-P2H
ACTION:DISPLAY
DESCRIPTION:Doss vs Malone
END:VALARM
END:VEVENT
END:VCALENDAR

