BEGIN:VCALENDAR
VERSION:2.0
PRODID:-//YGAMETIME.com//YGT iCal Creator//EN
METHOD:PUBLISH
X-PUBLISHED-TTL:PT6H
REFRESH-INTERVAL;VALUE=DURATION:PT6H
CALSCALE:GREGORIAN
X-WR-CALNAME:YGAMETIME CALENDAR
BEGIN:VTIMEZONE
TZID:America/New_York
X-LIC-LOCATION:America/New_York
BEGIN:DAYLIGHT
TZOFFSETFROM:-0500
TZOFFSETTO:-0400
TZNAME:EDT
DTSTART:19700308T020000
RRULE:FREQ=YEARLY;BYMONTH=3;BYDAY=2SU
END:DAYLIGHT
BEGIN:STANDARD
TZOFFSETFROM:-0400
TZOFFSETTO:-0500
TZNAME:EST
DTSTART:19701101T020000
RRULE:FREQ=YEARLY;BYMONTH=11;BYDAY=1SU
END:STANDARD
END:VTIMEZONE
BEGIN:VEVENT
UID:putnam-448418@ygametime.com
DTSTAMP:20240405T221500Z
DTSTART;TZID=America/New_York:20240405T181500
DURATION:PT0H90M0S
SUMMARY:Randolph vs Tony
DESCRIPTION:9/10 | Soccer\nPutnam County Family YMCA\n
URL;VALUE=URI:https://ygametime.com/branch/putnam/sports/2024-spring-soccer/18883/?utm_medium=calendar&utm_source=team_cal&utm_content=league_url#game-448418
LOCATION:Field 1 (9/11) Practice field
BEGIN:VALARM
TRIGGER:-P2H
ACTION:DISPLAY
DESCRIPTION:Randolph vs Tony
END:VALARM
END:VEVENT
BEGIN:VEVENT
UID:putnam-447413@ygametime.com
DTSTAMP:20240413T143000Z
DTSTART;TZID=America/New_York:20240413T103000
DURATION:PT0H90M0S
SUMMARY:Stiles vs Tony
DESCRIPTION:9/10 | Soccer\nPutnam County Family YMCA\n
URL;VALUE=URI:https://ygametime.com/branch/putnam/sports/2024-spring-soccer/18883/?utm_medium=calendar&utm_source=team_cal&utm_content=league_url#game-447413
LOCATION:Field 1 (9/11) Practice field
BEGIN:VALARM
TRIGGER:-P2H
ACTION:DISPLAY
DESCRIPTION:Stiles vs Tony
END:VALARM
END:VEVENT
BEGIN:VEVENT
UID:putnam-447421@ygametime.com
DTSTAMP:20240427T143000Z
DTSTART;TZID=America/New_York:20240427T103000
DURATION:PT0H90M0S
SUMMARY:Currier vs Tony
DESCRIPTION:9/10 | Soccer\nPutnam County Family YMCA\n
URL;VALUE=URI:https://ygametime.com/branch/putnam/sports/2024-spring-soccer/18883/?utm_medium=calendar&utm_source=team_cal&utm_content=league_url#game-447421
LOCATION:Field 1 (9/11) Practice field
BEGIN:VALARM
TRIGGER:-P2H
ACTION:DISPLAY
DESCRIPTION:Currier vs Tony
END:VALARM
END:VEVENT
BEGIN:VEVENT
UID:putnam-466980@ygametime.com
DTSTAMP:20240507T210000Z
DTSTART;TZID=America/New_York:20240507T170000
DURATION:PT0H90M0S
SUMMARY:Gunnels vs Tony
DESCRIPTION:9/10 | Soccer\nPutnam County Family YMCA\n
URL;VALUE=URI:https://ygametime.com/branch/putnam/sports/2024-spring-soccer/18883/?utm_medium=calendar&utm_source=team_cal&utm_content=league_url#game-466980
LOCATION:Field 1 (9/11) Practice field
BEGIN:VALARM
TRIGGER:-P2H
ACTION:DISPLAY
DESCRIPTION:Gunnels vs Tony
END:VALARM
END:VEVENT
BEGIN:VEVENT
UID:putnam-447434@ygametime.com
DTSTAMP:20240515T221500Z
DTSTART;TZID=America/New_York:20240515T181500
DURATION:PT0H90M0S
SUMMARY:Tony vs Damas
DESCRIPTION:9/10 | Soccer\nPutnam County Family YMCA\n
URL;VALUE=URI:https://ygametime.com/branch/putnam/sports/2024-spring-soccer/18883/?utm_medium=calendar&utm_source=team_cal&utm_content=league_url#game-447434
LOCATION:Field 1 (9/11) Practice field
BEGIN:VALARM
TRIGGER:-P2H
ACTION:DISPLAY
DESCRIPTION:Tony vs Damas
END:VALARM
END:VEVENT
BEGIN:VEVENT
UID:putnam-467610@ygametime.com
DTSTAMP:20240517T210000Z
DTSTART;TZID=America/New_York:20240517T170000
DURATION:PT0H70M0S
SUMMARY:Tony vs Gunnels
DESCRIPTION:9/10 | Soccer\nPutnam County Family YMCA\n
URL;VALUE=URI:https://ygametime.com/branch/putnam/sports/2024-spring-soccer/18883/?utm_medium=calendar&utm_source=team_cal&utm_content=league_url#game-467610
LOCATION:Field 1 (9/11) Practice field
BEGIN:VALARM
TRIGGER:-P2H
ACTION:DISPLAY
DESCRIPTION:Tony vs Gunnels
END:VALARM
END:VEVENT
BEGIN:VEVENT
UID:putnam-467614@ygametime.com
DTSTAMP:20240520T210000Z
DTSTART;TZID=America/New_York:20240520T170000
DURATION:PT0H70M0S
SUMMARY:Tony vs Stiles
DESCRIPTION:9/10 | Soccer\nPutnam County Family YMCA\n
URL;VALUE=URI:https://ygametime.com/branch/putnam/sports/2024-spring-soccer/18883/?utm_medium=calendar&utm_source=team_cal&utm_content=league_url#game-467614
LOCATION:Field 1 (9/11) Practice field
BEGIN:VALARM
TRIGGER:-P2H
ACTION:DISPLAY
DESCRIPTION:Tony vs Stiles
END:VALARM
END:VEVENT
END:VCALENDAR

