BEGIN:VCALENDAR
VERSION:2.0
PRODID:-//YGAMETIME.com//YGT iCal Creator//EN
METHOD:PUBLISH
X-PUBLISHED-TTL:PT6H
REFRESH-INTERVAL;VALUE=DURATION:PT6H
CALSCALE:GREGORIAN
X-WR-CALNAME:YGAMETIME CALENDAR
BEGIN:VEVENT
UID:readingberks-578010@ygametime.com
DTSTAMP:Z
DTSTART;TZID=America/New York:20260110T130000
DURATION:PT0H60M0S
SUMMARY:Rockets vs Thunder
DESCRIPTION:Tri Valley 3-4 Boys | Youth Basketball\nYMCA of Reading &amp; Berks County\n
URL;VALUE=URI:https://ygametime.com/branch/readingberks/sports/2026-winter-youth-basketball/25004/?utm_medium=calendar&utm_source=team_cal&utm_content=league_url#game-578010
LOCATION:Tri Valley YMCA Full Court
BEGIN:VALARM
TRIGGER:-P2H
ACTION:DISPLAY
DESCRIPTION:Rockets vs Thunder
END:VALARM
END:VEVENT
BEGIN:VEVENT
UID:readingberks-578022@ygametime.com
DTSTAMP:Z
DTSTART;TZID=America/New York:20260117T180000
DURATION:PT0H60M0S
SUMMARY:Schuylkill Valley Cammauf vs Thunder
DESCRIPTION:Tri Valley 3-4 Boys | Youth Basketball\nYMCA of Reading &amp; Berks County\nGAMES ARE CANCELLED DUE TO WEATHER
URL;VALUE=URI:https://ygametime.com/branch/readingberks/sports/2026-winter-youth-basketball/25004/?utm_medium=calendar&utm_source=team_cal&utm_content=league_url#game-578022
LOCATION:Schuylkill Valley Middle School 
BEGIN:VALARM
TRIGGER:-P2H
ACTION:DISPLAY
DESCRIPTION:Schuylkill Valley Cammauf vs Thunder
END:VALARM
END:VEVENT
BEGIN:VEVENT
UID:readingberks-578014@ygametime.com
DTSTAMP:Z
DTSTART;TZID=America/New York:20260124T130000
DURATION:PT0H60M0S
SUMMARY:Thunder vs Kutztown Cougars
DESCRIPTION:Tri Valley 3-4 Boys | Youth Basketball\nYMCA of Reading &amp; Berks County\n
URL;VALUE=URI:https://ygametime.com/branch/readingberks/sports/2026-winter-youth-basketball/25004/?utm_medium=calendar&utm_source=team_cal&utm_content=league_url#game-578014
LOCATION:Tri Valley YMCA Full Court
BEGIN:VALARM
TRIGGER:-P2H
ACTION:DISPLAY
DESCRIPTION:Thunder vs Kutztown Cougars
END:VALARM
END:VEVENT
BEGIN:VEVENT
UID:readingberks-578016@ygametime.com
DTSTAMP:Z
DTSTART;TZID=America/New York:20260131T160000
DURATION:PT0H60M0S
SUMMARY:Cavaliers vs Thunder
DESCRIPTION:Tri Valley 3-4 Boys | Youth Basketball\nYMCA of Reading &amp; Berks County\n
URL;VALUE=URI:https://ygametime.com/branch/readingberks/sports/2026-winter-youth-basketball/25004/?utm_medium=calendar&utm_source=team_cal&utm_content=league_url#game-578016
LOCATION:Tri Valley YMCA Full Court
BEGIN:VALARM
TRIGGER:-P2H
ACTION:DISPLAY
DESCRIPTION:Cavaliers vs Thunder
END:VALARM
END:VEVENT
BEGIN:VEVENT
UID:readingberks-578017@ygametime.com
DTSTAMP:Z
DTSTART;TZID=America/New York:20260207T120000
DURATION:PT0H60M0S
SUMMARY:Thunder vs Mavericks
DESCRIPTION:Tri Valley 3-4 Boys | Youth Basketball\nYMCA of Reading &amp; Berks County\n
URL;VALUE=URI:https://ygametime.com/branch/readingberks/sports/2026-winter-youth-basketball/25004/?utm_medium=calendar&utm_source=team_cal&utm_content=league_url#game-578017
LOCATION:Tri Valley YMCA Full Court
BEGIN:VALARM
TRIGGER:-P2H
ACTION:DISPLAY
DESCRIPTION:Thunder vs Mavericks
END:VALARM
END:VEVENT
BEGIN:VEVENT
UID:readingberks-590106@ygametime.com
DTSTAMP:Z
DTSTART;TZID=America/New York:20260209T183000
DURATION:PT0H60M0S
SUMMARY:Thunder vs Schuylkill Valley Cammauf
DESCRIPTION:Tri Valley 3-4 Boys | Youth Basketball\nYMCA of Reading &amp; Berks County\n
URL;VALUE=URI:https://ygametime.com/branch/readingberks/sports/2026-winter-youth-basketball/25004/?utm_medium=calendar&utm_source=team_cal&utm_content=league_url#game-590106
LOCATION:Tri Valley YMCA Full Court
BEGIN:VALARM
TRIGGER:-P2H
ACTION:DISPLAY
DESCRIPTION:Thunder vs Schuylkill Valley Cammauf
END:VALARM
END:VEVENT
BEGIN:VEVENT
UID:readingberks-578020@ygametime.com
DTSTAMP:Z
DTSTART;TZID=America/New York:20260214T130000
DURATION:PT0H60M0S
SUMMARY:Thunder vs Oley Koccia
DESCRIPTION:Tri Valley 3-4 Boys | Youth Basketball\nYMCA of Reading &amp; Berks County\n
URL;VALUE=URI:https://ygametime.com/branch/readingberks/sports/2026-winter-youth-basketball/25004/?utm_medium=calendar&utm_source=team_cal&utm_content=league_url#game-578020
LOCATION:Tri Valley YMCA Full Court
BEGIN:VALARM
TRIGGER:-P2H
ACTION:DISPLAY
DESCRIPTION:Thunder vs Oley Koccia
END:VALARM
END:VEVENT
END:VCALENDAR

