BEGIN:VCALENDAR
VERSION:2.0
PRODID:-//YGAMETIME.com//YGT iCal Creator//EN
METHOD:PUBLISH
X-PUBLISHED-TTL:PT6H
REFRESH-INTERVAL;VALUE=DURATION:PT6H
CALSCALE:GREGORIAN
X-WR-CALNAME:YGAMETIME CALENDAR
BEGIN:VEVENT
UID:readingberks-578010@ygametime.com
DTSTAMP:Z
DTSTART;TZID=America/New York:20260110T130000
DURATION:PT0H60M0S
SUMMARY:Rockets vs Thunder
DESCRIPTION:Tri Valley 3-4 Boys | Youth Basketball\nYMCA of Reading &amp; Berks County\n
URL;VALUE=URI:https://ygametime.com/branch/readingberks/sports/2026-winter-youth-basketball/25004/?utm_medium=calendar&utm_source=team_cal&utm_content=league_url#game-578010
LOCATION:Tri Valley YMCA Full Court
BEGIN:VALARM
TRIGGER:-P2H
ACTION:DISPLAY
DESCRIPTION:Rockets vs Thunder
END:VALARM
END:VEVENT
BEGIN:VEVENT
UID:readingberks-578012@ygametime.com
DTSTAMP:Z
DTSTART;TZID=America/New York:20260117T130000
DURATION:PT0H60M0S
SUMMARY:Rockets vs Schuylkill Valley O'Donnell
DESCRIPTION:Tri Valley 3-4 Boys | Youth Basketball\nYMCA of Reading &amp; Berks County\nGAMES ARE CANCELLED DUE TO WEATHER
URL;VALUE=URI:https://ygametime.com/branch/readingberks/sports/2026-winter-youth-basketball/25004/?utm_medium=calendar&utm_source=team_cal&utm_content=league_url#game-578012
LOCATION:Tri Valley YMCA Full Court
BEGIN:VALARM
TRIGGER:-P2H
ACTION:DISPLAY
DESCRIPTION:Rockets vs Schuylkill Valley O'Donnell
END:VALARM
END:VEVENT
BEGIN:VEVENT
UID:readingberks-578024@ygametime.com
DTSTAMP:Z
DTSTART;TZID=America/New York:20260124T130000
DURATION:PT0H60M0S
SUMMARY:Rockets vs Kutztown Black
DESCRIPTION:Tri Valley 3-4 Boys | Youth Basketball\nYMCA of Reading &amp; Berks County\n
URL;VALUE=URI:https://ygametime.com/branch/readingberks/sports/2026-winter-youth-basketball/25004/?utm_medium=calendar&utm_source=team_cal&utm_content=league_url#game-578024
LOCATION:Kutztown Middle School 
BEGIN:VALARM
TRIGGER:-P2H
ACTION:DISPLAY
DESCRIPTION:Rockets vs Kutztown Black
END:VALARM
END:VEVENT
BEGIN:VEVENT
UID:readingberks-589194@ygametime.com
DTSTAMP:Z
DTSTART;TZID=America/New York:20260130T190000
DURATION:PT0H60M0S
SUMMARY:Rockets vs Schuylkill Valley O'Donnell
DESCRIPTION:Tri Valley 3-4 Boys | Youth Basketball\nYMCA of Reading &amp; Berks County\n
URL;VALUE=URI:https://ygametime.com/branch/readingberks/sports/2026-winter-youth-basketball/25004/?utm_medium=calendar&utm_source=team_cal&utm_content=league_url#game-589194
LOCATION:Tri Valley YMCA Full Court
BEGIN:VALARM
TRIGGER:-P2H
ACTION:DISPLAY
DESCRIPTION:Rockets vs Schuylkill Valley O'Donnell
END:VALARM
END:VEVENT
BEGIN:VEVENT
UID:readingberks-578015@ygametime.com
DTSTAMP:Z
DTSTART;TZID=America/New York:20260131T140000
DURATION:PT0H60M0S
SUMMARY:Mavericks vs Rockets
DESCRIPTION:Tri Valley 3-4 Boys | Youth Basketball\nYMCA of Reading &amp; Berks County\n
URL;VALUE=URI:https://ygametime.com/branch/readingberks/sports/2026-winter-youth-basketball/25004/?utm_medium=calendar&utm_source=team_cal&utm_content=league_url#game-578015
LOCATION:Tri Valley YMCA Full Court
BEGIN:VALARM
TRIGGER:-P2H
ACTION:DISPLAY
DESCRIPTION:Mavericks vs Rockets
END:VALARM
END:VEVENT
BEGIN:VEVENT
UID:readingberks-578018@ygametime.com
DTSTAMP:Z
DTSTART;TZID=America/New York:20260207T130000
DURATION:PT0H60M0S
SUMMARY:Rockets vs Cavaliers
DESCRIPTION:Tri Valley 3-4 Boys | Youth Basketball\nYMCA of Reading &amp; Berks County\n
URL;VALUE=URI:https://ygametime.com/branch/readingberks/sports/2026-winter-youth-basketball/25004/?utm_medium=calendar&utm_source=team_cal&utm_content=league_url#game-578018
LOCATION:Tri Valley YMCA Full Court
BEGIN:VALARM
TRIGGER:-P2H
ACTION:DISPLAY
DESCRIPTION:Rockets vs Cavaliers
END:VALARM
END:VEVENT
BEGIN:VEVENT
UID:readingberks-578025@ygametime.com
DTSTAMP:Z
DTSTART;TZID=America/New York:20260214T170000
DURATION:PT0H60M0S
SUMMARY:Rockets vs Cavaliers
DESCRIPTION:Tri Valley 3-4 Boys | Youth Basketball\nYMCA of Reading &amp; Berks County\n
URL;VALUE=URI:https://ygametime.com/branch/readingberks/sports/2026-winter-youth-basketball/25004/?utm_medium=calendar&utm_source=team_cal&utm_content=league_url#game-578025
LOCATION:Tri Valley YMCA Full Court
BEGIN:VALARM
TRIGGER:-P2H
ACTION:DISPLAY
DESCRIPTION:Rockets vs Cavaliers
END:VALARM
END:VEVENT
END:VCALENDAR

