BEGIN:VCALENDAR
VERSION:2.0
PRODID:-//YGAMETIME.com//YGT iCal Creator//EN
METHOD:PUBLISH
X-PUBLISHED-TTL:PT6H
REFRESH-INTERVAL;VALUE=DURATION:PT6H
CALSCALE:GREGORIAN
X-WR-CALNAME:YGAMETIME CALENDAR
BEGIN:VEVENT
UID:readingberks-578009@ygametime.com
DTSTAMP:Z
DTSTART;TZID=America/New York:20260110T140000
DURATION:PT0H60M0S
SUMMARY:Cavaliers vs Mavericks
DESCRIPTION:Tri Valley 3-4 Boys | Youth Basketball\nYMCA of Reading &amp; Berks County\n
URL;VALUE=URI:https://ygametime.com/branch/readingberks/sports/2026-winter-youth-basketball/25004/?utm_medium=calendar&utm_source=team_cal&utm_content=league_url#game-578009
LOCATION:Tri Valley YMCA Full Court
BEGIN:VALARM
TRIGGER:-P2H
ACTION:DISPLAY
DESCRIPTION:Cavaliers vs Mavericks
END:VALARM
END:VEVENT
BEGIN:VEVENT
UID:readingberks-578021@ygametime.com
DTSTAMP:Z
DTSTART;TZID=America/New York:20260117T160000
DURATION:PT0H60M0S
SUMMARY:Schuylkill Valley Mast vs Mavericks
DESCRIPTION:Tri Valley 3-4 Boys | Youth Basketball\nYMCA of Reading &amp; Berks County\nGAMES ARE CANCELLED DUE TO WEATHER
URL;VALUE=URI:https://ygametime.com/branch/readingberks/sports/2026-winter-youth-basketball/25004/?utm_medium=calendar&utm_source=team_cal&utm_content=league_url#game-578021
LOCATION:Schuylkill Valley Middle School 
BEGIN:VALARM
TRIGGER:-P2H
ACTION:DISPLAY
DESCRIPTION:Schuylkill Valley Mast vs Mavericks
END:VALARM
END:VEVENT
BEGIN:VEVENT
UID:readingberks-578013@ygametime.com
DTSTAMP:Z
DTSTART;TZID=America/New York:20260124T120000
DURATION:PT0H60M0S
SUMMARY:Mavericks vs Kutztown Blue
DESCRIPTION:Tri Valley 3-4 Boys | Youth Basketball\nYMCA of Reading &amp; Berks County\n
URL;VALUE=URI:https://ygametime.com/branch/readingberks/sports/2026-winter-youth-basketball/25004/?utm_medium=calendar&utm_source=team_cal&utm_content=league_url#game-578013
LOCATION:Tri Valley YMCA Full Court
BEGIN:VALARM
TRIGGER:-P2H
ACTION:DISPLAY
DESCRIPTION:Mavericks vs Kutztown Blue
END:VALARM
END:VEVENT
BEGIN:VEVENT
UID:readingberks-589188@ygametime.com
DTSTAMP:Z
DTSTART;TZID=America/New York:20260127T180000
DURATION:PT0H60M0S
SUMMARY:Mavericks vs Schuylkill Valley Mast
DESCRIPTION:Tri Valley 3-4 Boys | Youth Basketball\nYMCA of Reading &amp; Berks County\nCANCELLED DUE TO SV DISTRICT CLOSURE
URL;VALUE=URI:https://ygametime.com/branch/readingberks/sports/2026-winter-youth-basketball/25004/?utm_medium=calendar&utm_source=team_cal&utm_content=league_url#game-589188
LOCATION:Schuylkill Valley Middle School 
BEGIN:VALARM
TRIGGER:-P2H
ACTION:DISPLAY
DESCRIPTION:Mavericks vs Schuylkill Valley Mast
END:VALARM
END:VEVENT
BEGIN:VEVENT
UID:readingberks-578015@ygametime.com
DTSTAMP:Z
DTSTART;TZID=America/New York:20260131T140000
DURATION:PT0H60M0S
SUMMARY:Mavericks vs Rockets
DESCRIPTION:Tri Valley 3-4 Boys | Youth Basketball\nYMCA of Reading &amp; Berks County\n
URL;VALUE=URI:https://ygametime.com/branch/readingberks/sports/2026-winter-youth-basketball/25004/?utm_medium=calendar&utm_source=team_cal&utm_content=league_url#game-578015
LOCATION:Tri Valley YMCA Full Court
BEGIN:VALARM
TRIGGER:-P2H
ACTION:DISPLAY
DESCRIPTION:Mavericks vs Rockets
END:VALARM
END:VEVENT
BEGIN:VEVENT
UID:readingberks-578017@ygametime.com
DTSTAMP:Z
DTSTART;TZID=America/New York:20260207T120000
DURATION:PT0H60M0S
SUMMARY:Thunder vs Mavericks
DESCRIPTION:Tri Valley 3-4 Boys | Youth Basketball\nYMCA of Reading &amp; Berks County\n
URL;VALUE=URI:https://ygametime.com/branch/readingberks/sports/2026-winter-youth-basketball/25004/?utm_medium=calendar&utm_source=team_cal&utm_content=league_url#game-578017
LOCATION:Tri Valley YMCA Full Court
BEGIN:VALARM
TRIGGER:-P2H
ACTION:DISPLAY
DESCRIPTION:Thunder vs Mavericks
END:VALARM
END:VEVENT
BEGIN:VEVENT
UID:readingberks-590255@ygametime.com
DTSTAMP:Z
DTSTART;TZID=America/New York:20260209T193000
DURATION:PT0H60M0S
SUMMARY:Mavericks vs Schuylkill Valley Mast
DESCRIPTION:Tri Valley 3-4 Boys | Youth Basketball\nYMCA of Reading &amp; Berks County\n
URL;VALUE=URI:https://ygametime.com/branch/readingberks/sports/2026-winter-youth-basketball/25004/?utm_medium=calendar&utm_source=team_cal&utm_content=league_url#game-590255
LOCATION:Tri Valley YMCA Full Court
BEGIN:VALARM
TRIGGER:-P2H
ACTION:DISPLAY
DESCRIPTION:Mavericks vs Schuylkill Valley Mast
END:VALARM
END:VEVENT
BEGIN:VEVENT
UID:readingberks-578019@ygametime.com
DTSTAMP:Z
DTSTART;TZID=America/New York:20260214T120000
DURATION:PT0H60M0S
SUMMARY:Mavericks vs Oley Perrone
DESCRIPTION:Tri Valley 3-4 Boys | Youth Basketball\nYMCA of Reading &amp; Berks County\n
URL;VALUE=URI:https://ygametime.com/branch/readingberks/sports/2026-winter-youth-basketball/25004/?utm_medium=calendar&utm_source=team_cal&utm_content=league_url#game-578019
LOCATION:Tri Valley YMCA Full Court
BEGIN:VALARM
TRIGGER:-P2H
ACTION:DISPLAY
DESCRIPTION:Mavericks vs Oley Perrone
END:VALARM
END:VEVENT
END:VCALENDAR

