BEGIN:VCALENDAR
VERSION:2.0
PRODID:-//YGAMETIME.com//YGT iCal Creator//EN
METHOD:PUBLISH
X-PUBLISHED-TTL:PT6H
REFRESH-INTERVAL;VALUE=DURATION:PT6H
CALSCALE:GREGORIAN
X-WR-CALNAME:YGAMETIME CALENDAR
BEGIN:VEVENT
UID:readingberks-578011@ygametime.com
DTSTAMP:Z
DTSTART;TZID=America/New York:20260117T120000
DURATION:PT0H60M0S
SUMMARY:Cavaliers vs Schuylkill Valley Kelly
DESCRIPTION:Tri Valley 3-4 Boys | Youth Basketball\nYMCA of Reading &amp; Berks County\nGAMES ARE CANCELLED DUE TO WEATHER
URL;VALUE=URI:https://ygametime.com/branch/readingberks/sports/2026-winter-youth-basketball/25004/?utm_medium=calendar&utm_source=team_cal&utm_content=league_url#game-578011
LOCATION:Tri Valley YMCA Full Court
BEGIN:VALARM
TRIGGER:-P2H
ACTION:DISPLAY
DESCRIPTION:Cavaliers vs Schuylkill Valley Kelly
END:VALARM
END:VEVENT
BEGIN:VEVENT
UID:readingberks-589193@ygametime.com
DTSTAMP:Z
DTSTART;TZID=America/New York:20260129T190000
DURATION:PT0H60M0S
SUMMARY:Cavaliers vs Schuylkill Valley Kelly
DESCRIPTION:Tri Valley 3-4 Boys | Youth Basketball\nYMCA of Reading &amp; Berks County\n
URL;VALUE=URI:https://ygametime.com/branch/readingberks/sports/2026-winter-youth-basketball/25004/?utm_medium=calendar&utm_source=team_cal&utm_content=league_url#game-589193
LOCATION:Tri Valley YMCA Full Court
BEGIN:VALARM
TRIGGER:-P2H
ACTION:DISPLAY
DESCRIPTION:Cavaliers vs Schuylkill Valley Kelly
END:VALARM
END:VEVENT
BEGIN:VEVENT
UID:readingberks-590595@ygametime.com
DTSTAMP:Z
DTSTART;TZID=America/New York:20260216T193000
DURATION:PT0H60M0S
SUMMARY:Cavaliers vs Schuylkill Valley Kelly
DESCRIPTION:Tri Valley 3-4 Boys | Youth Basketball\nYMCA of Reading &amp; Berks County\n
URL;VALUE=URI:https://ygametime.com/branch/readingberks/sports/2026-winter-youth-basketball/25004/?utm_medium=calendar&utm_source=team_cal&utm_content=league_url#game-590595
LOCATION:Tri Valley YMCA Full Court
BEGIN:VALARM
TRIGGER:-P2H
ACTION:DISPLAY
DESCRIPTION:Cavaliers vs Schuylkill Valley Kelly
END:VALARM
END:VEVENT
END:VCALENDAR

