BEGIN:VCALENDAR
VERSION:2.0
PRODID:-//YGAMETIME.com//YGT iCal Creator//EN
METHOD:PUBLISH
X-PUBLISHED-TTL:PT6H
REFRESH-INTERVAL;VALUE=DURATION:PT6H
CALSCALE:GREGORIAN
X-WR-CALNAME:YGAMETIME CALENDAR
BEGIN:VTIMEZONE
TZID:America/Chicago
X-LIC-LOCATION:America/Chicago
BEGIN:DAYLIGHT
TZOFFSETFROM:-0600
TZOFFSETTO:-0500
TZNAME:CDT
DTSTART:19700308T020000
RRULE:FREQ=YEARLY;BYMONTH=3;BYDAY=2SU
END:DAYLIGHT
BEGIN:STANDARD
TZOFFSETFROM:-0500
TZOFFSETTO:-0600
TZNAME:CST
DTSTART:19701101T020000
RRULE:FREQ=YEARLY;BYMONTH=11;BYDAY=1SU
END:STANDARD
END:VTIMEZONE
BEGIN:VEVENT
UID:robertson-599043@ygametime.com
DTSTAMP:20260404T171500Z
DTSTART;TZID=America/Chicago:20260404T121500
DURATION:PT0H60M0S
SUMMARY:Arms vs Tucker 
DESCRIPTION:2022 Coed (U4) | Soccer\nRobertson County Family YMCA\n
URL;VALUE=URI:https://ygametime.com/branch/robertson/sports/2026-spring-soccer/25720/?utm_medium=calendar&utm_source=team_cal&utm_content=league_url#game-599043
LOCATION:Field 2 
BEGIN:VALARM
TRIGGER:-P2H
ACTION:DISPLAY
DESCRIPTION:Arms vs Tucker 
END:VALARM
END:VEVENT
BEGIN:VEVENT
UID:robertson-599046@ygametime.com
DTSTAMP:20260411T171500Z
DTSTART;TZID=America/Chicago:20260411T121500
DURATION:PT0H60M0S
SUMMARY:Tucker  vs Cortese
DESCRIPTION:2022 Coed (U4) | Soccer\nRobertson County Family YMCA\n
URL;VALUE=URI:https://ygametime.com/branch/robertson/sports/2026-spring-soccer/25720/?utm_medium=calendar&utm_source=team_cal&utm_content=league_url#game-599046
LOCATION:Field 2 
BEGIN:VALARM
TRIGGER:-P2H
ACTION:DISPLAY
DESCRIPTION:Tucker  vs Cortese
END:VALARM
END:VEVENT
BEGIN:VEVENT
UID:robertson-599050@ygametime.com
DTSTAMP:20260418T183000Z
DTSTART;TZID=America/Chicago:20260418T133000
DURATION:PT0H60M0S
SUMMARY:Bibb vs Tucker 
DESCRIPTION:2022 Coed (U4) | Soccer\nRobertson County Family YMCA\n
URL;VALUE=URI:https://ygametime.com/branch/robertson/sports/2026-spring-soccer/25720/?utm_medium=calendar&utm_source=team_cal&utm_content=league_url#game-599050
LOCATION:Field 2 
BEGIN:VALARM
TRIGGER:-P2H
ACTION:DISPLAY
DESCRIPTION:Bibb vs Tucker 
END:VALARM
END:VEVENT
BEGIN:VEVENT
UID:robertson-599053@ygametime.com
DTSTAMP:20260425T183000Z
DTSTART;TZID=America/Chicago:20260425T133000
DURATION:PT0H60M0S
SUMMARY:Tucker  vs Pennington
DESCRIPTION:2022 Coed (U4) | Soccer\nRobertson County Family YMCA\n
URL;VALUE=URI:https://ygametime.com/branch/robertson/sports/2026-spring-soccer/25720/?utm_medium=calendar&utm_source=team_cal&utm_content=league_url#game-599053
LOCATION:Field 2 
BEGIN:VALARM
TRIGGER:-P2H
ACTION:DISPLAY
DESCRIPTION:Tucker  vs Pennington
END:VALARM
END:VEVENT
BEGIN:VEVENT
UID:robertson-599057@ygametime.com
DTSTAMP:20260502T200000Z
DTSTART;TZID=America/Chicago:20260502T150000
DURATION:PT0H60M0S
SUMMARY:Boehm vs Tucker 
DESCRIPTION:2022 Coed (U4) | Soccer\nRobertson County Family YMCA\n
URL;VALUE=URI:https://ygametime.com/branch/robertson/sports/2026-spring-soccer/25720/?utm_medium=calendar&utm_source=team_cal&utm_content=league_url#game-599057
LOCATION:Field 2 
BEGIN:VALARM
TRIGGER:-P2H
ACTION:DISPLAY
DESCRIPTION:Boehm vs Tucker 
END:VALARM
END:VEVENT
BEGIN:VEVENT
UID:robertson-599059@ygametime.com
DTSTAMP:20260509T183000Z
DTSTART;TZID=America/Chicago:20260509T133000
DURATION:PT0H60M0S
SUMMARY:Arms vs Tucker 
DESCRIPTION:2022 Coed (U4) | Soccer\nRobertson County Family YMCA\n
URL;VALUE=URI:https://ygametime.com/branch/robertson/sports/2026-spring-soccer/25720/?utm_medium=calendar&utm_source=team_cal&utm_content=league_url#game-599059
LOCATION:Field 2 
BEGIN:VALARM
TRIGGER:-P2H
ACTION:DISPLAY
DESCRIPTION:Arms vs Tucker 
END:VALARM
END:VEVENT
BEGIN:VEVENT
UID:robertson-599063@ygametime.com
DTSTAMP:20260516T200000Z
DTSTART;TZID=America/Chicago:20260516T150000
DURATION:PT0H60M0S
SUMMARY:Tucker  vs Cortese
DESCRIPTION:2022 Coed (U4) | Soccer\nRobertson County Family YMCA\n
URL;VALUE=URI:https://ygametime.com/branch/robertson/sports/2026-spring-soccer/25720/?utm_medium=calendar&utm_source=team_cal&utm_content=league_url#game-599063
LOCATION:Field 2 
BEGIN:VALARM
TRIGGER:-P2H
ACTION:DISPLAY
DESCRIPTION:Tucker  vs Cortese
END:VALARM
END:VEVENT
END:VCALENDAR

