BEGIN:VCALENDAR
VERSION:2.0
PRODID:-//YGAMETIME.com//YGT iCal Creator//EN
METHOD:PUBLISH
X-PUBLISHED-TTL:PT6H
REFRESH-INTERVAL;VALUE=DURATION:PT6H
CALSCALE:GREGORIAN
X-WR-CALNAME:YGAMETIME CALENDAR
BEGIN:VTIMEZONE
TZID:America/Chicago
X-LIC-LOCATION:America/Chicago
BEGIN:DAYLIGHT
TZOFFSETFROM:-0600
TZOFFSETTO:-0500
TZNAME:CDT
DTSTART:19700308T020000
RRULE:FREQ=YEARLY;BYMONTH=3;BYDAY=2SU
END:DAYLIGHT
BEGIN:STANDARD
TZOFFSETFROM:-0500
TZOFFSETTO:-0600
TZNAME:CST
DTSTART:19701101T020000
RRULE:FREQ=YEARLY;BYMONTH=11;BYDAY=1SU
END:STANDARD
END:VTIMEZONE
BEGIN:VEVENT
UID:robertson-599045@ygametime.com
DTSTAMP:20260404T200000Z
DTSTART;TZID=America/Chicago:20260404T150000
DURATION:PT0H60M0S
SUMMARY:Pennington vs Bibb
DESCRIPTION:2022 Coed (U4) | Soccer\nRobertson County Family YMCA\n
URL;VALUE=URI:https://ygametime.com/branch/robertson/sports/2026-spring-soccer/25720/?utm_medium=calendar&utm_source=team_cal&utm_content=league_url#game-599045
LOCATION:Field 2 
BEGIN:VALARM
TRIGGER:-P2H
ACTION:DISPLAY
DESCRIPTION:Pennington vs Bibb
END:VALARM
END:VEVENT
BEGIN:VEVENT
UID:robertson-599047@ygametime.com
DTSTAMP:20260411T183000Z
DTSTART;TZID=America/Chicago:20260411T133000
DURATION:PT0H60M0S
SUMMARY:Boehm vs Pennington
DESCRIPTION:2022 Coed (U4) | Soccer\nRobertson County Family YMCA\n
URL;VALUE=URI:https://ygametime.com/branch/robertson/sports/2026-spring-soccer/25720/?utm_medium=calendar&utm_source=team_cal&utm_content=league_url#game-599047
LOCATION:Field 2 
BEGIN:VALARM
TRIGGER:-P2H
ACTION:DISPLAY
DESCRIPTION:Boehm vs Pennington
END:VALARM
END:VEVENT
BEGIN:VEVENT
UID:robertson-599049@ygametime.com
DTSTAMP:20260418T171500Z
DTSTART;TZID=America/Chicago:20260418T121500
DURATION:PT0H60M0S
SUMMARY:Pennington vs Cortese
DESCRIPTION:2022 Coed (U4) | Soccer\nRobertson County Family YMCA\n
URL;VALUE=URI:https://ygametime.com/branch/robertson/sports/2026-spring-soccer/25720/?utm_medium=calendar&utm_source=team_cal&utm_content=league_url#game-599049
LOCATION:Field 2 
BEGIN:VALARM
TRIGGER:-P2H
ACTION:DISPLAY
DESCRIPTION:Pennington vs Cortese
END:VALARM
END:VEVENT
BEGIN:VEVENT
UID:robertson-599053@ygametime.com
DTSTAMP:20260425T183000Z
DTSTART;TZID=America/Chicago:20260425T133000
DURATION:PT0H60M0S
SUMMARY:Tucker  vs Pennington
DESCRIPTION:2022 Coed (U4) | Soccer\nRobertson County Family YMCA\n
URL;VALUE=URI:https://ygametime.com/branch/robertson/sports/2026-spring-soccer/25720/?utm_medium=calendar&utm_source=team_cal&utm_content=league_url#game-599053
LOCATION:Field 2 
BEGIN:VALARM
TRIGGER:-P2H
ACTION:DISPLAY
DESCRIPTION:Tucker  vs Pennington
END:VALARM
END:VEVENT
BEGIN:VEVENT
UID:robertson-599055@ygametime.com
DTSTAMP:20260502T171500Z
DTSTART;TZID=America/Chicago:20260502T121500
DURATION:PT0H60M0S
SUMMARY:Arms vs Pennington
DESCRIPTION:2022 Coed (U4) | Soccer\nRobertson County Family YMCA\n
URL;VALUE=URI:https://ygametime.com/branch/robertson/sports/2026-spring-soccer/25720/?utm_medium=calendar&utm_source=team_cal&utm_content=league_url#game-599055
LOCATION:Field 2 
BEGIN:VALARM
TRIGGER:-P2H
ACTION:DISPLAY
DESCRIPTION:Arms vs Pennington
END:VALARM
END:VEVENT
BEGIN:VEVENT
UID:robertson-599060@ygametime.com
DTSTAMP:20260509T200000Z
DTSTART;TZID=America/Chicago:20260509T150000
DURATION:PT0H60M0S
SUMMARY:Pennington vs Bibb
DESCRIPTION:2022 Coed (U4) | Soccer\nRobertson County Family YMCA\n
URL;VALUE=URI:https://ygametime.com/branch/robertson/sports/2026-spring-soccer/25720/?utm_medium=calendar&utm_source=team_cal&utm_content=league_url#game-599060
LOCATION:Field 2 
BEGIN:VALARM
TRIGGER:-P2H
ACTION:DISPLAY
DESCRIPTION:Pennington vs Bibb
END:VALARM
END:VEVENT
BEGIN:VEVENT
UID:robertson-599061@ygametime.com
DTSTAMP:20260516T171500Z
DTSTART;TZID=America/Chicago:20260516T121500
DURATION:PT0H60M0S
SUMMARY:Boehm vs Pennington
DESCRIPTION:2022 Coed (U4) | Soccer\nRobertson County Family YMCA\n
URL;VALUE=URI:https://ygametime.com/branch/robertson/sports/2026-spring-soccer/25720/?utm_medium=calendar&utm_source=team_cal&utm_content=league_url#game-599061
LOCATION:Field 2 
BEGIN:VALARM
TRIGGER:-P2H
ACTION:DISPLAY
DESCRIPTION:Boehm vs Pennington
END:VALARM
END:VEVENT
END:VCALENDAR

