BEGIN:VCALENDAR
VERSION:2.0
PRODID:-//YGAMETIME.com//YGT iCal Creator//EN
METHOD:PUBLISH
X-PUBLISHED-TTL:PT6H
REFRESH-INTERVAL;VALUE=DURATION:PT6H
CALSCALE:GREGORIAN
X-WR-CALNAME:YGAMETIME CALENDAR
BEGIN:VTIMEZONE
TZID:America/Chicago
X-LIC-LOCATION:America/Chicago
BEGIN:DAYLIGHT
TZOFFSETFROM:-0600
TZOFFSETTO:-0500
TZNAME:CDT
DTSTART:19700308T020000
RRULE:FREQ=YEARLY;BYMONTH=3;BYDAY=2SU
END:DAYLIGHT
BEGIN:STANDARD
TZOFFSETFROM:-0500
TZOFFSETTO:-0600
TZNAME:CST
DTSTART:19701101T020000
RRULE:FREQ=YEARLY;BYMONTH=11;BYDAY=1SU
END:STANDARD
END:VTIMEZONE
BEGIN:VEVENT
UID:robertson-599044@ygametime.com
DTSTAMP:20260404T183000Z
DTSTART;TZID=America/Chicago:20260404T133000
DURATION:PT0H60M0S
SUMMARY:Cortese vs Boehm
DESCRIPTION:2022 Coed (U4) | Soccer\nRobertson County Family YMCA\n
URL;VALUE=URI:https://ygametime.com/branch/robertson/sports/2026-spring-soccer/25720/?utm_medium=calendar&utm_source=team_cal&utm_content=league_url#game-599044
LOCATION:Field 2 
BEGIN:VALARM
TRIGGER:-P2H
ACTION:DISPLAY
DESCRIPTION:Cortese vs Boehm
END:VALARM
END:VEVENT
BEGIN:VEVENT
UID:robertson-599046@ygametime.com
DTSTAMP:20260411T171500Z
DTSTART;TZID=America/Chicago:20260411T121500
DURATION:PT0H60M0S
SUMMARY:Tucker  vs Cortese
DESCRIPTION:2022 Coed (U4) | Soccer\nRobertson County Family YMCA\n
URL;VALUE=URI:https://ygametime.com/branch/robertson/sports/2026-spring-soccer/25720/?utm_medium=calendar&utm_source=team_cal&utm_content=league_url#game-599046
LOCATION:Field 2 
BEGIN:VALARM
TRIGGER:-P2H
ACTION:DISPLAY
DESCRIPTION:Tucker  vs Cortese
END:VALARM
END:VEVENT
BEGIN:VEVENT
UID:robertson-599049@ygametime.com
DTSTAMP:20260418T171500Z
DTSTART;TZID=America/Chicago:20260418T121500
DURATION:PT0H60M0S
SUMMARY:Pennington vs Cortese
DESCRIPTION:2022 Coed (U4) | Soccer\nRobertson County Family YMCA\n
URL;VALUE=URI:https://ygametime.com/branch/robertson/sports/2026-spring-soccer/25720/?utm_medium=calendar&utm_source=team_cal&utm_content=league_url#game-599049
LOCATION:Field 2 
BEGIN:VALARM
TRIGGER:-P2H
ACTION:DISPLAY
DESCRIPTION:Pennington vs Cortese
END:VALARM
END:VEVENT
BEGIN:VEVENT
UID:robertson-599054@ygametime.com
DTSTAMP:20260425T200000Z
DTSTART;TZID=America/Chicago:20260425T150000
DURATION:PT0H60M0S
SUMMARY:Cortese vs Arms
DESCRIPTION:2022 Coed (U4) | Soccer\nRobertson County Family YMCA\n
URL;VALUE=URI:https://ygametime.com/branch/robertson/sports/2026-spring-soccer/25720/?utm_medium=calendar&utm_source=team_cal&utm_content=league_url#game-599054
LOCATION:Field 2 
BEGIN:VALARM
TRIGGER:-P2H
ACTION:DISPLAY
DESCRIPTION:Cortese vs Arms
END:VALARM
END:VEVENT
BEGIN:VEVENT
UID:robertson-599056@ygametime.com
DTSTAMP:20260502T183000Z
DTSTART;TZID=America/Chicago:20260502T133000
DURATION:PT0H60M0S
SUMMARY:Bibb vs Cortese
DESCRIPTION:2022 Coed (U4) | Soccer\nRobertson County Family YMCA\n
URL;VALUE=URI:https://ygametime.com/branch/robertson/sports/2026-spring-soccer/25720/?utm_medium=calendar&utm_source=team_cal&utm_content=league_url#game-599056
LOCATION:Field 2 
BEGIN:VALARM
TRIGGER:-P2H
ACTION:DISPLAY
DESCRIPTION:Bibb vs Cortese
END:VALARM
END:VEVENT
BEGIN:VEVENT
UID:robertson-599058@ygametime.com
DTSTAMP:20260509T171500Z
DTSTART;TZID=America/Chicago:20260509T121500
DURATION:PT0H60M0S
SUMMARY:Cortese vs Boehm
DESCRIPTION:2022 Coed (U4) | Soccer\nRobertson County Family YMCA\n
URL;VALUE=URI:https://ygametime.com/branch/robertson/sports/2026-spring-soccer/25720/?utm_medium=calendar&utm_source=team_cal&utm_content=league_url#game-599058
LOCATION:Field 2 
BEGIN:VALARM
TRIGGER:-P2H
ACTION:DISPLAY
DESCRIPTION:Cortese vs Boehm
END:VALARM
END:VEVENT
BEGIN:VEVENT
UID:robertson-599063@ygametime.com
DTSTAMP:20260516T200000Z
DTSTART;TZID=America/Chicago:20260516T150000
DURATION:PT0H60M0S
SUMMARY:Tucker  vs Cortese
DESCRIPTION:2022 Coed (U4) | Soccer\nRobertson County Family YMCA\n
URL;VALUE=URI:https://ygametime.com/branch/robertson/sports/2026-spring-soccer/25720/?utm_medium=calendar&utm_source=team_cal&utm_content=league_url#game-599063
LOCATION:Field 2 
BEGIN:VALARM
TRIGGER:-P2H
ACTION:DISPLAY
DESCRIPTION:Tucker  vs Cortese
END:VALARM
END:VEVENT
END:VCALENDAR

