BEGIN:VCALENDAR
VERSION:2.0
PRODID:-//YGAMETIME.com//YGT iCal Creator//EN
METHOD:PUBLISH
X-PUBLISHED-TTL:PT6H
REFRESH-INTERVAL;VALUE=DURATION:PT6H
CALSCALE:GREGORIAN
X-WR-CALNAME:YGAMETIME CALENDAR
BEGIN:VTIMEZONE
TZID:America/Chicago
X-LIC-LOCATION:America/Chicago
BEGIN:DAYLIGHT
TZOFFSETFROM:-0600
TZOFFSETTO:-0500
TZNAME:CDT
DTSTART:19700308T020000
RRULE:FREQ=YEARLY;BYMONTH=3;BYDAY=2SU
END:DAYLIGHT
BEGIN:STANDARD
TZOFFSETFROM:-0500
TZOFFSETTO:-0600
TZNAME:CST
DTSTART:19701101T020000
RRULE:FREQ=YEARLY;BYMONTH=11;BYDAY=1SU
END:STANDARD
END:VTIMEZONE
BEGIN:VEVENT
UID:robertson-599017@ygametime.com
DTSTAMP:20260404T183000Z
DTSTART;TZID=America/Chicago:20260404T133000
DURATION:PT0H60M0S
SUMMARY:Sherrill vs Lamb
DESCRIPTION:2020-2021 Coed (U6) | Soccer\nRobertson County Family YMCA\n
URL;VALUE=URI:https://ygametime.com/branch/robertson/sports/2026-spring-soccer/25721/?utm_medium=calendar&utm_source=team_cal&utm_content=league_url#game-599017
LOCATION:Field 1
BEGIN:VALARM
TRIGGER:-P2H
ACTION:DISPLAY
DESCRIPTION:Sherrill vs Lamb
END:VALARM
END:VEVENT
BEGIN:VEVENT
UID:robertson-599022@ygametime.com
DTSTAMP:20260411T200000Z
DTSTART;TZID=America/Chicago:20260411T150000
DURATION:PT0H60M0S
SUMMARY:Lamb vs Beech
DESCRIPTION:2020-2021 Coed (U6) | Soccer\nRobertson County Family YMCA\n
URL;VALUE=URI:https://ygametime.com/branch/robertson/sports/2026-spring-soccer/25721/?utm_medium=calendar&utm_source=team_cal&utm_content=league_url#game-599022
LOCATION:Field 1
BEGIN:VALARM
TRIGGER:-P2H
ACTION:DISPLAY
DESCRIPTION:Lamb vs Beech
END:VALARM
END:VEVENT
BEGIN:VEVENT
UID:robertson-599025@ygametime.com
DTSTAMP:20260418T183000Z
DTSTART;TZID=America/Chicago:20260418T133000
DURATION:PT0H60M0S
SUMMARY:Dickerson vs Lamb
DESCRIPTION:2020-2021 Coed (U6) | Soccer\nRobertson County Family YMCA\n
URL;VALUE=URI:https://ygametime.com/branch/robertson/sports/2026-spring-soccer/25721/?utm_medium=calendar&utm_source=team_cal&utm_content=league_url#game-599025
LOCATION:Field 1
BEGIN:VALARM
TRIGGER:-P2H
ACTION:DISPLAY
DESCRIPTION:Dickerson vs Lamb
END:VALARM
END:VEVENT
BEGIN:VEVENT
UID:robertson-599029@ygametime.com
DTSTAMP:20260425T183000Z
DTSTART;TZID=America/Chicago:20260425T133000
DURATION:PT0H60M0S
SUMMARY:Lamb vs Hendricks
DESCRIPTION:2020-2021 Coed (U6) | Soccer\nRobertson County Family YMCA\n
URL;VALUE=URI:https://ygametime.com/branch/robertson/sports/2026-spring-soccer/25721/?utm_medium=calendar&utm_source=team_cal&utm_content=league_url#game-599029
LOCATION:Field 1
BEGIN:VALARM
TRIGGER:-P2H
ACTION:DISPLAY
DESCRIPTION:Lamb vs Hendricks
END:VALARM
END:VEVENT
BEGIN:VEVENT
UID:robertson-599031@ygametime.com
DTSTAMP:20260502T160000Z
DTSTART;TZID=America/Chicago:20260502T110000
DURATION:PT0H60M0S
SUMMARY:Troop vs Lamb
DESCRIPTION:2020-2021 Coed (U6) | Soccer\nRobertson County Family YMCA\n
URL;VALUE=URI:https://ygametime.com/branch/robertson/sports/2026-spring-soccer/25721/?utm_medium=calendar&utm_source=team_cal&utm_content=league_url#game-599031
LOCATION:Field 1
BEGIN:VALARM
TRIGGER:-P2H
ACTION:DISPLAY
DESCRIPTION:Troop vs Lamb
END:VALARM
END:VEVENT
BEGIN:VEVENT
UID:robertson-599038@ygametime.com
DTSTAMP:20260509T200000Z
DTSTART;TZID=America/Chicago:20260509T150000
DURATION:PT0H60M0S
SUMMARY:Lamb vs Bush
DESCRIPTION:2020-2021 Coed (U6) | Soccer\nRobertson County Family YMCA\n
URL;VALUE=URI:https://ygametime.com/branch/robertson/sports/2026-spring-soccer/25721/?utm_medium=calendar&utm_source=team_cal&utm_content=league_url#game-599038
LOCATION:Field 1
BEGIN:VALARM
TRIGGER:-P2H
ACTION:DISPLAY
DESCRIPTION:Lamb vs Bush
END:VALARM
END:VEVENT
BEGIN:VEVENT
UID:robertson-599040@ygametime.com
DTSTAMP:20260516T171500Z
DTSTART;TZID=America/Chicago:20260516T121500
DURATION:PT0H60M0S
SUMMARY:Jones vs Lamb
DESCRIPTION:2020-2021 Coed (U6) | Soccer\nRobertson County Family YMCA\n
URL;VALUE=URI:https://ygametime.com/branch/robertson/sports/2026-spring-soccer/25721/?utm_medium=calendar&utm_source=team_cal&utm_content=league_url#game-599040
LOCATION:Field 1
BEGIN:VALARM
TRIGGER:-P2H
ACTION:DISPLAY
DESCRIPTION:Jones vs Lamb
END:VALARM
END:VEVENT
END:VCALENDAR

