BEGIN:VCALENDAR
VERSION:2.0
PRODID:-//YGAMETIME.com//YGT iCal Creator//EN
METHOD:PUBLISH
X-PUBLISHED-TTL:PT6H
REFRESH-INTERVAL;VALUE=DURATION:PT6H
CALSCALE:GREGORIAN
X-WR-CALNAME:YGAMETIME CALENDAR
BEGIN:VTIMEZONE
TZID:America/Chicago
X-LIC-LOCATION:America/Chicago
BEGIN:DAYLIGHT
TZOFFSETFROM:-0600
TZOFFSETTO:-0500
TZNAME:CDT
DTSTART:19700308T020000
RRULE:FREQ=YEARLY;BYMONTH=3;BYDAY=2SU
END:DAYLIGHT
BEGIN:STANDARD
TZOFFSETFROM:-0500
TZOFFSETTO:-0600
TZNAME:CST
DTSTART:19701101T020000
RRULE:FREQ=YEARLY;BYMONTH=11;BYDAY=1SU
END:STANDARD
END:VTIMEZONE
BEGIN:VEVENT
UID:robertson-599016@ygametime.com
DTSTAMP:20260404T171500Z
DTSTART;TZID=America/Chicago:20260404T121500
DURATION:PT0H60M0S
SUMMARY:Beech vs Jones
DESCRIPTION:2020-2021 Coed (U6) | Soccer\nRobertson County Family YMCA\n
URL;VALUE=URI:https://ygametime.com/branch/robertson/sports/2026-spring-soccer/25721/?utm_medium=calendar&utm_source=team_cal&utm_content=league_url#game-599016
LOCATION:Field 1
BEGIN:VALARM
TRIGGER:-P2H
ACTION:DISPLAY
DESCRIPTION:Beech vs Jones
END:VALARM
END:VEVENT
BEGIN:VEVENT
UID:robertson-599019@ygametime.com
DTSTAMP:20260411T160000Z
DTSTART;TZID=America/Chicago:20260411T110000
DURATION:PT0H60M0S
SUMMARY:Jones vs Hendricks
DESCRIPTION:2020-2021 Coed (U6) | Soccer\nRobertson County Family YMCA\n
URL;VALUE=URI:https://ygametime.com/branch/robertson/sports/2026-spring-soccer/25721/?utm_medium=calendar&utm_source=team_cal&utm_content=league_url#game-599019
LOCATION:Field 1
BEGIN:VALARM
TRIGGER:-P2H
ACTION:DISPLAY
DESCRIPTION:Jones vs Hendricks
END:VALARM
END:VEVENT
BEGIN:VEVENT
UID:robertson-599024@ygametime.com
DTSTAMP:20260418T171500Z
DTSTART;TZID=America/Chicago:20260418T121500
DURATION:PT0H60M0S
SUMMARY:Bush vs Jones
DESCRIPTION:2020-2021 Coed (U6) | Soccer\nRobertson County Family YMCA\n
URL;VALUE=URI:https://ygametime.com/branch/robertson/sports/2026-spring-soccer/25721/?utm_medium=calendar&utm_source=team_cal&utm_content=league_url#game-599024
LOCATION:Field 1
BEGIN:VALARM
TRIGGER:-P2H
ACTION:DISPLAY
DESCRIPTION:Bush vs Jones
END:VALARM
END:VEVENT
BEGIN:VEVENT
UID:robertson-599027@ygametime.com
DTSTAMP:20260425T160000Z
DTSTART;TZID=America/Chicago:20260425T110000
DURATION:PT0H60M0S
SUMMARY:Jones vs Sherrill
DESCRIPTION:2020-2021 Coed (U6) | Soccer\nRobertson County Family YMCA\n
URL;VALUE=URI:https://ygametime.com/branch/robertson/sports/2026-spring-soccer/25721/?utm_medium=calendar&utm_source=team_cal&utm_content=league_url#game-599027
LOCATION:Field 1
BEGIN:VALARM
TRIGGER:-P2H
ACTION:DISPLAY
DESCRIPTION:Jones vs Sherrill
END:VALARM
END:VEVENT
BEGIN:VEVENT
UID:robertson-599033@ygametime.com
DTSTAMP:20260502T183000Z
DTSTART;TZID=America/Chicago:20260502T133000
DURATION:PT0H60M0S
SUMMARY:Dickerson vs Jones
DESCRIPTION:2020-2021 Coed (U6) | Soccer\nRobertson County Family YMCA\n
URL;VALUE=URI:https://ygametime.com/branch/robertson/sports/2026-spring-soccer/25721/?utm_medium=calendar&utm_source=team_cal&utm_content=league_url#game-599033
LOCATION:Field 1
BEGIN:VALARM
TRIGGER:-P2H
ACTION:DISPLAY
DESCRIPTION:Dickerson vs Jones
END:VALARM
END:VEVENT
BEGIN:VEVENT
UID:robertson-599035@ygametime.com
DTSTAMP:20260509T160000Z
DTSTART;TZID=America/Chicago:20260509T110000
DURATION:PT0H60M0S
SUMMARY:Jones vs Troop
DESCRIPTION:2020-2021 Coed (U6) | Soccer\nRobertson County Family YMCA\n
URL;VALUE=URI:https://ygametime.com/branch/robertson/sports/2026-spring-soccer/25721/?utm_medium=calendar&utm_source=team_cal&utm_content=league_url#game-599035
LOCATION:Field 1
BEGIN:VALARM
TRIGGER:-P2H
ACTION:DISPLAY
DESCRIPTION:Jones vs Troop
END:VALARM
END:VEVENT
BEGIN:VEVENT
UID:robertson-599040@ygametime.com
DTSTAMP:20260516T171500Z
DTSTART;TZID=America/Chicago:20260516T121500
DURATION:PT0H60M0S
SUMMARY:Jones vs Lamb
DESCRIPTION:2020-2021 Coed (U6) | Soccer\nRobertson County Family YMCA\n
URL;VALUE=URI:https://ygametime.com/branch/robertson/sports/2026-spring-soccer/25721/?utm_medium=calendar&utm_source=team_cal&utm_content=league_url#game-599040
LOCATION:Field 1
BEGIN:VALARM
TRIGGER:-P2H
ACTION:DISPLAY
DESCRIPTION:Jones vs Lamb
END:VALARM
END:VEVENT
END:VCALENDAR

