BEGIN:VCALENDAR
VERSION:2.0
PRODID:-//YGAMETIME.com//YGT iCal Creator//EN
METHOD:PUBLISH
X-PUBLISHED-TTL:PT6H
REFRESH-INTERVAL;VALUE=DURATION:PT6H
CALSCALE:GREGORIAN
X-WR-CALNAME:YGAMETIME CALENDAR
BEGIN:VTIMEZONE
TZID:America/Chicago
X-LIC-LOCATION:America/Chicago
BEGIN:DAYLIGHT
TZOFFSETFROM:-0600
TZOFFSETTO:-0500
TZNAME:CDT
DTSTART:19700308T020000
RRULE:FREQ=YEARLY;BYMONTH=3;BYDAY=2SU
END:DAYLIGHT
BEGIN:STANDARD
TZOFFSETFROM:-0500
TZOFFSETTO:-0600
TZNAME:CST
DTSTART:19701101T020000
RRULE:FREQ=YEARLY;BYMONTH=11;BYDAY=1SU
END:STANDARD
END:VTIMEZONE
BEGIN:VEVENT
UID:robertson-599018@ygametime.com
DTSTAMP:20260404T200000Z
DTSTART;TZID=America/Chicago:20260404T150000
DURATION:PT0H60M0S
SUMMARY:Hendricks vs Troop
DESCRIPTION:2020-2021 Coed (U6) | Soccer\nRobertson County Family YMCA\n
URL;VALUE=URI:https://ygametime.com/branch/robertson/sports/2026-spring-soccer/25721/?utm_medium=calendar&utm_source=team_cal&utm_content=league_url#game-599018
LOCATION:Field 1
BEGIN:VALARM
TRIGGER:-P2H
ACTION:DISPLAY
DESCRIPTION:Hendricks vs Troop
END:VALARM
END:VEVENT
BEGIN:VEVENT
UID:robertson-599021@ygametime.com
DTSTAMP:20260411T183000Z
DTSTART;TZID=America/Chicago:20260411T133000
DURATION:PT0H60M0S
SUMMARY:Troop vs Bush
DESCRIPTION:2020-2021 Coed (U6) | Soccer\nRobertson County Family YMCA\n
URL;VALUE=URI:https://ygametime.com/branch/robertson/sports/2026-spring-soccer/25721/?utm_medium=calendar&utm_source=team_cal&utm_content=league_url#game-599021
LOCATION:Field 1
BEGIN:VALARM
TRIGGER:-P2H
ACTION:DISPLAY
DESCRIPTION:Troop vs Bush
END:VALARM
END:VEVENT
BEGIN:VEVENT
UID:robertson-599026@ygametime.com
DTSTAMP:20260418T200000Z
DTSTART;TZID=America/Chicago:20260418T150000
DURATION:PT0H60M0S
SUMMARY:Sherrill vs Troop
DESCRIPTION:2020-2021 Coed (U6) | Soccer\nRobertson County Family YMCA\n
URL;VALUE=URI:https://ygametime.com/branch/robertson/sports/2026-spring-soccer/25721/?utm_medium=calendar&utm_source=team_cal&utm_content=league_url#game-599026
LOCATION:Field 1
BEGIN:VALARM
TRIGGER:-P2H
ACTION:DISPLAY
DESCRIPTION:Sherrill vs Troop
END:VALARM
END:VEVENT
BEGIN:VEVENT
UID:robertson-599028@ygametime.com
DTSTAMP:20260425T171500Z
DTSTART;TZID=America/Chicago:20260425T121500
DURATION:PT0H60M0S
SUMMARY:Troop vs Dickerson
DESCRIPTION:2020-2021 Coed (U6) | Soccer\nRobertson County Family YMCA\n
URL;VALUE=URI:https://ygametime.com/branch/robertson/sports/2026-spring-soccer/25721/?utm_medium=calendar&utm_source=team_cal&utm_content=league_url#game-599028
LOCATION:Field 1
BEGIN:VALARM
TRIGGER:-P2H
ACTION:DISPLAY
DESCRIPTION:Troop vs Dickerson
END:VALARM
END:VEVENT
BEGIN:VEVENT
UID:robertson-599031@ygametime.com
DTSTAMP:20260502T160000Z
DTSTART;TZID=America/Chicago:20260502T110000
DURATION:PT0H60M0S
SUMMARY:Troop vs Lamb
DESCRIPTION:2020-2021 Coed (U6) | Soccer\nRobertson County Family YMCA\n
URL;VALUE=URI:https://ygametime.com/branch/robertson/sports/2026-spring-soccer/25721/?utm_medium=calendar&utm_source=team_cal&utm_content=league_url#game-599031
LOCATION:Field 1
BEGIN:VALARM
TRIGGER:-P2H
ACTION:DISPLAY
DESCRIPTION:Troop vs Lamb
END:VALARM
END:VEVENT
BEGIN:VEVENT
UID:robertson-599035@ygametime.com
DTSTAMP:20260509T160000Z
DTSTART;TZID=America/Chicago:20260509T110000
DURATION:PT0H60M0S
SUMMARY:Jones vs Troop
DESCRIPTION:2020-2021 Coed (U6) | Soccer\nRobertson County Family YMCA\n
URL;VALUE=URI:https://ygametime.com/branch/robertson/sports/2026-spring-soccer/25721/?utm_medium=calendar&utm_source=team_cal&utm_content=league_url#game-599035
LOCATION:Field 1
BEGIN:VALARM
TRIGGER:-P2H
ACTION:DISPLAY
DESCRIPTION:Jones vs Troop
END:VALARM
END:VEVENT
BEGIN:VEVENT
UID:robertson-599039@ygametime.com
DTSTAMP:20260516T160000Z
DTSTART;TZID=America/Chicago:20260516T110000
DURATION:PT0H60M0S
SUMMARY:Troop vs Beech
DESCRIPTION:2020-2021 Coed (U6) | Soccer\nRobertson County Family YMCA\n
URL;VALUE=URI:https://ygametime.com/branch/robertson/sports/2026-spring-soccer/25721/?utm_medium=calendar&utm_source=team_cal&utm_content=league_url#game-599039
LOCATION:Field 1
BEGIN:VALARM
TRIGGER:-P2H
ACTION:DISPLAY
DESCRIPTION:Troop vs Beech
END:VALARM
END:VEVENT
END:VCALENDAR

