BEGIN:VCALENDAR
VERSION:2.0
PRODID:-//YGAMETIME.com//YGT iCal Creator//EN
METHOD:PUBLISH
X-PUBLISHED-TTL:PT6H
REFRESH-INTERVAL;VALUE=DURATION:PT6H
CALSCALE:GREGORIAN
X-WR-CALNAME:YGAMETIME CALENDAR
BEGIN:VTIMEZONE
TZID:America/Chicago
X-LIC-LOCATION:America/Chicago
BEGIN:DAYLIGHT
TZOFFSETFROM:-0600
TZOFFSETTO:-0500
TZNAME:CDT
DTSTART:19700308T020000
RRULE:FREQ=YEARLY;BYMONTH=3;BYDAY=2SU
END:DAYLIGHT
BEGIN:STANDARD
TZOFFSETFROM:-0500
TZOFFSETTO:-0600
TZNAME:CST
DTSTART:19701101T020000
RRULE:FREQ=YEARLY;BYMONTH=11;BYDAY=1SU
END:STANDARD
END:VTIMEZONE
BEGIN:VEVENT
UID:robertson-599016@ygametime.com
DTSTAMP:20260404T171500Z
DTSTART;TZID=America/Chicago:20260404T121500
DURATION:PT0H60M0S
SUMMARY:Beech vs Jones
DESCRIPTION:2020-2021 Coed (U6) | Soccer\nRobertson County Family YMCA\n
URL;VALUE=URI:https://ygametime.com/branch/robertson/sports/2026-spring-soccer/25721/?utm_medium=calendar&utm_source=team_cal&utm_content=league_url#game-599016
LOCATION:Field 1
BEGIN:VALARM
TRIGGER:-P2H
ACTION:DISPLAY
DESCRIPTION:Beech vs Jones
END:VALARM
END:VEVENT
BEGIN:VEVENT
UID:robertson-599022@ygametime.com
DTSTAMP:20260411T200000Z
DTSTART;TZID=America/Chicago:20260411T150000
DURATION:PT0H60M0S
SUMMARY:Lamb vs Beech
DESCRIPTION:2020-2021 Coed (U6) | Soccer\nRobertson County Family YMCA\n
URL;VALUE=URI:https://ygametime.com/branch/robertson/sports/2026-spring-soccer/25721/?utm_medium=calendar&utm_source=team_cal&utm_content=league_url#game-599022
LOCATION:Field 1
BEGIN:VALARM
TRIGGER:-P2H
ACTION:DISPLAY
DESCRIPTION:Lamb vs Beech
END:VALARM
END:VEVENT
BEGIN:VEVENT
UID:robertson-599023@ygametime.com
DTSTAMP:20260418T160000Z
DTSTART;TZID=America/Chicago:20260418T110000
DURATION:PT0H60M0S
SUMMARY:Hendricks vs Beech
DESCRIPTION:2020-2021 Coed (U6) | Soccer\nRobertson County Family YMCA\n
URL;VALUE=URI:https://ygametime.com/branch/robertson/sports/2026-spring-soccer/25721/?utm_medium=calendar&utm_source=team_cal&utm_content=league_url#game-599023
LOCATION:Field 1
BEGIN:VALARM
TRIGGER:-P2H
ACTION:DISPLAY
DESCRIPTION:Hendricks vs Beech
END:VALARM
END:VEVENT
BEGIN:VEVENT
UID:robertson-599030@ygametime.com
DTSTAMP:20260425T200000Z
DTSTART;TZID=America/Chicago:20260425T150000
DURATION:PT0H60M0S
SUMMARY:Beech vs Bush
DESCRIPTION:2020-2021 Coed (U6) | Soccer\nRobertson County Family YMCA\n
URL;VALUE=URI:https://ygametime.com/branch/robertson/sports/2026-spring-soccer/25721/?utm_medium=calendar&utm_source=team_cal&utm_content=league_url#game-599030
LOCATION:Field 1
BEGIN:VALARM
TRIGGER:-P2H
ACTION:DISPLAY
DESCRIPTION:Beech vs Bush
END:VALARM
END:VEVENT
BEGIN:VEVENT
UID:robertson-599034@ygametime.com
DTSTAMP:20260502T200000Z
DTSTART;TZID=America/Chicago:20260502T150000
DURATION:PT0H60M0S
SUMMARY:Sherrill vs Beech
DESCRIPTION:2020-2021 Coed (U6) | Soccer\nRobertson County Family YMCA\n
URL;VALUE=URI:https://ygametime.com/branch/robertson/sports/2026-spring-soccer/25721/?utm_medium=calendar&utm_source=team_cal&utm_content=league_url#game-599034
LOCATION:Field 1
BEGIN:VALARM
TRIGGER:-P2H
ACTION:DISPLAY
DESCRIPTION:Sherrill vs Beech
END:VALARM
END:VEVENT
BEGIN:VEVENT
UID:robertson-599037@ygametime.com
DTSTAMP:20260509T183000Z
DTSTART;TZID=America/Chicago:20260509T133000
DURATION:PT0H60M0S
SUMMARY:Beech vs Dickerson
DESCRIPTION:2020-2021 Coed (U6) | Soccer\nRobertson County Family YMCA\n
URL;VALUE=URI:https://ygametime.com/branch/robertson/sports/2026-spring-soccer/25721/?utm_medium=calendar&utm_source=team_cal&utm_content=league_url#game-599037
LOCATION:Field 1
BEGIN:VALARM
TRIGGER:-P2H
ACTION:DISPLAY
DESCRIPTION:Beech vs Dickerson
END:VALARM
END:VEVENT
BEGIN:VEVENT
UID:robertson-599039@ygametime.com
DTSTAMP:20260516T160000Z
DTSTART;TZID=America/Chicago:20260516T110000
DURATION:PT0H60M0S
SUMMARY:Troop vs Beech
DESCRIPTION:2020-2021 Coed (U6) | Soccer\nRobertson County Family YMCA\n
URL;VALUE=URI:https://ygametime.com/branch/robertson/sports/2026-spring-soccer/25721/?utm_medium=calendar&utm_source=team_cal&utm_content=league_url#game-599039
LOCATION:Field 1
BEGIN:VALARM
TRIGGER:-P2H
ACTION:DISPLAY
DESCRIPTION:Troop vs Beech
END:VALARM
END:VEVENT
END:VCALENDAR

