BEGIN:VCALENDAR
VERSION:2.0
PRODID:-//YGAMETIME.com//YGT iCal Creator//EN
METHOD:PUBLISH
X-PUBLISHED-TTL:PT6H
REFRESH-INTERVAL;VALUE=DURATION:PT6H
CALSCALE:GREGORIAN
X-WR-CALNAME:YGAMETIME CALENDAR
BEGIN:VTIMEZONE
TZID:America/Chicago
X-LIC-LOCATION:America/Chicago
BEGIN:DAYLIGHT
TZOFFSETFROM:-0600
TZOFFSETTO:-0500
TZNAME:CDT
DTSTART:19700308T020000
RRULE:FREQ=YEARLY;BYMONTH=3;BYDAY=2SU
END:DAYLIGHT
BEGIN:STANDARD
TZOFFSETFROM:-0500
TZOFFSETTO:-0600
TZNAME:CST
DTSTART:19701101T020000
RRULE:FREQ=YEARLY;BYMONTH=11;BYDAY=1SU
END:STANDARD
END:VTIMEZONE
BEGIN:VEVENT
UID:robertson-596932@ygametime.com
DTSTAMP:20260404T183000Z
DTSTART;TZID=America/Chicago:20260404T133000
DURATION:PT0H60M0S
SUMMARY:Rushing vs Hinners
DESCRIPTION:2018-2019 Coed (U8) | Soccer\nRobertson County Family YMCA\n
URL;VALUE=URI:https://ygametime.com/branch/robertson/sports/2026-spring-soccer/25722/?utm_medium=calendar&utm_source=team_cal&utm_content=league_url#game-596932
LOCATION:Field 3
BEGIN:VALARM
TRIGGER:-P2H
ACTION:DISPLAY
DESCRIPTION:Rushing vs Hinners
END:VALARM
END:VEVENT
BEGIN:VEVENT
UID:robertson-596934@ygametime.com
DTSTAMP:20260411T144500Z
DTSTART;TZID=America/Chicago:20260411T094500
DURATION:PT0H60M0S
SUMMARY:Temple vs Hinners
DESCRIPTION:2018-2019 Coed (U8) | Soccer\nRobertson County Family YMCA\n
URL;VALUE=URI:https://ygametime.com/branch/robertson/sports/2026-spring-soccer/25722/?utm_medium=calendar&utm_source=team_cal&utm_content=league_url#game-596934
LOCATION:Field 3
BEGIN:VALARM
TRIGGER:-P2H
ACTION:DISPLAY
DESCRIPTION:Temple vs Hinners
END:VALARM
END:VEVENT
BEGIN:VEVENT
UID:robertson-596938@ygametime.com
DTSTAMP:20260418T144500Z
DTSTART;TZID=America/Chicago:20260418T094500
DURATION:PT0H60M0S
SUMMARY:Phanbandith vs Hinners
DESCRIPTION:2018-2019 Coed (U8) | Soccer\nRobertson County Family YMCA\n
URL;VALUE=URI:https://ygametime.com/branch/robertson/sports/2026-spring-soccer/25722/?utm_medium=calendar&utm_source=team_cal&utm_content=league_url#game-596938
LOCATION:Field 3
BEGIN:VALARM
TRIGGER:-P2H
ACTION:DISPLAY
DESCRIPTION:Phanbandith vs Hinners
END:VALARM
END:VEVENT
BEGIN:VEVENT
UID:robertson-596942@ygametime.com
DTSTAMP:20260425T144500Z
DTSTART;TZID=America/Chicago:20260425T094500
DURATION:PT0H60M0S
SUMMARY:Lambert vs Hinners
DESCRIPTION:2018-2019 Coed (U8) | Soccer\nRobertson County Family YMCA\n
URL;VALUE=URI:https://ygametime.com/branch/robertson/sports/2026-spring-soccer/25722/?utm_medium=calendar&utm_source=team_cal&utm_content=league_url#game-596942
LOCATION:Field 3
BEGIN:VALARM
TRIGGER:-P2H
ACTION:DISPLAY
DESCRIPTION:Lambert vs Hinners
END:VALARM
END:VEVENT
BEGIN:VEVENT
UID:robertson-596946@ygametime.com
DTSTAMP:20260502T144500Z
DTSTART;TZID=America/Chicago:20260502T094500
DURATION:PT0H60M0S
SUMMARY:Dean vs Hinners
DESCRIPTION:2018-2019 Coed (U8) | Soccer\nRobertson County Family YMCA\n
URL;VALUE=URI:https://ygametime.com/branch/robertson/sports/2026-spring-soccer/25722/?utm_medium=calendar&utm_source=team_cal&utm_content=league_url#game-596946
LOCATION:Field 3
BEGIN:VALARM
TRIGGER:-P2H
ACTION:DISPLAY
DESCRIPTION:Dean vs Hinners
END:VALARM
END:VEVENT
BEGIN:VEVENT
UID:robertson-596950@ygametime.com
DTSTAMP:20260509T144500Z
DTSTART;TZID=America/Chicago:20260509T094500
DURATION:PT0H60M0S
SUMMARY:Suiter vs Hinners
DESCRIPTION:2018-2019 Coed (U8) | Soccer\nRobertson County Family YMCA\n
URL;VALUE=URI:https://ygametime.com/branch/robertson/sports/2026-spring-soccer/25722/?utm_medium=calendar&utm_source=team_cal&utm_content=league_url#game-596950
LOCATION:Field 3
BEGIN:VALARM
TRIGGER:-P2H
ACTION:DISPLAY
DESCRIPTION:Suiter vs Hinners
END:VALARM
END:VEVENT
BEGIN:VEVENT
UID:robertson-596956@ygametime.com
DTSTAMP:20260516T183000Z
DTSTART;TZID=America/Chicago:20260516T133000
DURATION:PT0H60M0S
SUMMARY:Hinners vs Lambert
DESCRIPTION:2018-2019 Coed (U8) | Soccer\nRobertson County Family YMCA\n
URL;VALUE=URI:https://ygametime.com/branch/robertson/sports/2026-spring-soccer/25722/?utm_medium=calendar&utm_source=team_cal&utm_content=league_url#game-596956
LOCATION:Field 3
BEGIN:VALARM
TRIGGER:-P2H
ACTION:DISPLAY
DESCRIPTION:Hinners vs Lambert
END:VALARM
END:VEVENT
END:VCALENDAR

