BEGIN:VCALENDAR
VERSION:2.0
PRODID:-//YGAMETIME.com//YGT iCal Creator//EN
METHOD:PUBLISH
X-PUBLISHED-TTL:PT6H
REFRESH-INTERVAL;VALUE=DURATION:PT6H
CALSCALE:GREGORIAN
X-WR-CALNAME:YGAMETIME CALENDAR
BEGIN:VTIMEZONE
TZID:America/Chicago
X-LIC-LOCATION:America/Chicago
BEGIN:DAYLIGHT
TZOFFSETFROM:-0600
TZOFFSETTO:-0500
TZNAME:CDT
DTSTART:19700308T020000
RRULE:FREQ=YEARLY;BYMONTH=3;BYDAY=2SU
END:DAYLIGHT
BEGIN:STANDARD
TZOFFSETFROM:-0500
TZOFFSETTO:-0600
TZNAME:CST
DTSTART:19701101T020000
RRULE:FREQ=YEARLY;BYMONTH=11;BYDAY=1SU
END:STANDARD
END:VTIMEZONE
BEGIN:VEVENT
UID:robertson-596929@ygametime.com
DTSTAMP:20260404T133000Z
DTSTART;TZID=America/Chicago:20260404T083000
DURATION:PT0H60M0S
SUMMARY:Temple vs Dean
DESCRIPTION:2018-2019 Coed (U8) | Soccer\nRobertson County Family YMCA\n
URL;VALUE=URI:https://ygametime.com/branch/robertson/sports/2026-spring-soccer/25722/?utm_medium=calendar&utm_source=team_cal&utm_content=league_url#game-596929
LOCATION:Field 3
BEGIN:VALARM
TRIGGER:-P2H
ACTION:DISPLAY
DESCRIPTION:Temple vs Dean
END:VALARM
END:VEVENT
BEGIN:VEVENT
UID:robertson-596934@ygametime.com
DTSTAMP:20260411T144500Z
DTSTART;TZID=America/Chicago:20260411T094500
DURATION:PT0H60M0S
SUMMARY:Temple vs Hinners
DESCRIPTION:2018-2019 Coed (U8) | Soccer\nRobertson County Family YMCA\n
URL;VALUE=URI:https://ygametime.com/branch/robertson/sports/2026-spring-soccer/25722/?utm_medium=calendar&utm_source=team_cal&utm_content=league_url#game-596934
LOCATION:Field 3
BEGIN:VALARM
TRIGGER:-P2H
ACTION:DISPLAY
DESCRIPTION:Temple vs Hinners
END:VALARM
END:VEVENT
BEGIN:VEVENT
UID:robertson-596940@ygametime.com
DTSTAMP:20260418T183000Z
DTSTART;TZID=America/Chicago:20260418T133000
DURATION:PT0H60M0S
SUMMARY:Temple vs Rushing
DESCRIPTION:2018-2019 Coed (U8) | Soccer\nRobertson County Family YMCA\n
URL;VALUE=URI:https://ygametime.com/branch/robertson/sports/2026-spring-soccer/25722/?utm_medium=calendar&utm_source=team_cal&utm_content=league_url#game-596940
LOCATION:Field 3
BEGIN:VALARM
TRIGGER:-P2H
ACTION:DISPLAY
DESCRIPTION:Temple vs Rushing
END:VALARM
END:VEVENT
BEGIN:VEVENT
UID:robertson-596944@ygametime.com
DTSTAMP:20260425T183000Z
DTSTART;TZID=America/Chicago:20260425T133000
DURATION:PT0H60M0S
SUMMARY:Sutton vs Temple
DESCRIPTION:2018-2019 Coed (U8) | Soccer\nRobertson County Family YMCA\n
URL;VALUE=URI:https://ygametime.com/branch/robertson/sports/2026-spring-soccer/25722/?utm_medium=calendar&utm_source=team_cal&utm_content=league_url#game-596944
LOCATION:Field 3
BEGIN:VALARM
TRIGGER:-P2H
ACTION:DISPLAY
DESCRIPTION:Sutton vs Temple
END:VALARM
END:VEVENT
BEGIN:VEVENT
UID:robertson-596947@ygametime.com
DTSTAMP:20260502T160000Z
DTSTART;TZID=America/Chicago:20260502T110000
DURATION:PT0H60M0S
SUMMARY:Temple vs Phanbandith
DESCRIPTION:2018-2019 Coed (U8) | Soccer\nRobertson County Family YMCA\n
URL;VALUE=URI:https://ygametime.com/branch/robertson/sports/2026-spring-soccer/25722/?utm_medium=calendar&utm_source=team_cal&utm_content=league_url#game-596947
LOCATION:Field 3
BEGIN:VALARM
TRIGGER:-P2H
ACTION:DISPLAY
DESCRIPTION:Temple vs Phanbandith
END:VALARM
END:VEVENT
BEGIN:VEVENT
UID:robertson-596952@ygametime.com
DTSTAMP:20260509T183000Z
DTSTART;TZID=America/Chicago:20260509T133000
DURATION:PT0H60M0S
SUMMARY:Lambert vs Temple
DESCRIPTION:2018-2019 Coed (U8) | Soccer\nRobertson County Family YMCA\n
URL;VALUE=URI:https://ygametime.com/branch/robertson/sports/2026-spring-soccer/25722/?utm_medium=calendar&utm_source=team_cal&utm_content=league_url#game-596952
LOCATION:Field 3
BEGIN:VALARM
TRIGGER:-P2H
ACTION:DISPLAY
DESCRIPTION:Lambert vs Temple
END:VALARM
END:VEVENT
BEGIN:VEVENT
UID:robertson-596954@ygametime.com
DTSTAMP:20260516T144500Z
DTSTART;TZID=America/Chicago:20260516T094500
DURATION:PT0H60M0S
SUMMARY:Suiter vs Temple
DESCRIPTION:2018-2019 Coed (U8) | Soccer\nRobertson County Family YMCA\n
URL;VALUE=URI:https://ygametime.com/branch/robertson/sports/2026-spring-soccer/25722/?utm_medium=calendar&utm_source=team_cal&utm_content=league_url#game-596954
LOCATION:Field 3
BEGIN:VALARM
TRIGGER:-P2H
ACTION:DISPLAY
DESCRIPTION:Suiter vs Temple
END:VALARM
END:VEVENT
END:VCALENDAR

