BEGIN:VCALENDAR
VERSION:2.0
PRODID:-//YGAMETIME.com//YGT iCal Creator//EN
METHOD:PUBLISH
X-PUBLISHED-TTL:PT6H
REFRESH-INTERVAL;VALUE=DURATION:PT6H
CALSCALE:GREGORIAN
X-WR-CALNAME:YGAMETIME CALENDAR
BEGIN:VTIMEZONE
TZID:America/Chicago
X-LIC-LOCATION:America/Chicago
BEGIN:DAYLIGHT
TZOFFSETFROM:-0600
TZOFFSETTO:-0500
TZNAME:CDT
DTSTART:19700308T020000
RRULE:FREQ=YEARLY;BYMONTH=3;BYDAY=2SU
END:DAYLIGHT
BEGIN:STANDARD
TZOFFSETFROM:-0500
TZOFFSETTO:-0600
TZNAME:CST
DTSTART:19701101T020000
RRULE:FREQ=YEARLY;BYMONTH=11;BYDAY=1SU
END:STANDARD
END:VTIMEZONE
BEGIN:VEVENT
UID:robertson-596929@ygametime.com
DTSTAMP:20260404T133000Z
DTSTART;TZID=America/Chicago:20260404T083000
DURATION:PT0H60M0S
SUMMARY:Temple vs Dean
DESCRIPTION:2018-2019 Coed (U8) | Soccer\nRobertson County Family YMCA\n
URL;VALUE=URI:https://ygametime.com/branch/robertson/sports/2026-spring-soccer/25722/?utm_medium=calendar&utm_source=team_cal&utm_content=league_url#game-596929
LOCATION:Field 3
BEGIN:VALARM
TRIGGER:-P2H
ACTION:DISPLAY
DESCRIPTION:Temple vs Dean
END:VALARM
END:VEVENT
BEGIN:VEVENT
UID:robertson-596933@ygametime.com
DTSTAMP:20260411T133000Z
DTSTART;TZID=America/Chicago:20260411T083000
DURATION:PT0H60M0S
SUMMARY:Dean vs Sutton
DESCRIPTION:2018-2019 Coed (U8) | Soccer\nRobertson County Family YMCA\n
URL;VALUE=URI:https://ygametime.com/branch/robertson/sports/2026-spring-soccer/25722/?utm_medium=calendar&utm_source=team_cal&utm_content=league_url#game-596933
LOCATION:Field 3
BEGIN:VALARM
TRIGGER:-P2H
ACTION:DISPLAY
DESCRIPTION:Dean vs Sutton
END:VALARM
END:VEVENT
BEGIN:VEVENT
UID:robertson-596939@ygametime.com
DTSTAMP:20260418T160000Z
DTSTART;TZID=America/Chicago:20260418T110000
DURATION:PT0H60M0S
SUMMARY:Dean vs Lambert
DESCRIPTION:2018-2019 Coed (U8) | Soccer\nRobertson County Family YMCA\n
URL;VALUE=URI:https://ygametime.com/branch/robertson/sports/2026-spring-soccer/25722/?utm_medium=calendar&utm_source=team_cal&utm_content=league_url#game-596939
LOCATION:Field 3
BEGIN:VALARM
TRIGGER:-P2H
ACTION:DISPLAY
DESCRIPTION:Dean vs Lambert
END:VALARM
END:VEVENT
BEGIN:VEVENT
UID:robertson-596943@ygametime.com
DTSTAMP:20260425T160000Z
DTSTART;TZID=America/Chicago:20260425T110000
DURATION:PT0H60M0S
SUMMARY:Suiter vs Dean
DESCRIPTION:2018-2019 Coed (U8) | Soccer\nRobertson County Family YMCA\n
URL;VALUE=URI:https://ygametime.com/branch/robertson/sports/2026-spring-soccer/25722/?utm_medium=calendar&utm_source=team_cal&utm_content=league_url#game-596943
LOCATION:Field 3
BEGIN:VALARM
TRIGGER:-P2H
ACTION:DISPLAY
DESCRIPTION:Suiter vs Dean
END:VALARM
END:VEVENT
BEGIN:VEVENT
UID:robertson-596946@ygametime.com
DTSTAMP:20260502T144500Z
DTSTART;TZID=America/Chicago:20260502T094500
DURATION:PT0H60M0S
SUMMARY:Dean vs Hinners
DESCRIPTION:2018-2019 Coed (U8) | Soccer\nRobertson County Family YMCA\n
URL;VALUE=URI:https://ygametime.com/branch/robertson/sports/2026-spring-soccer/25722/?utm_medium=calendar&utm_source=team_cal&utm_content=league_url#game-596946
LOCATION:Field 3
BEGIN:VALARM
TRIGGER:-P2H
ACTION:DISPLAY
DESCRIPTION:Dean vs Hinners
END:VALARM
END:VEVENT
BEGIN:VEVENT
UID:robertson-596951@ygametime.com
DTSTAMP:20260509T160000Z
DTSTART;TZID=America/Chicago:20260509T110000
DURATION:PT0H60M0S
SUMMARY:Rushing vs Dean
DESCRIPTION:2018-2019 Coed (U8) | Soccer\nRobertson County Family YMCA\n
URL;VALUE=URI:https://ygametime.com/branch/robertson/sports/2026-spring-soccer/25722/?utm_medium=calendar&utm_source=team_cal&utm_content=league_url#game-596951
LOCATION:Field 3
BEGIN:VALARM
TRIGGER:-P2H
ACTION:DISPLAY
DESCRIPTION:Rushing vs Dean
END:VALARM
END:VEVENT
BEGIN:VEVENT
UID:robertson-596953@ygametime.com
DTSTAMP:20260516T133000Z
DTSTART;TZID=America/Chicago:20260516T083000
DURATION:PT0H60M0S
SUMMARY:Dean vs Phanbandith
DESCRIPTION:2018-2019 Coed (U8) | Soccer\nRobertson County Family YMCA\n
URL;VALUE=URI:https://ygametime.com/branch/robertson/sports/2026-spring-soccer/25722/?utm_medium=calendar&utm_source=team_cal&utm_content=league_url#game-596953
LOCATION:Field 3
BEGIN:VALARM
TRIGGER:-P2H
ACTION:DISPLAY
DESCRIPTION:Dean vs Phanbandith
END:VALARM
END:VEVENT
END:VCALENDAR

