BEGIN:VCALENDAR
VERSION:2.0
PRODID:-//YGAMETIME.com//YGT iCal Creator//EN
METHOD:PUBLISH
X-PUBLISHED-TTL:PT6H
REFRESH-INTERVAL;VALUE=DURATION:PT6H
CALSCALE:GREGORIAN
X-WR-CALNAME:YGAMETIME CALENDAR
BEGIN:VTIMEZONE
TZID:America/Chicago
X-LIC-LOCATION:America/Chicago
BEGIN:DAYLIGHT
TZOFFSETFROM:-0600
TZOFFSETTO:-0500
TZNAME:CDT
DTSTART:19700308T020000
RRULE:FREQ=YEARLY;BYMONTH=3;BYDAY=2SU
END:DAYLIGHT
BEGIN:STANDARD
TZOFFSETFROM:-0500
TZOFFSETTO:-0600
TZNAME:CST
DTSTART:19701101T020000
RRULE:FREQ=YEARLY;BYMONTH=11;BYDAY=1SU
END:STANDARD
END:VTIMEZONE
BEGIN:VEVENT
UID:robertson-596931@ygametime.com
DTSTAMP:20260404T160000Z
DTSTART;TZID=America/Chicago:20260404T110000
DURATION:PT0H60M0S
SUMMARY:Phanbandith vs Sutton
DESCRIPTION:2018-2019 Coed (U8) | Soccer\nRobertson County Family YMCA\n
URL;VALUE=URI:https://ygametime.com/branch/robertson/sports/2026-spring-soccer/25722/?utm_medium=calendar&utm_source=team_cal&utm_content=league_url#game-596931
LOCATION:Field 3
BEGIN:VALARM
TRIGGER:-P2H
ACTION:DISPLAY
DESCRIPTION:Phanbandith vs Sutton
END:VALARM
END:VEVENT
BEGIN:VEVENT
UID:robertson-596935@ygametime.com
DTSTAMP:20260411T160000Z
DTSTART;TZID=America/Chicago:20260411T110000
DURATION:PT0H60M0S
SUMMARY:Phanbandith vs Suiter
DESCRIPTION:2018-2019 Coed (U8) | Soccer\nRobertson County Family YMCA\n
URL;VALUE=URI:https://ygametime.com/branch/robertson/sports/2026-spring-soccer/25722/?utm_medium=calendar&utm_source=team_cal&utm_content=league_url#game-596935
LOCATION:Field 3
BEGIN:VALARM
TRIGGER:-P2H
ACTION:DISPLAY
DESCRIPTION:Phanbandith vs Suiter
END:VALARM
END:VEVENT
BEGIN:VEVENT
UID:robertson-596938@ygametime.com
DTSTAMP:20260418T144500Z
DTSTART;TZID=America/Chicago:20260418T094500
DURATION:PT0H60M0S
SUMMARY:Phanbandith vs Hinners
DESCRIPTION:2018-2019 Coed (U8) | Soccer\nRobertson County Family YMCA\n
URL;VALUE=URI:https://ygametime.com/branch/robertson/sports/2026-spring-soccer/25722/?utm_medium=calendar&utm_source=team_cal&utm_content=league_url#game-596938
LOCATION:Field 3
BEGIN:VALARM
TRIGGER:-P2H
ACTION:DISPLAY
DESCRIPTION:Phanbandith vs Hinners
END:VALARM
END:VEVENT
BEGIN:VEVENT
UID:robertson-596941@ygametime.com
DTSTAMP:20260425T133000Z
DTSTART;TZID=America/Chicago:20260425T083000
DURATION:PT0H60M0S
SUMMARY:Phanbandith vs Rushing
DESCRIPTION:2018-2019 Coed (U8) | Soccer\nRobertson County Family YMCA\n
URL;VALUE=URI:https://ygametime.com/branch/robertson/sports/2026-spring-soccer/25722/?utm_medium=calendar&utm_source=team_cal&utm_content=league_url#game-596941
LOCATION:Field 3
BEGIN:VALARM
TRIGGER:-P2H
ACTION:DISPLAY
DESCRIPTION:Phanbandith vs Rushing
END:VALARM
END:VEVENT
BEGIN:VEVENT
UID:robertson-596947@ygametime.com
DTSTAMP:20260502T160000Z
DTSTART;TZID=America/Chicago:20260502T110000
DURATION:PT0H60M0S
SUMMARY:Temple vs Phanbandith
DESCRIPTION:2018-2019 Coed (U8) | Soccer\nRobertson County Family YMCA\n
URL;VALUE=URI:https://ygametime.com/branch/robertson/sports/2026-spring-soccer/25722/?utm_medium=calendar&utm_source=team_cal&utm_content=league_url#game-596947
LOCATION:Field 3
BEGIN:VALARM
TRIGGER:-P2H
ACTION:DISPLAY
DESCRIPTION:Temple vs Phanbandith
END:VALARM
END:VEVENT
BEGIN:VEVENT
UID:robertson-596949@ygametime.com
DTSTAMP:20260509T133000Z
DTSTART;TZID=America/Chicago:20260509T083000
DURATION:PT0H60M0S
SUMMARY:Phanbandith vs Sutton
DESCRIPTION:2018-2019 Coed (U8) | Soccer\nRobertson County Family YMCA\n
URL;VALUE=URI:https://ygametime.com/branch/robertson/sports/2026-spring-soccer/25722/?utm_medium=calendar&utm_source=team_cal&utm_content=league_url#game-596949
LOCATION:Field 3
BEGIN:VALARM
TRIGGER:-P2H
ACTION:DISPLAY
DESCRIPTION:Phanbandith vs Sutton
END:VALARM
END:VEVENT
BEGIN:VEVENT
UID:robertson-596953@ygametime.com
DTSTAMP:20260516T133000Z
DTSTART;TZID=America/Chicago:20260516T083000
DURATION:PT0H60M0S
SUMMARY:Dean vs Phanbandith
DESCRIPTION:2018-2019 Coed (U8) | Soccer\nRobertson County Family YMCA\n
URL;VALUE=URI:https://ygametime.com/branch/robertson/sports/2026-spring-soccer/25722/?utm_medium=calendar&utm_source=team_cal&utm_content=league_url#game-596953
LOCATION:Field 3
BEGIN:VALARM
TRIGGER:-P2H
ACTION:DISPLAY
DESCRIPTION:Dean vs Phanbandith
END:VALARM
END:VEVENT
END:VCALENDAR

