BEGIN:VCALENDAR
VERSION:2.0
PRODID:-//YGAMETIME.com//YGT iCal Creator//EN
METHOD:PUBLISH
X-PUBLISHED-TTL:PT6H
REFRESH-INTERVAL;VALUE=DURATION:PT6H
CALSCALE:GREGORIAN
X-WR-CALNAME:YGAMETIME CALENDAR
BEGIN:VTIMEZONE
TZID:America/Chicago
X-LIC-LOCATION:America/Chicago
BEGIN:DAYLIGHT
TZOFFSETFROM:-0600
TZOFFSETTO:-0500
TZNAME:CDT
DTSTART:19700308T020000
RRULE:FREQ=YEARLY;BYMONTH=3;BYDAY=2SU
END:DAYLIGHT
BEGIN:STANDARD
TZOFFSETFROM:-0500
TZOFFSETTO:-0600
TZNAME:CST
DTSTART:19701101T020000
RRULE:FREQ=YEARLY;BYMONTH=11;BYDAY=1SU
END:STANDARD
END:VTIMEZONE
BEGIN:VEVENT
UID:robertson-596909@ygametime.com
DTSTAMP:20260404T171500Z
DTSTART;TZID=America/Chicago:20260404T121500
DURATION:PT0H60M0S
SUMMARY:Hinners vs Lambert
DESCRIPTION:2016-2017 Coed (U10) | Soccer\nRobertson County Family YMCA\n
URL;VALUE=URI:https://ygametime.com/branch/robertson/sports/2026-spring-soccer/25723/?utm_medium=calendar&utm_source=team_cal&utm_content=league_url#game-596909
LOCATION:Field 4
BEGIN:VALARM
TRIGGER:-P2H
ACTION:DISPLAY
DESCRIPTION:Hinners vs Lambert
END:VALARM
END:VEVENT
BEGIN:VEVENT
UID:robertson-596913@ygametime.com
DTSTAMP:20260411T160000Z
DTSTART;TZID=America/Chicago:20260411T110000
DURATION:PT0H60M0S
SUMMARY:Harris (White) vs Hinners
DESCRIPTION:2016-2017 Coed (U10) | Soccer\nRobertson County Family YMCA\n
URL;VALUE=URI:https://ygametime.com/branch/robertson/sports/2026-spring-soccer/25723/?utm_medium=calendar&utm_source=team_cal&utm_content=league_url#game-596913
LOCATION:Field 4
BEGIN:VALARM
TRIGGER:-P2H
ACTION:DISPLAY
DESCRIPTION:Harris (White) vs Hinners
END:VALARM
END:VEVENT
BEGIN:VEVENT
UID:robertson-596914@ygametime.com
DTSTAMP:20260418T133000Z
DTSTART;TZID=America/Chicago:20260418T083000
DURATION:PT0H60M0S
SUMMARY:Mlckovsky vs Hinners
DESCRIPTION:2016-2017 Coed (U10) | Soccer\nRobertson County Family YMCA\n
URL;VALUE=URI:https://ygametime.com/branch/robertson/sports/2026-spring-soccer/25723/?utm_medium=calendar&utm_source=team_cal&utm_content=league_url#game-596914
LOCATION:Field 4
BEGIN:VALARM
TRIGGER:-P2H
ACTION:DISPLAY
DESCRIPTION:Mlckovsky vs Hinners
END:VALARM
END:VEVENT
BEGIN:VEVENT
UID:robertson-596917@ygametime.com
DTSTAMP:20260425T133000Z
DTSTART;TZID=America/Chicago:20260425T083000
DURATION:PT0H60M0S
SUMMARY:Hinners vs Lambert
DESCRIPTION:2016-2017 Coed (U10) | Soccer\nRobertson County Family YMCA\n
URL;VALUE=URI:https://ygametime.com/branch/robertson/sports/2026-spring-soccer/25723/?utm_medium=calendar&utm_source=team_cal&utm_content=league_url#game-596917
LOCATION:Field 4
BEGIN:VALARM
TRIGGER:-P2H
ACTION:DISPLAY
DESCRIPTION:Hinners vs Lambert
END:VALARM
END:VEVENT
BEGIN:VEVENT
UID:robertson-596922@ygametime.com
DTSTAMP:20260502T160000Z
DTSTART;TZID=America/Chicago:20260502T110000
DURATION:PT0H60M0S
SUMMARY:Harris (Crimson) vs Hinners
DESCRIPTION:2016-2017 Coed (U10) | Soccer\nRobertson County Family YMCA\n
URL;VALUE=URI:https://ygametime.com/branch/robertson/sports/2026-spring-soccer/25723/?utm_medium=calendar&utm_source=team_cal&utm_content=league_url#game-596922
LOCATION:Field 4
BEGIN:VALARM
TRIGGER:-P2H
ACTION:DISPLAY
DESCRIPTION:Harris (Crimson) vs Hinners
END:VALARM
END:VEVENT
BEGIN:VEVENT
UID:robertson-596925@ygametime.com
DTSTAMP:20260509T160000Z
DTSTART;TZID=America/Chicago:20260509T110000
DURATION:PT0H60M0S
SUMMARY:Robinson vs Hinners
DESCRIPTION:2016-2017 Coed (U10) | Soccer\nRobertson County Family YMCA\n
URL;VALUE=URI:https://ygametime.com/branch/robertson/sports/2026-spring-soccer/25723/?utm_medium=calendar&utm_source=team_cal&utm_content=league_url#game-596925
LOCATION:Field 4
BEGIN:VALARM
TRIGGER:-P2H
ACTION:DISPLAY
DESCRIPTION:Robinson vs Hinners
END:VALARM
END:VEVENT
BEGIN:VEVENT
UID:robertson-596927@ygametime.com
DTSTAMP:20260516T171500Z
DTSTART;TZID=America/Chicago:20260516T121500
DURATION:PT0H60M0S
SUMMARY:Hinners vs Harris (White)
DESCRIPTION:2016-2017 Coed (U10) | Soccer\nRobertson County Family YMCA\n
URL;VALUE=URI:https://ygametime.com/branch/robertson/sports/2026-spring-soccer/25723/?utm_medium=calendar&utm_source=team_cal&utm_content=league_url#game-596927
LOCATION:Field 4
BEGIN:VALARM
TRIGGER:-P2H
ACTION:DISPLAY
DESCRIPTION:Hinners vs Harris (White)
END:VALARM
END:VEVENT
END:VCALENDAR

